{"text_format":"1","workbook":"xlsx","n_sheets":11,"sheets":["קורס X","דוח ציונים","לפי תתי פרקים","menu","grade_report","לפי שאלות","גיליון נתונים","תבנית דוח ציונים","תבנית דוח בעיות","courses_index","לוח בקרה למורה"],"not_rendered":{"charts":0,"images":0,"macros":1,"external_links":0,"defined_names":9,"comments":0,"pivot_tables":0},"unopened":[],"bounds":{"document_bytes":16777216,"sheet_cells":100000,"rows_first":2000,"rows_last":500,"rows_between":2000,"halvings":0,"cell_chars":16384,"cell_head_chars":4096},"cells_cut":0,"cells_raw":0,"read":"whole","date_system":"1900"}

{"sheet":"קורס X","index":0,"n_rows":18,"n_cols":3,"rows_kept":18,"cut":false,"hidden":true,"merged":[[3,0,3,2],[16,0,16,2],[17,0,30,2]]}
["מסורת ומודרנה - דו\"ח למורה"]
[]
[]
[" * מפרט צבעים והערות *"]
[null,"פרטי משתמשים","פרטי התלמידים ואנשי צוות הקורס"]
[null,"ציון כללי","הציון הכללי עד רגע יציאת הדו\"ח מתוך 100%"]
[null,"שיעור לתלמיד","שקלול כל רכיבי הציון מסוג זה הינו 15% מציון הקורס"]
[null,"משימת סיכום פרק","שקלול כל רכיבי הציון מסוג זה הינו 35% מציון הקורס"]
[null,"הפנמה","אינו משתקלל אל הציון הכללי"]
[null,"העשרה","אינו משתקלל אל הציון הכללי"]
[null,"סיכום קורס - שאלות סגורות","שקלול כל רכיבי הציון מסוג זה הינו 15% מציון הקורס"]
[null,"סיכום קורס - שאלות פתוחות","שקלול כל רכיבי הציון מסוג זה הינו 25% מציון הקורס"]
[null,"תלמידאות","שקלול רכיב ציון זה הינו 10% מציון הקורס"]
[null,"איש צוות או מורה"]
[null,"סטטוס תלמיד משוקלל \nפרקים 1 עד X ","*בתצוגה רק למורים שבדקו את כל\n \"משימות סיכום הפרק\" בפרקים 1 עד X"]
[]
["מידע נוסף:"]
["\n*שיטה נוחה להתמקדות בנתונים של תלמיד בודד היא לסמן את כל השורה שלו בדו\"ח בצבע בולט.\n\nדוח ציונים לפי פרקים:\n- מראה את הציון הכללי של תלמיד עד לנקודת הזמן בה נוצר הדו\"ח.\n- מראה פירוט של תתי פרקים שונים בקורס לפי רכיב הציון הקשור איליהם.\n\n\n\n"]

{"sheet":"דוח ציונים","index":1,"n_rows":50,"n_cols":50,"rows_kept":50,"cut":false,"hidden":true,"merged":[]}
["Username","אימייל",null,"ציון כללי","פרק 1: \nנאורוּת \n\n- שעור לתלמיד\n- תת פרק חובה","פרק 1: \nנאורוּת \n\n- משימת סיכום\n- תת פרק חובה","פרק 1: נאורוּת - משימת הפנמה","פרק 1: נאורוּת - משימת העשרה",null,"פרק 2: מלחמת העולם הראשונה - \n\n- שעור לתלמיד\n- תת פרק חובה"," פרק 2: מלחמת העולם הראשונה - \n\n- משימת סיכום\n- תת פרק חובה","פרק 2: מלחמת העולם הראשונה -\n\nמשימת הפנמה","פרק  2: מלחמת העולם הראשונה -\n\nמשימת העשרה - רשות: מלחמת החפירות",null,"פרק 3: \nמעמד היהודים, \n\nהשינויים במעמד המשפטי של יהודי צרפת משלהי המאה ה-18 עד ראשית המאה ה-20\n\n- שיעור לתלמיד\n- תת פרק לבחירה","פרק 3: \nמעמד היהודים, \n\nהשינויים במעמד המשפטי של יהודי צרפת משלהי המאה ה-18 עד ראשית המאה ה-20\n\n- משימת סיכום\n- תת פרק לבחירה","פרק 3:\nמעמד היהודים, \n\nהשינויים במעמד המשפטי של יהודי גרמניה משלהי המאה ה-18 עד ראשית המאה ה-20\n\n- שיעור לתלמיד\n- תת פרק לבחירה","פרק 3:\nמעמד היהודים, \n\nהשינויים במעמד המשפטי של יהודי גרמניה משלהי המאה ה-18 עד ראשית המאה ה-20\n\n- משימת סיכום\n- תת פרק לבחירה ","פרק 3:\nמעמד היהודים, \n\nהשינויים במעמד המשפטי של היהודים בארצות האסלאם - תהליך האמנציפציה באלג'יריה \n\n- שיעור לתלמיד\n- תת פרק חובה","פרק 3:\nמעמד היהודים, \n\nהשינויים במעמד המשפטי של היהודים בארצות האסלאם - תהליך האמנציפציה באלג'יריה \n\n- משימת סיכום\n- תת פרק חובה","פרק 3: \nמעמד היהודים, \n\nהשלכות השינויים במעמד היהודים על החברה היהודית -\n\n- שיעור לתלמיד\n\n- תת פרק חובה","פרק 3:\nמעמד היהודים, \n\nהשפעת הליברליזם על תמורות בחברה היהודית - \n\n- משימת סיכום לכל הפרק\n- תת פרק חובה","פרק 3:  \nמעמד היהודים, משימת הפנמה לכל הפרק \n\n","פרק 3: \nמעמד היהודים, משימת העשרה לכל הפרק ",null,"פרק 4: תנועת ההשכלה היהודית: \n\nהשפעת הנאורות\nעל החברה היהודית \n\n\n- שיעור לתלמיד\n- תת פרק חובה","פרק 4: תנועת ההשכלה היהודית: \n\nהשפעת הנאורות\nעל החברה היהודית\n\n\n- משימת סיכום\n- תת פרק חובה",null,"פרק 5: תנועות וזרמיים יהודיים\n\nניאו אורתודוקסיה - חיוב המודרנה תוך שמירה קפדנית על מצוות הדת\n\n- שיעור לתלמיד\n- תת פרק חובה","פרק 5: תנועות וזרמיים יהודיים\n\nניאו אורתודוקסיה - חיוב המודרנה תוך שמירה קפדנית על מצוות הדת\n\n- משימת סיכום\n- תת פרק חובה","פרק 5:  תנועות וזרמים יהודיים:\n\nמשימת סיכום לכל הפרק\n\n\n- תת פרק חובה",null,"פרק 6: מבשרי הציונות וחיבת ציון - \n\n- שיעור לתלמיד\n- תת פרק חובה","פרק 6: מבשרי הציונות וחיבת ציון - \n\n- משימת סיכום\n- תת פרק חובה","פרק 6: מבשרי הציונות וחיבת ציון \n\n- משימת הפנמה","פרק 6: מבשרי הציונות וחיבת ציון \n\n- משימת העשרה",null,"פרק 7: התנועה הציונית והרצל \n\n- שיעור לתלמיד\n- תת פרק חובה","פרק 7: התנועה הציונית והרצל \n\n- משימת סיכום - סוף ימיו של הרצל\n- תת פרק חובה","פרק 7: התנועה הציונית והרצל \n\n- משימת הפנמה","פרק 7: התנועה הציונית והרצל \n\n- משימת העשרה",null,"פרק 8: מפלגות, זרמים ומתנגדים \n\n- שיעור לתלמיד\n- תת פרק חובה\n","פרק 8: מפלגות, זרמים ומתנגדים \n\n- משימת סיכום\n- תת פרק חובה","פרק 8: מפלגות, זרמים ומתנגדים \n\n- משימת הפנמה","פרק 8: מפלגות, זרמים ומתנגדים \n\n- משימת העשרה",null,"סיכום קורס-ש' סגורות\n\n- תת פרק חובה","סיכום קורס-ש' פתוחות\n\n- תת פרק חובה","תלמידאות\n\n\n- תת פרק חובה"]
[{"$f":"grade_report!C4","v":"RonitHochster"},{"$f":"grade_report!B4","v":"ronithex@gmail.com"},null,{"$f":"VLOOKUP(A2,grade_report!C:D,2,FALSE)","v":0},{"$f":"HLOOKUP(\"שיעור לתלמיד 1: נאורוּת - שיעור לתלמיד\",grade_report!$3:$100,ROWS($A$4:A5),0)","v":6.25E-2},{"$f":"HLOOKUP(\"סיכום פרק 1: נאורוּת - משימת סיכום\",grade_report!$3:$100,ROWS($A$4:A5),0)","v":"Not Attempted"},{"$f":"HLOOKUP(\"הפנמה 1: נאורוּת - משימת הפנמה\",grade_report!$3:$100,ROWS($A$4:B5),0)","v":"Not Attempted"},{"$f":"HLOOKUP(\"העשרה 1: נאורוּת - משימת העשרה\",grade_report!$3:$100,ROWS($A$4:C5),0)","v":"Not Attempted"},null,{"$f":"HLOOKUP(\"שיעור לתלמיד 2: מלחמת העולם הראשונה - שיעור לתלמיד\",grade_report!$3:$100,ROWS($A$4:E5),0)","v":{"$error":"#N/A"}},{"$f":"HLOOKUP(\"סיכום פרק 2: מלחמת העולם הראשונה - משימת סיכום\",grade_report!$3:$100,ROWS($A$4:E5),0)","v":{"$error":"#N/A"}},{"$f":"HLOOKUP(\"הפנמה 2: מלחמת העולם הראשונה - משימת הפנמה\",grade_report!$3:$100,ROWS($A$4:F5),0)","v":{"$error":"#N/A"}},{"$f":"HLOOKUP(\"העשרה 2: מלחמת העולם הראשונה - משימת העשרה - רשות: מלחמת החפירות\",grade_report!$3:$100,ROWS($A$4:G5),0)","v":{"$error":"#N/A"}},null,{"$f":"HLOOKUP(\"שיעור לתלמיד 3: השינויים במעמד המשפטי של יהודי צרפת משלהי המאה ה-18 עד ראשית המאה ה-20 - תת פרק לבחירה\",grade_report!$3:$100,ROWS($A$4:J5),0)","v":{"$error":"#N/A"}},{"$f":"HLOOKUP(\"סיכום פרק 3: השינויים במעמד המשפטי של יהודי צרפת משלהי המאה ה-18 עד ראשית המאה ה-20 -משימת סיכום\",grade_report!$3:$100,ROWS($A$4:J5),0)","v":{"$error":"#N/A"}},{"$f":"HLOOKUP(\"שיעור לתלמיד 4: השינויים במעמד המשפטי של יהודי גרמניה משלהי המאה ה-18 עד ראשית המאה ה-20 - תת פרק לבחירה\",grade_report!$3:$100,ROWS($A$4:O5),0)","v":{"$error":"#N/A"}},{"$f":"HLOOKUP(\"סיכום פרק 4: השינויים במעמד המשפטי של יהודי גרמניה משלהי המאה ה-18 עד ראשית המאה ה-20 - תת פרק לבחירה -משימת סיכום\",grade_report!$3:$100,ROWS($A$4:O5),0)","v":{"$error":"#N/A"}},{"$f":"HLOOKUP(\"שיעור לתלמיד 5: השינויים במעמד המשפטי של היהודים בארצות האסלאם - תהליך האמנציפציה באלג'יריה - תת פרק חובה\",grade_report!$3:$100,ROWS($A$4:A5),0)","v":{"$error":"#N/A"}},{"$f":"HLOOKUP(\"סיכום פרק 5: השינויים במעמד המשפטי של היהודים בארצות האסלאם - תהליך האמנציפציה באלג'יריה - משימת סיכום\",grade_report!$3:$100,ROWS($A$4:A5),0)","v":{"$error":"#N/A"}},{"$f":"HLOOKUP(\"שיעור לתלמיד 6: השלכות השינויים במעמד היהודים על החברה היהודית - תת פרק חובה\",grade_report!$3:$100,ROWS($A$4:D5),0)","v":{"$error":"#N/A"}},{"$f":"HLOOKUP(\"סיכום פרק 6: השפעת הליברליזם על תמורות בחברה היהודית - משימת סיכום - סיכום הסוגיה לכל הפרק\",grade_report!$3:$100,ROWS($A$4:A5),0)","v":{"$error":"#N/A"}},{"$f":"HLOOKUP(\"הפנמה 3: מעמד היהודים משלהי המאה ה-18 ועד תחילת המאה ה-20 - משימת הפנמה לכל הפרק\",grade_report!$3:$100,ROWS($A$4:Q5),0)","v":{"$error":"#N/A"}},{"$f":"HLOOKUP(\"העשרה 3: מעמד היהודים משלהי המאה ה-18 ועד תחילת המאה ה-20 - משימת העשרה לכל הפרק\",grade_report!$3:$100,ROWS($A$4:R5),0)","v":{"$error":"#N/A"}},null,{"$f":"HLOOKUP(\"שיעור לתלמיד 7: השפעת הנאורות על החברה היהודית - תת פרק חובה\",grade_report!$3:$100,ROWS($A$4:A5),0)","v":{"$error":"#N/A"}},{"$f":"HLOOKUP(\"סיכום פרק 7: השפעת הנאורות על החברה היהודית - תת פרק חובה - משימת סיכום\",grade_report!$3:$100,ROWS($A$4:A5),0)","v":{"$error":"#N/A"}},null,{"$f":"HLOOKUP(\"שיעור לתלמיד 8: ניאו אורתודוקסיה - חיוב המודרנה תוך שמירה קפדנית על מצוות הדת - שיעור לתלמיד\",grade_report!$3:$100,ROWS($A$4:D5),0)","v":{"$error":"#N/A"}},{"$f":"HLOOKUP(\"סיכום פרק 8: ניאו אורתודוקסיה - חיוב המודרנה תוך שמירה קפדנית על מצוות הדת - משימת סיכום\",grade_report!$3:$100,ROWS($A$4:D5),0)","v":{"$error":"#N/A"}},{"$f":"HLOOKUP(\"סיכום פרק 9: תנועות וזרמים יהודיים - משימת סיכום לכל הפרק\",grade_report!$3:$100,ROWS($A$4:E5),0)","v":{"$error":"#N/A"}},null,{"$f":"HLOOKUP(\"שיעור לתלמיד 9: מבשרי הציונות וחיבת ציון - שיעור לתלמיד\",grade_report!$3:$100,ROWS($A$4:H5),0)","v":{"$error":"#N/A"}},{"$f":"HLOOKUP(\"סיכום פרק 10: מבשרי הציונות וחיבת ציון - משימת סיכום\",grade_report!$3:$100,ROWS($A$4:H5),0)","v":{"$error":"#N/A"}},{"$f":"HLOOKUP(\"הפנמה 4: מבשרי הציונות וחיבת ציון - משימת הפנמה\",grade_report!$3:$100,ROWS($A$4:AC5),0)","v":{"$error":"#N/A"}},{"$f":"HLOOKUP(\"העשרה 4: מבשרי הציונות וחיבת ציון - משימת העשרה\",grade_report!$3:$100,ROWS($A$4:AD5),0)","v":{"$error":"#N/A"}},null,{"$f":"HLOOKUP(\"שיעור לתלמיד 10: התנועה הציונית והרצל - שיעור לתלמיד\",grade_report!$3:$100,ROWS($A$4:M5),0)","v":{"$error":"#N/A"}},{"$f":"HLOOKUP(\"סיכום פרק 11: התנועה הציונית והרצל - משימת סיכום - סוף ימיו של הרצל\",grade_report!$3:$100,ROWS($A$4:M5),0)","v":{"$error":"#N/A"}},{"$f":"HLOOKUP(\"הפנמה 5: התנועה הציונית והרצל - משימת הפנמה\",grade_report!$3:$100,ROWS($A$4:AH5),0)","v":{"$error":"#N/A"}},{"$f":"HLOOKUP(\"העשרה 5: התנועה הציונית והרצל - משימת העשרה\",grade_report!$3:$100,ROWS($A$4:AI5),0)","v":{"$error":"#N/A"}},null,{"$f":"HLOOKUP(\"שיעור לתלמיד 11: מפלגות, זרמים ומתנגדים - שיעור לתלמיד\",grade_report!$3:$100,ROWS($A$4:R5),0)","v":{"$error":"#N/A"}},{"$f":"HLOOKUP(\"סיכום פרק 12: מפלגות, זרמים ומתנגדים - משימת סיכום\",grade_report!$3:$100,ROWS($A$4:R5),0)","v":{"$error":"#N/A"}},{"$f":"HLOOKUP(\"הפנמה 6: מפלגות, זרמים ומתנגדים - משימת הפנמה\",grade_report!$3:$100,ROWS($A$4:AM5),0)","v":{"$error":"#N/A"}},{"$f":"HLOOKUP(\"העשרה 6: מפלגות, זרמים ומתנגדים - משימת העשרה\",grade_report!$3:$100,ROWS($A$4:AN5),0)","v":{"$error":"#N/A"}},null,{"$f":"HLOOKUP(\"סיכום קורס-ש' סגורות\",grade_report!$3:$100,ROWS($A$4:AP5),0)","v":{"$error":"#N/A"}},{"$f":"HLOOKUP(\"סיכום קורס-ש' פתוחות\",grade_report!$3:$100,ROWS($A$4:AQ5),0)","v":{"$error":"#N/A"}},{"$f":"HLOOKUP(\"תלמידאות\",grade_report!$3:$100,ROWS($A$4:AR5),0)","v":"Not Attempted"}]
[{"$f":"grade_report!C5","v":"Jamalk1"},{"$f":"grade_report!B5","v":"jamalk@mse.gov.il"},null,{"$f":"VLOOKUP(A3,grade_report!C:D,2,FALSE)","v":0},{"$f":"HLOOKUP(\"שיעור לתלמיד 1: נאורוּת - שיעור לתלמיד\",grade_report!$3:$100,ROWS($A$4:A6),0)","v":"Not Attempted"},{"$f":"HLOOKUP(\"סיכום פרק 1: נאורוּת - משימת סיכום\",grade_report!$3:$100,ROWS($A$4:A6),0)","v":"Not Attempted"},{"$f":"HLOOKUP(\"הפנמה 1: נאורוּת - משימת הפנמה\",grade_report!$3:$100,ROWS($A$4:B6),0)","v":"Not Attempted"},{"$f":"HLOOKUP(\"העשרה 1: נאורוּת - משימת העשרה\",grade_report!$3:$100,ROWS($A$4:C6),0)","v":"Not Attempted"},null,{"$f":"HLOOKUP(\"שיעור לתלמיד 2: מלחמת העולם הראשונה - שיעור לתלמיד\",grade_report!$3:$100,ROWS($A$4:E6),0)","v":{"$error":"#N/A"}},{"$f":"HLOOKUP(\"סיכום פרק 2: מלחמת העולם הראשונה - משימת סיכום\",grade_report!$3:$100,ROWS($A$4:E6),0)","v":{"$error":"#N/A"}},{"$f":"HLOOKUP(\"הפנמה 2: מלחמת העולם הראשונה - משימת הפנמה\",grade_report!$3:$100,ROWS($A$4:F6),0)","v":{"$error":"#N/A"}},{"$f":"HLOOKUP(\"העשרה 2: מלחמת העולם הראשונה - משימת העשרה - רשות: מלחמת החפירות\",grade_report!$3:$100,ROWS($A$4:G6),0)","v":{"$error":"#N/A"}},null,{"$f":"HLOOKUP(\"שיעור לתלמיד 3: השינויים במעמד המשפטי של יהודי צרפת משלהי המאה ה-18 עד ראשית המאה ה-20 - תת פרק לבחירה\",grade_report!$3:$100,ROWS($A$4:J6),0)","v":{"$error":"#N/A"}},{"$f":"HLOOKUP(\"סיכום פרק 3: השינויים במעמד המשפטי של יהודי צרפת משלהי המאה ה-18 עד ראשית המאה ה-20 -משימת סיכום\",grade_report!$3:$100,ROWS($A$4:J6),0)","v":{"$error":"#N/A"}},{"$f":"HLOOKUP(\"שיעור לתלמיד 4: השינויים במעמד המשפטי של יהודי גרמניה משלהי המאה ה-18 עד ראשית המאה ה-20 - תת פרק לבחירה\",grade_report!$3:$100,ROWS($A$4:O6),0)","v":{"$error":"#N/A"}},{"$f":"HLOOKUP(\"סיכום פרק 4: השינויים במעמד המשפטי של יהודי גרמניה משלהי המאה ה-18 עד ראשית המאה ה-20 - תת פרק לבחירה -משימת סיכום\",grade_report!$3:$100,ROWS($A$4:O6),0)","v":{"$error":"#N/A"}},{"$f":"HLOOKUP(\"שיעור לתלמיד 5: השינויים במעמד המשפטי של היהודים בארצות האסלאם - תהליך האמנציפציה באלג'יריה - תת פרק חובה\",grade_report!$3:$100,ROWS($A$4:A6),0)","v":{"$error":"#N/A"}},{"$f":"HLOOKUP(\"סיכום פרק 5: השינויים במעמד המשפטי של היהודים בארצות האסלאם - תהליך האמנציפציה באלג'יריה - משימת סיכום\",grade_report!$3:$100,ROWS($A$4:A6),0)","v":{"$error":"#N/A"}},{"$f":"HLOOKUP(\"שיעור לתלמיד 6: השלכות השינויים במעמד היהודים על החברה היהודית - תת פרק חובה\",grade_report!$3:$100,ROWS($A$4:D6),0)","v":{"$error":"#N/A"}},{"$f":"HLOOKUP(\"סיכום פרק 6: השפעת הליברליזם על תמורות בחברה היהודית - משימת סיכום - סיכום הסוגיה לכל הפרק\",grade_report!$3:$100,ROWS($A$4:A6),0)","v":{"$error":"#N/A"}},{"$f":"HLOOKUP(\"הפנמה 3: מעמד היהודים משלהי המאה ה-18 ועד תחילת המאה ה-20 - משימת הפנמה לכל הפרק\",grade_report!$3:$100,ROWS($A$4:Q6),0)","v":{"$error":"#N/A"}},{"$f":"HLOOKUP(\"העשרה 3: מעמד היהודים משלהי המאה ה-18 ועד תחילת המאה ה-20 - משימת העשרה לכל הפרק\",grade_report!$3:$100,ROWS($A$4:R6),0)","v":{"$error":"#N/A"}},null,{"$f":"HLOOKUP(\"שיעור לתלמיד 7: השפעת הנאורות על החברה היהודית - תת פרק חובה\",grade_report!$3:$100,ROWS($A$4:A6),0)","v":{"$error":"#N/A"}},{"$f":"HLOOKUP(\"סיכום פרק 7: השפעת הנאורות על החברה היהודית - תת פרק חובה - משימת סיכום\",grade_report!$3:$100,ROWS($A$4:A6),0)","v":{"$error":"#N/A"}},null,{"$f":"HLOOKUP(\"שיעור לתלמיד 8: ניאו אורתודוקסיה - חיוב המודרנה תוך שמירה קפדנית על מצוות הדת - שיעור לתלמיד\",grade_report!$3:$100,ROWS($A$4:D6),0)","v":{"$error":"#N/A"}},{"$f":"HLOOKUP(\"סיכום פרק 8: ניאו אורתודוקסיה - חיוב המודרנה תוך שמירה קפדנית על מצוות הדת - משימת סיכום\",grade_report!$3:$100,ROWS($A$4:D6),0)","v":{"$error":"#N/A"}},{"$f":"HLOOKUP(\"סיכום פרק 9: תנועות וזרמים יהודיים - משימת סיכום לכל הפרק\",grade_report!$3:$100,ROWS($A$4:E6),0)","v":{"$error":"#N/A"}},null,{"$f":"HLOOKUP(\"שיעור לתלמיד 9: מבשרי הציונות וחיבת ציון - שיעור לתלמיד\",grade_report!$3:$100,ROWS($A$4:H6),0)","v":{"$error":"#N/A"}},{"$f":"HLOOKUP(\"סיכום פרק 10: מבשרי הציונות וחיבת ציון - משימת סיכום\",grade_report!$3:$100,ROWS($A$4:H6),0)","v":{"$error":"#N/A"}},{"$f":"HLOOKUP(\"הפנמה 4: מבשרי הציונות וחיבת ציון - משימת הפנמה\",grade_report!$3:$100,ROWS($A$4:AC6),0)","v":{"$error":"#N/A"}},{"$f":"HLOOKUP(\"העשרה 4: מבשרי הציונות וחיבת ציון - משימת העשרה\",grade_report!$3:$100,ROWS($A$4:AD6),0)","v":{"$error":"#N/A"}},null,{"$f":"HLOOKUP(\"שיעור לתלמיד 10: התנועה הציונית והרצל - שיעור לתלמיד\",grade_report!$3:$100,ROWS($A$4:M6),0)","v":{"$error":"#N/A"}},{"$f":"HLOOKUP(\"סיכום פרק 11: התנועה הציונית והרצל - משימת סיכום - סוף ימיו של הרצל\",grade_report!$3:$100,ROWS($A$4:M6),0)","v":{"$error":"#N/A"}},{"$f":"HLOOKUP(\"הפנמה 5: התנועה הציונית והרצל - משימת הפנמה\",grade_report!$3:$100,ROWS($A$4:AH6),0)","v":{"$error":"#N/A"}},{"$f":"HLOOKUP(\"העשרה 5: התנועה הציונית והרצל - משימת העשרה\",grade_report!$3:$100,ROWS($A$4:AI6),0)","v":{"$error":"#N/A"}},null,{"$f":"HLOOKUP(\"שיעור לתלמיד 11: מפלגות, זרמים ומתנגדים - שיעור לתלמיד\",grade_report!$3:$100,ROWS($A$4:R6),0)","v":{"$error":"#N/A"}},{"$f":"HLOOKUP(\"סיכום פרק 12: מפלגות, זרמים ומתנגדים - משימת סיכום\",grade_report!$3:$100,ROWS($A$4:R6),0)","v":{"$error":"#N/A"}},{"$f":"HLOOKUP(\"הפנמה 6: מפלגות, זרמים ומתנגדים - משימת הפנמה\",grade_report!$3:$100,ROWS($A$4:AM6),0)","v":{"$error":"#N/A"}},{"$f":"HLOOKUP(\"העשרה 6: מפלגות, זרמים ומתנגדים - משימת העשרה\",grade_report!$3:$100,ROWS($A$4:AN6),0)","v":{"$error":"#N/A"}},null,{"$f":"HLOOKUP(\"סיכום קורס-ש' סגורות\",grade_report!$3:$100,ROWS($A$4:AP6),0)","v":{"$error":"#N/A"}},{"$f":"HLOOKUP(\"סיכום קורס-ש' פתוחות\",grade_report!$3:$100,ROWS($A$4:AQ6),0)","v":{"$error":"#N/A"}},{"$f":"HLOOKUP(\"תלמידאות\",grade_report!$3:$100,ROWS($A$4:AR6),0)","v":"Not Attempted"}]
[{"$f":"grade_report!C6","v":"נועה_ביטון_4"},{"$f":"grade_report!B6","v":"noab5027@gmail.com"},null,{"$f":"VLOOKUP(A4,grade_report!C:D,2,FALSE)","v":0.02},{"$f":"HLOOKUP(\"שיעור לתלמיד 1: נאורוּת - שיעור לתלמיד\",grade_report!$3:$100,ROWS($A$4:A7),0)","v":0.9375},{"$f":"HLOOKUP(\"סיכום פרק 1: נאורוּת - משימת סיכום\",grade_report!$3:$100,ROWS($A$4:A7),0)","v":"Not Attempted"},{"$f":"HLOOKUP(\"הפנמה 1: נאורוּת - משימת הפנמה\",grade_report!$3:$100,ROWS($A$4:B7),0)","v":4.7619047619000002E-2},{"$f":"HLOOKUP(\"העשרה 1: נאורוּת - משימת העשרה\",grade_report!$3:$100,ROWS($A$4:C7),0)","v":"Not Attempted"},null,{"$f":"HLOOKUP(\"שיעור לתלמיד 2: מלחמת העולם הראשונה - שיעור לתלמיד\",grade_report!$3:$100,ROWS($A$4:E7),0)","v":{"$error":"#N/A"}},{"$f":"HLOOKUP(\"סיכום פרק 2: מלחמת העולם הראשונה - משימת סיכום\",grade_report!$3:$100,ROWS($A$4:E7),0)","v":{"$error":"#N/A"}},{"$f":"HLOOKUP(\"הפנמה 2: מלחמת העולם הראשונה - משימת הפנמה\",grade_report!$3:$100,ROWS($A$4:F7),0)","v":{"$error":"#N/A"}},{"$f":"HLOOKUP(\"העשרה 2: מלחמת העולם הראשונה - משימת העשרה - רשות: מלחמת החפירות\",grade_report!$3:$100,ROWS($A$4:G7),0)","v":{"$error":"#N/A"}},null,{"$f":"HLOOKUP(\"שיעור לתלמיד 3: השינויים במעמד המשפטי של יהודי צרפת משלהי המאה ה-18 עד ראשית המאה ה-20 - תת פרק לבחירה\",grade_report!$3:$100,ROWS($A$4:J7),0)","v":{"$error":"#N/A"}},{"$f":"HLOOKUP(\"סיכום פרק 3: השינויים במעמד המשפטי של יהודי צרפת משלהי המאה ה-18 עד ראשית המאה ה-20 -משימת סיכום\",grade_report!$3:$100,ROWS($A$4:J7),0)","v":{"$error":"#N/A"}},{"$f":"HLOOKUP(\"שיעור לתלמיד 4: השינויים במעמד המשפטי של יהודי גרמניה משלהי המאה ה-18 עד ראשית המאה ה-20 - תת פרק לבחירה\",grade_report!$3:$100,ROWS($A$4:O7),0)","v":{"$error":"#N/A"}},{"$f":"HLOOKUP(\"סיכום פרק 4: השינויים במעמד המשפטי של יהודי גרמניה משלהי המאה ה-18 עד ראשית המאה ה-20 - תת פרק לבחירה -משימת סיכום\",grade_report!$3:$100,ROWS($A$4:O7),0)","v":{"$error":"#N/A"}},{"$f":"HLOOKUP(\"שיעור לתלמיד 5: השינויים במעמד המשפטי של היהודים בארצות האסלאם - תהליך האמנציפציה באלג'יריה - תת פרק חובה\",grade_report!$3:$100,ROWS($A$4:A7),0)","v":{"$error":"#N/A"}},{"$f":"HLOOKUP(\"סיכום פרק 5: השינויים במעמד המשפטי של היהודים בארצות האסלאם - תהליך האמנציפציה באלג'יריה - משימת סיכום\",grade_report!$3:$100,ROWS($A$4:A7),0)","v":{"$error":"#N/A"}},{"$f":"HLOOKUP(\"שיעור לתלמיד 6: השלכות השינויים במעמד היהודים על החברה היהודית - תת פרק חובה\",grade_report!$3:$100,ROWS($A$4:D7),0)","v":{"$error":"#N/A"}},{"$f":"HLOOKUP(\"סיכום פרק 6: השפעת הליברליזם על תמורות בחברה היהודית - משימת סיכום - סיכום הסוגיה לכל הפרק\",grade_report!$3:$100,ROWS($A$4:A7),0)","v":{"$error":"#N/A"}},{"$f":"HLOOKUP(\"הפנמה 3: מעמד היהודים משלהי המאה ה-18 ועד תחילת המאה ה-20 - משימת הפנמה לכל הפרק\",grade_report!$3:$100,ROWS($A$4:Q7),0)","v":{"$error":"#N/A"}},{"$f":"HLOOKUP(\"העשרה 3: מעמד היהודים משלהי המאה ה-18 ועד תחילת המאה ה-20 - משימת העשרה לכל הפרק\",grade_report!$3:$100,ROWS($A$4:R7),0)","v":{"$error":"#N/A"}},null,{"$f":"HLOOKUP(\"שיעור לתלמיד 7: השפעת הנאורות על החברה היהודית - תת פרק חובה\",grade_report!$3:$100,ROWS($A$4:A7),0)","v":{"$error":"#N/A"}},{"$f":"HLOOKUP(\"סיכום פרק 7: השפעת הנאורות על החברה היהודית - תת פרק חובה - משימת סיכום\",grade_report!$3:$100,ROWS($A$4:A7),0)","v":{"$error":"#N/A"}},null,{"$f":"HLOOKUP(\"שיעור לתלמיד 8: ניאו אורתודוקסיה - חיוב המודרנה תוך שמירה קפדנית על מצוות הדת - שיעור לתלמיד\",grade_report!$3:$100,ROWS($A$4:D7),0)","v":{"$error":"#N/A"}},{"$f":"HLOOKUP(\"סיכום פרק 8: ניאו אורתודוקסיה - חיוב המודרנה תוך שמירה קפדנית על מצוות הדת - משימת סיכום\",grade_report!$3:$100,ROWS($A$4:D7),0)","v":{"$error":"#N/A"}},{"$f":"HLOOKUP(\"סיכום פרק 9: תנועות וזרמים יהודיים - משימת סיכום לכל הפרק\",grade_report!$3:$100,ROWS($A$4:E7),0)","v":{"$error":"#N/A"}},null,{"$f":"HLOOKUP(\"שיעור לתלמיד 9: מבשרי הציונות וחיבת ציון - שיעור לתלמיד\",grade_report!$3:$100,ROWS($A$4:H7),0)","v":{"$error":"#N/A"}},{"$f":"HLOOKUP(\"סיכום פרק 10: מבשרי הציונות וחיבת ציון - משימת סיכום\",grade_report!$3:$100,ROWS($A$4:H7),0)","v":{"$error":"#N/A"}},{"$f":"HLOOKUP(\"הפנמה 4: מבשרי הציונות וחיבת ציון - משימת הפנמה\",grade_report!$3:$100,ROWS($A$4:AC7),0)","v":{"$error":"#N/A"}},{"$f":"HLOOKUP(\"העשרה 4: מבשרי הציונות וחיבת ציון - משימת העשרה\",grade_report!$3:$100,ROWS($A$4:AD7),0)","v":{"$error":"#N/A"}},null,{"$f":"HLOOKUP(\"שיעור לתלמיד 10: התנועה הציונית והרצל - שיעור לתלמיד\",grade_report!$3:$100,ROWS($A$4:M7),0)","v":{"$error":"#N/A"}},{"$f":"HLOOKUP(\"סיכום פרק 11: התנועה הציונית והרצל - משימת סיכום - סוף ימיו של הרצל\",grade_report!$3:$100,ROWS($A$4:M7),0)","v":{"$error":"#N/A"}},{"$f":"HLOOKUP(\"הפנמה 5: התנועה הציונית והרצל - משימת הפנמה\",grade_report!$3:$100,ROWS($A$4:AH7),0)","v":{"$error":"#N/A"}},{"$f":"HLOOKUP(\"העשרה 5: התנועה הציונית והרצל - משימת העשרה\",grade_report!$3:$100,ROWS($A$4:AI7),0)","v":{"$error":"#N/A"}},null,{"$f":"HLOOKUP(\"שיעור לתלמיד 11: מפלגות, זרמים ומתנגדים - שיעור לתלמיד\",grade_report!$3:$100,ROWS($A$4:R7),0)","v":{"$error":"#N/A"}},{"$f":"HLOOKUP(\"סיכום פרק 12: מפלגות, זרמים ומתנגדים - משימת סיכום\",grade_report!$3:$100,ROWS($A$4:R7),0)","v":{"$error":"#N/A"}},{"$f":"HLOOKUP(\"הפנמה 6: מפלגות, זרמים ומתנגדים - משימת הפנמה\",grade_report!$3:$100,ROWS($A$4:AM7),0)","v":{"$error":"#N/A"}},{"$f":"HLOOKUP(\"העשרה 6: מפלגות, זרמים ומתנגדים - משימת העשרה\",grade_report!$3:$100,ROWS($A$4:AN7),0)","v":{"$error":"#N/A"}},null,{"$f":"HLOOKUP(\"סיכום קורס-ש' סגורות\",grade_report!$3:$100,ROWS($A$4:AP7),0)","v":{"$error":"#N/A"}},{"$f":"HLOOKUP(\"סיכום קורס-ש' פתוחות\",grade_report!$3:$100,ROWS($A$4:AQ7),0)","v":{"$error":"#N/A"}},{"$f":"HLOOKUP(\"תלמידאות\",grade_report!$3:$100,ROWS($A$4:AR7),0)","v":"Not Available"}]
[{"$f":"grade_report!C7","v":"שקד_בן_דוד"},{"$f":"grade_report!B7","v":"shakedbd24@gmail.com"},null,{"$f":"VLOOKUP(A5,grade_report!C:D,2,FALSE)","v":0.01},{"$f":"HLOOKUP(\"שיעור לתלמיד 1: נאורוּת - שיעור לתלמיד\",grade_report!$3:$100,ROWS($A$4:A8),0)","v":0.8125},{"$f":"HLOOKUP(\"סיכום פרק 1: נאורוּת - משימת סיכום\",grade_report!$3:$100,ROWS($A$4:A8),0)","v":"Not Attempted"},{"$f":"HLOOKUP(\"הפנמה 1: נאורוּת - משימת הפנמה\",grade_report!$3:$100,ROWS($A$4:B8),0)","v":4.7619047619000002E-2},{"$f":"HLOOKUP(\"העשרה 1: נאורוּת - משימת העשרה\",grade_report!$3:$100,ROWS($A$4:C8),0)","v":"Not Attempted"},null,{"$f":"HLOOKUP(\"שיעור לתלמיד 2: מלחמת העולם הראשונה - שיעור לתלמיד\",grade_report!$3:$100,ROWS($A$4:E8),0)","v":{"$error":"#N/A"}},{"$f":"HLOOKUP(\"סיכום פרק 2: מלחמת העולם הראשונה - משימת סיכום\",grade_report!$3:$100,ROWS($A$4:E8),0)","v":{"$error":"#N/A"}},{"$f":"HLOOKUP(\"הפנמה 2: מלחמת העולם הראשונה - משימת הפנמה\",grade_report!$3:$100,ROWS($A$4:F8),0)","v":{"$error":"#N/A"}},{"$f":"HLOOKUP(\"העשרה 2: מלחמת העולם הראשונה - משימת העשרה - רשות: מלחמת החפירות\",grade_report!$3:$100,ROWS($A$4:G8),0)","v":{"$error":"#N/A"}},null,{"$f":"HLOOKUP(\"שיעור לתלמיד 3: השינויים במעמד המשפטי של יהודי צרפת משלהי המאה ה-18 עד ראשית המאה ה-20 - תת פרק לבחירה\",grade_report!$3:$100,ROWS($A$4:J8),0)","v":{"$error":"#N/A"}},{"$f":"HLOOKUP(\"סיכום פרק 3: השינויים במעמד המשפטי של יהודי צרפת משלהי המאה ה-18 עד ראשית המאה ה-20 -משימת סיכום\",grade_report!$3:$100,ROWS($A$4:J8),0)","v":{"$error":"#N/A"}},{"$f":"HLOOKUP(\"שיעור לתלמיד 4: השינויים במעמד המשפטי של יהודי גרמניה משלהי המאה ה-18 עד ראשית המאה ה-20 - תת פרק לבחירה\",grade_report!$3:$100,ROWS($A$4:O8),0)","v":{"$error":"#N/A"}},{"$f":"HLOOKUP(\"סיכום פרק 4: השינויים במעמד המשפטי של יהודי גרמניה משלהי המאה ה-18 עד ראשית המאה ה-20 - תת פרק לבחירה -משימת סיכום\",grade_report!$3:$100,ROWS($A$4:O8),0)","v":{"$error":"#N/A"}},{"$f":"HLOOKUP(\"שיעור לתלמיד 5: השינויים במעמד המשפטי של היהודים בארצות האסלאם - תהליך האמנציפציה באלג'יריה - תת פרק חובה\",grade_report!$3:$100,ROWS($A$4:A8),0)","v":{"$error":"#N/A"}},{"$f":"HLOOKUP(\"סיכום פרק 5: השינויים במעמד המשפטי של היהודים בארצות האסלאם - תהליך האמנציפציה באלג'יריה - משימת סיכום\",grade_report!$3:$100,ROWS($A$4:A8),0)","v":{"$error":"#N/A"}},{"$f":"HLOOKUP(\"שיעור לתלמיד 6: השלכות השינויים במעמד היהודים על החברה היהודית - תת פרק חובה\",grade_report!$3:$100,ROWS($A$4:D8),0)","v":{"$error":"#N/A"}},{"$f":"HLOOKUP(\"סיכום פרק 6: השפעת הליברליזם על תמורות בחברה היהודית - משימת סיכום - סיכום הסוגיה לכל הפרק\",grade_report!$3:$100,ROWS($A$4:A8),0)","v":{"$error":"#N/A"}},{"$f":"HLOOKUP(\"הפנמה 3: מעמד היהודים משלהי המאה ה-18 ועד תחילת המאה ה-20 - משימת הפנמה לכל הפרק\",grade_report!$3:$100,ROWS($A$4:Q8),0)","v":{"$error":"#N/A"}},{"$f":"HLOOKUP(\"העשרה 3: מעמד היהודים משלהי המאה ה-18 ועד תחילת המאה ה-20 - משימת העשרה לכל הפרק\",grade_report!$3:$100,ROWS($A$4:R8),0)","v":{"$error":"#N/A"}},null,{"$f":"HLOOKUP(\"שיעור לתלמיד 7: השפעת הנאורות על החברה היהודית - תת פרק חובה\",grade_report!$3:$100,ROWS($A$4:A8),0)","v":{"$error":"#N/A"}},{"$f":"HLOOKUP(\"סיכום פרק 7: השפעת הנאורות על החברה היהודית - תת פרק חובה - משימת סיכום\",grade_report!$3:$100,ROWS($A$4:A8),0)","v":{"$error":"#N/A"}},null,{"$f":"HLOOKUP(\"שיעור לתלמיד 8: ניאו אורתודוקסיה - חיוב המודרנה תוך שמירה קפדנית על מצוות הדת - שיעור לתלמיד\",grade_report!$3:$100,ROWS($A$4:D8),0)","v":{"$error":"#N/A"}},{"$f":"HLOOKUP(\"סיכום פרק 8: ניאו אורתודוקסיה - חיוב המודרנה תוך שמירה קפדנית על מצוות הדת - משימת סיכום\",grade_report!$3:$100,ROWS($A$4:D8),0)","v":{"$error":"#N/A"}},{"$f":"HLOOKUP(\"סיכום פרק 9: תנועות וזרמים יהודיים - משימת סיכום לכל הפרק\",grade_report!$3:$100,ROWS($A$4:E8),0)","v":{"$error":"#N/A"}},null,{"$f":"HLOOKUP(\"שיעור לתלמיד 9: מבשרי הציונות וחיבת ציון - שיעור לתלמיד\",grade_report!$3:$100,ROWS($A$4:H8),0)","v":{"$error":"#N/A"}},{"$f":"HLOOKUP(\"סיכום פרק 10: מבשרי הציונות וחיבת ציון - משימת סיכום\",grade_report!$3:$100,ROWS($A$4:H8),0)","v":{"$error":"#N/A"}},{"$f":"HLOOKUP(\"הפנמה 4: מבשרי הציונות וחיבת ציון - משימת הפנמה\",grade_report!$3:$100,ROWS($A$4:AC8),0)","v":{"$error":"#N/A"}},{"$f":"HLOOKUP(\"העשרה 4: מבשרי הציונות וחיבת ציון - משימת העשרה\",grade_report!$3:$100,ROWS($A$4:AD8),0)","v":{"$error":"#N/A"}},null,{"$f":"HLOOKUP(\"שיעור לתלמיד 10: התנועה הציונית והרצל - שיעור לתלמיד\",grade_report!$3:$100,ROWS($A$4:M8),0)","v":{"$error":"#N/A"}},{"$f":"HLOOKUP(\"סיכום פרק 11: התנועה הציונית והרצל - משימת סיכום - סוף ימיו של הרצל\",grade_report!$3:$100,ROWS($A$4:M8),0)","v":{"$error":"#N/A"}},{"$f":"HLOOKUP(\"הפנמה 5: התנועה הציונית והרצל - משימת הפנמה\",grade_report!$3:$100,ROWS($A$4:AH8),0)","v":{"$error":"#N/A"}},{"$f":"HLOOKUP(\"העשרה 5: התנועה הציונית והרצל - משימת העשרה\",grade_report!$3:$100,ROWS($A$4:AI8),0)","v":{"$error":"#N/A"}},null,{"$f":"HLOOKUP(\"שיעור לתלמיד 11: מפלגות, זרמים ומתנגדים - שיעור לתלמיד\",grade_report!$3:$100,ROWS($A$4:R8),0)","v":{"$error":"#N/A"}},{"$f":"HLOOKUP(\"סיכום פרק 12: מפלגות, זרמים ומתנגדים - משימת סיכום\",grade_report!$3:$100,ROWS($A$4:R8),0)","v":{"$error":"#N/A"}},{"$f":"HLOOKUP(\"הפנמה 6: מפלגות, זרמים ומתנגדים - משימת הפנמה\",grade_report!$3:$100,ROWS($A$4:AM8),0)","v":{"$error":"#N/A"}},{"$f":"HLOOKUP(\"העשרה 6: מפלגות, זרמים ומתנגדים - משימת העשרה\",grade_report!$3:$100,ROWS($A$4:AN8),0)","v":{"$error":"#N/A"}},null,{"$f":"HLOOKUP(\"סיכום קורס-ש' סגורות\",grade_report!$3:$100,ROWS($A$4:AP8),0)","v":{"$error":"#N/A"}},{"$f":"HLOOKUP(\"סיכום קורס-ש' פתוחות\",grade_report!$3:$100,ROWS($A$4:AQ8),0)","v":{"$error":"#N/A"}},{"$f":"HLOOKUP(\"תלמידאות\",grade_report!$3:$100,ROWS($A$4:AR8),0)","v":"Not Available"}]
[{"$f":"grade_report!C8","v":"ליא גולדברג"},{"$f":"grade_report!B8","v":"liagold02@gmail.com"},null,{"$f":"VLOOKUP(A6,grade_report!C:D,2,FALSE)","v":0.08},{"$f":"HLOOKUP(\"שיעור לתלמיד 1: נאורוּת - שיעור לתלמיד\",grade_report!$3:$100,ROWS($A$4:A9),0)","v":1},{"$f":"HLOOKUP(\"סיכום פרק 1: נאורוּת - משימת סיכום\",grade_report!$3:$100,ROWS($A$4:A9),0)","v":"Not Attempted"},{"$f":"HLOOKUP(\"הפנמה 1: נאורוּת - משימת הפנמה\",grade_report!$3:$100,ROWS($A$4:B9),0)","v":4.7619047619000002E-2},{"$f":"HLOOKUP(\"העשרה 1: נאורוּת - משימת העשרה\",grade_report!$3:$100,ROWS($A$4:C9),0)","v":"Not Attempted"},null,{"$f":"HLOOKUP(\"שיעור לתלמיד 2: מלחמת העולם הראשונה - שיעור לתלמיד\",grade_report!$3:$100,ROWS($A$4:E9),0)","v":{"$error":"#N/A"}},{"$f":"HLOOKUP(\"סיכום פרק 2: מלחמת העולם הראשונה - משימת סיכום\",grade_report!$3:$100,ROWS($A$4:E9),0)","v":{"$error":"#N/A"}},{"$f":"HLOOKUP(\"הפנמה 2: מלחמת העולם הראשונה - משימת הפנמה\",grade_report!$3:$100,ROWS($A$4:F9),0)","v":{"$error":"#N/A"}},{"$f":"HLOOKUP(\"העשרה 2: מלחמת העולם הראשונה - משימת העשרה - רשות: מלחמת החפירות\",grade_report!$3:$100,ROWS($A$4:G9),0)","v":{"$error":"#N/A"}},null,{"$f":"HLOOKUP(\"שיעור לתלמיד 3: השינויים במעמד המשפטי של יהודי צרפת משלהי המאה ה-18 עד ראשית המאה ה-20 - תת פרק לבחירה\",grade_report!$3:$100,ROWS($A$4:J9),0)","v":{"$error":"#N/A"}},{"$f":"HLOOKUP(\"סיכום פרק 3: השינויים במעמד המשפטי של יהודי צרפת משלהי המאה ה-18 עד ראשית המאה ה-20 -משימת סיכום\",grade_report!$3:$100,ROWS($A$4:J9),0)","v":{"$error":"#N/A"}},{"$f":"HLOOKUP(\"שיעור לתלמיד 4: השינויים במעמד המשפטי של יהודי גרמניה משלהי המאה ה-18 עד ראשית המאה ה-20 - תת פרק לבחירה\",grade_report!$3:$100,ROWS($A$4:O9),0)","v":{"$error":"#N/A"}},{"$f":"HLOOKUP(\"סיכום פרק 4: השינויים במעמד המשפטי של יהודי גרמניה משלהי המאה ה-18 עד ראשית המאה ה-20 - תת פרק לבחירה -משימת סיכום\",grade_report!$3:$100,ROWS($A$4:O9),0)","v":{"$error":"#N/A"}},{"$f":"HLOOKUP(\"שיעור לתלמיד 5: השינויים במעמד המשפטי של היהודים בארצות האסלאם - תהליך האמנציפציה באלג'יריה - תת פרק חובה\",grade_report!$3:$100,ROWS($A$4:A9),0)","v":{"$error":"#N/A"}},{"$f":"HLOOKUP(\"סיכום פרק 5: השינויים במעמד המשפטי של היהודים בארצות האסלאם - תהליך האמנציפציה באלג'יריה - משימת סיכום\",grade_report!$3:$100,ROWS($A$4:A9),0)","v":{"$error":"#N/A"}},{"$f":"HLOOKUP(\"שיעור לתלמיד 6: השלכות השינויים במעמד היהודים על החברה היהודית - תת פרק חובה\",grade_report!$3:$100,ROWS($A$4:D9),0)","v":{"$error":"#N/A"}},{"$f":"HLOOKUP(\"סיכום פרק 6: השפעת הליברליזם על תמורות בחברה היהודית - משימת סיכום - סיכום הסוגיה לכל הפרק\",grade_report!$3:$100,ROWS($A$4:A9),0)","v":{"$error":"#N/A"}},{"$f":"HLOOKUP(\"הפנמה 3: מעמד היהודים משלהי המאה ה-18 ועד תחילת המאה ה-20 - משימת הפנמה לכל הפרק\",grade_report!$3:$100,ROWS($A$4:Q9),0)","v":{"$error":"#N/A"}},{"$f":"HLOOKUP(\"העשרה 3: מעמד היהודים משלהי המאה ה-18 ועד תחילת המאה ה-20 - משימת העשרה לכל הפרק\",grade_report!$3:$100,ROWS($A$4:R9),0)","v":{"$error":"#N/A"}},null,{"$f":"HLOOKUP(\"שיעור לתלמיד 7: השפעת הנאורות על החברה היהודית - תת פרק חובה\",grade_report!$3:$100,ROWS($A$4:A9),0)","v":{"$error":"#N/A"}},{"$f":"HLOOKUP(\"סיכום פרק 7: השפעת הנאורות על החברה היהודית - תת פרק חובה - משימת סיכום\",grade_report!$3:$100,ROWS($A$4:A9),0)","v":{"$error":"#N/A"}},null,{"$f":"HLOOKUP(\"שיעור לתלמיד 8: ניאו אורתודוקסיה - חיוב המודרנה תוך שמירה קפדנית על מצוות הדת - שיעור לתלמיד\",grade_report!$3:$100,ROWS($A$4:D9),0)","v":{"$error":"#N/A"}},{"$f":"HLOOKUP(\"סיכום פרק 8: ניאו אורתודוקסיה - חיוב המודרנה תוך שמירה קפדנית על מצוות הדת - משימת סיכום\",grade_report!$3:$100,ROWS($A$4:D9),0)","v":{"$error":"#N/A"}},{"$f":"HLOOKUP(\"סיכום פרק 9: תנועות וזרמים יהודיים - משימת סיכום לכל הפרק\",grade_report!$3:$100,ROWS($A$4:E9),0)","v":{"$error":"#N/A"}},null,{"$f":"HLOOKUP(\"שיעור לתלמיד 9: מבשרי הציונות וחיבת ציון - שיעור לתלמיד\",grade_report!$3:$100,ROWS($A$4:H9),0)","v":{"$error":"#N/A"}},{"$f":"HLOOKUP(\"סיכום פרק 10: מבשרי הציונות וחיבת ציון - משימת סיכום\",grade_report!$3:$100,ROWS($A$4:H9),0)","v":{"$error":"#N/A"}},{"$f":"HLOOKUP(\"הפנמה 4: מבשרי הציונות וחיבת ציון - משימת הפנמה\",grade_report!$3:$100,ROWS($A$4:AC9),0)","v":{"$error":"#N/A"}},{"$f":"HLOOKUP(\"העשרה 4: מבשרי הציונות וחיבת ציון - משימת העשרה\",grade_report!$3:$100,ROWS($A$4:AD9),0)","v":{"$error":"#N/A"}},null,{"$f":"HLOOKUP(\"שיעור לתלמיד 10: התנועה הציונית והרצל - שיעור לתלמיד\",grade_report!$3:$100,ROWS($A$4:M9),0)","v":{"$error":"#N/A"}},{"$f":"HLOOKUP(\"סיכום פרק 11: התנועה הציונית והרצל - משימת סיכום - סוף ימיו של הרצל\",grade_report!$3:$100,ROWS($A$4:M9),0)","v":{"$error":"#N/A"}},{"$f":"HLOOKUP(\"הפנמה 5: התנועה הציונית והרצל - משימת הפנמה\",grade_report!$3:$100,ROWS($A$4:AH9),0)","v":{"$error":"#N/A"}},{"$f":"HLOOKUP(\"העשרה 5: התנועה הציונית והרצל - משימת העשרה\",grade_report!$3:$100,ROWS($A$4:AI9),0)","v":{"$error":"#N/A"}},null,{"$f":"HLOOKUP(\"שיעור לתלמיד 11: מפלגות, זרמים ומתנגדים - שיעור לתלמיד\",grade_report!$3:$100,ROWS($A$4:R9),0)","v":{"$error":"#N/A"}},{"$f":"HLOOKUP(\"סיכום פרק 12: מפלגות, זרמים ומתנגדים - משימת סיכום\",grade_report!$3:$100,ROWS($A$4:R9),0)","v":{"$error":"#N/A"}},{"$f":"HLOOKUP(\"הפנמה 6: מפלגות, זרמים ומתנגדים - משימת הפנמה\",grade_report!$3:$100,ROWS($A$4:AM9),0)","v":{"$error":"#N/A"}},{"$f":"HLOOKUP(\"העשרה 6: מפלגות, זרמים ומתנגדים - משימת העשרה\",grade_report!$3:$100,ROWS($A$4:AN9),0)","v":{"$error":"#N/A"}},null,{"$f":"HLOOKUP(\"סיכום קורס-ש' סגורות\",grade_report!$3:$100,ROWS($A$4:AP9),0)","v":{"$error":"#N/A"}},{"$f":"HLOOKUP(\"סיכום קורס-ש' פתוחות\",grade_report!$3:$100,ROWS($A$4:AQ9),0)","v":{"$error":"#N/A"}},{"$f":"HLOOKUP(\"תלמידאות\",grade_report!$3:$100,ROWS($A$4:AR9),0)","v":"Not Available"}]
[{"$f":"grade_report!C9","v":"lihi_davidi"},{"$f":"grade_report!B9","v":"lihi.davidi@gmail.com"},null,{"$f":"VLOOKUP(A7,grade_report!C:D,2,FALSE)","v":0.08},{"$f":"HLOOKUP(\"שיעור לתלמיד 1: נאורוּת - שיעור לתלמיד\",grade_report!$3:$100,ROWS($A$4:A10),0)","v":0.9375},{"$f":"HLOOKUP(\"סיכום פרק 1: נאורוּת - משימת סיכום\",grade_report!$3:$100,ROWS($A$4:A10),0)","v":"Not Attempted"},{"$f":"HLOOKUP(\"הפנמה 1: נאורוּת - משימת הפנמה\",grade_report!$3:$100,ROWS($A$4:B10),0)","v":4.7619047619000002E-2},{"$f":"HLOOKUP(\"העשרה 1: נאורוּת - משימת העשרה\",grade_report!$3:$100,ROWS($A$4:C10),0)","v":"Not Attempted"},null,{"$f":"HLOOKUP(\"שיעור לתלמיד 2: מלחמת העולם הראשונה - שיעור לתלמיד\",grade_report!$3:$100,ROWS($A$4:E10),0)","v":{"$error":"#N/A"}},{"$f":"HLOOKUP(\"סיכום פרק 2: מלחמת העולם הראשונה - משימת סיכום\",grade_report!$3:$100,ROWS($A$4:E10),0)","v":{"$error":"#N/A"}},{"$f":"HLOOKUP(\"הפנמה 2: מלחמת העולם הראשונה - משימת הפנמה\",grade_report!$3:$100,ROWS($A$4:F10),0)","v":{"$error":"#N/A"}},{"$f":"HLOOKUP(\"העשרה 2: מלחמת העולם הראשונה - משימת העשרה - רשות: מלחמת החפירות\",grade_report!$3:$100,ROWS($A$4:G10),0)","v":{"$error":"#N/A"}},null,{"$f":"HLOOKUP(\"שיעור לתלמיד 3: השינויים במעמד המשפטי של יהודי צרפת משלהי המאה ה-18 עד ראשית המאה ה-20 - תת פרק לבחירה\",grade_report!$3:$100,ROWS($A$4:J10),0)","v":{"$error":"#N/A"}},{"$f":"HLOOKUP(\"סיכום פרק 3: השינויים במעמד המשפטי של יהודי צרפת משלהי המאה ה-18 עד ראשית המאה ה-20 -משימת סיכום\",grade_report!$3:$100,ROWS($A$4:J10),0)","v":{"$error":"#N/A"}},{"$f":"HLOOKUP(\"שיעור לתלמיד 4: השינויים במעמד המשפטי של יהודי גרמניה משלהי המאה ה-18 עד ראשית המאה ה-20 - תת פרק לבחירה\",grade_report!$3:$100,ROWS($A$4:O10),0)","v":{"$error":"#N/A"}},{"$f":"HLOOKUP(\"סיכום פרק 4: השינויים במעמד המשפטי של יהודי גרמניה משלהי המאה ה-18 עד ראשית המאה ה-20 - תת פרק לבחירה -משימת סיכום\",grade_report!$3:$100,ROWS($A$4:O10),0)","v":{"$error":"#N/A"}},{"$f":"HLOOKUP(\"שיעור לתלמיד 5: השינויים במעמד המשפטי של היהודים בארצות האסלאם - תהליך האמנציפציה באלג'יריה - תת פרק חובה\",grade_report!$3:$100,ROWS($A$4:A10),0)","v":{"$error":"#N/A"}},{"$f":"HLOOKUP(\"סיכום פרק 5: השינויים במעמד המשפטי של היהודים בארצות האסלאם - תהליך האמנציפציה באלג'יריה - משימת סיכום\",grade_report!$3:$100,ROWS($A$4:A10),0)","v":{"$error":"#N/A"}},{"$f":"HLOOKUP(\"שיעור לתלמיד 6: השלכות השינויים במעמד היהודים על החברה היהודית - תת פרק חובה\",grade_report!$3:$100,ROWS($A$4:D10),0)","v":{"$error":"#N/A"}},{"$f":"HLOOKUP(\"סיכום פרק 6: השפעת הליברליזם על תמורות בחברה היהודית - משימת סיכום - סיכום הסוגיה לכל הפרק\",grade_report!$3:$100,ROWS($A$4:A10),0)","v":{"$error":"#N/A"}},{"$f":"HLOOKUP(\"הפנמה 3: מעמד היהודים משלהי המאה ה-18 ועד תחילת המאה ה-20 - משימת הפנמה לכל הפרק\",grade_report!$3:$100,ROWS($A$4:Q10),0)","v":{"$error":"#N/A"}},{"$f":"HLOOKUP(\"העשרה 3: מעמד היהודים משלהי המאה ה-18 ועד תחילת המאה ה-20 - משימת העשרה לכל הפרק\",grade_report!$3:$100,ROWS($A$4:R10),0)","v":{"$error":"#N/A"}},null,{"$f":"HLOOKUP(\"שיעור לתלמיד 7: השפעת הנאורות על החברה היהודית - תת פרק חובה\",grade_report!$3:$100,ROWS($A$4:A10),0)","v":{"$error":"#N/A"}},{"$f":"HLOOKUP(\"סיכום פרק 7: השפעת הנאורות על החברה היהודית - תת פרק חובה - משימת סיכום\",grade_report!$3:$100,ROWS($A$4:A10),0)","v":{"$error":"#N/A"}},null,{"$f":"HLOOKUP(\"שיעור לתלמיד 8: ניאו אורתודוקסיה - חיוב המודרנה תוך שמירה קפדנית על מצוות הדת - שיעור לתלמיד\",grade_report!$3:$100,ROWS($A$4:D10),0)","v":{"$error":"#N/A"}},{"$f":"HLOOKUP(\"סיכום פרק 8: ניאו אורתודוקסיה - חיוב המודרנה תוך שמירה קפדנית על מצוות הדת - משימת סיכום\",grade_report!$3:$100,ROWS($A$4:D10),0)","v":{"$error":"#N/A"}},{"$f":"HLOOKUP(\"סיכום פרק 9: תנועות וזרמים יהודיים - משימת סיכום לכל הפרק\",grade_report!$3:$100,ROWS($A$4:E10),0)","v":{"$error":"#N/A"}},null,{"$f":"HLOOKUP(\"שיעור לתלמיד 9: מבשרי הציונות וחיבת ציון - שיעור לתלמיד\",grade_report!$3:$100,ROWS($A$4:H10),0)","v":{"$error":"#N/A"}},{"$f":"HLOOKUP(\"סיכום פרק 10: מבשרי הציונות וחיבת ציון - משימת סיכום\",grade_report!$3:$100,ROWS($A$4:H10),0)","v":{"$error":"#N/A"}},{"$f":"HLOOKUP(\"הפנמה 4: מבשרי הציונות וחיבת ציון - משימת הפנמה\",grade_report!$3:$100,ROWS($A$4:AC10),0)","v":{"$error":"#N/A"}},{"$f":"HLOOKUP(\"העשרה 4: מבשרי הציונות וחיבת ציון - משימת העשרה\",grade_report!$3:$100,ROWS($A$4:AD10),0)","v":{"$error":"#N/A"}},null,{"$f":"HLOOKUP(\"שיעור לתלמיד 10: התנועה הציונית והרצל - שיעור לתלמיד\",grade_report!$3:$100,ROWS($A$4:M10),0)","v":{"$error":"#N/A"}},{"$f":"HLOOKUP(\"סיכום פרק 11: התנועה הציונית והרצל - משימת סיכום - סוף ימיו של הרצל\",grade_report!$3:$100,ROWS($A$4:M10),0)","v":{"$error":"#N/A"}},{"$f":"HLOOKUP(\"הפנמה 5: התנועה הציונית והרצל - משימת הפנמה\",grade_report!$3:$100,ROWS($A$4:AH10),0)","v":{"$error":"#N/A"}},{"$f":"HLOOKUP(\"העשרה 5: התנועה הציונית והרצל - משימת העשרה\",grade_report!$3:$100,ROWS($A$4:AI10),0)","v":{"$error":"#N/A"}},null,{"$f":"HLOOKUP(\"שיעור לתלמיד 11: מפלגות, זרמים ומתנגדים - שיעור לתלמיד\",grade_report!$3:$100,ROWS($A$4:R10),0)","v":{"$error":"#N/A"}},{"$f":"HLOOKUP(\"סיכום פרק 12: מפלגות, זרמים ומתנגדים - משימת סיכום\",grade_report!$3:$100,ROWS($A$4:R10),0)","v":{"$error":"#N/A"}},{"$f":"HLOOKUP(\"הפנמה 6: מפלגות, זרמים ומתנגדים - משימת הפנמה\",grade_report!$3:$100,ROWS($A$4:AM10),0)","v":{"$error":"#N/A"}},{"$f":"HLOOKUP(\"העשרה 6: מפלגות, זרמים ומתנגדים - משימת העשרה\",grade_report!$3:$100,ROWS($A$4:AN10),0)","v":{"$error":"#N/A"}},null,{"$f":"HLOOKUP(\"סיכום קורס-ש' סגורות\",grade_report!$3:$100,ROWS($A$4:AP10),0)","v":{"$error":"#N/A"}},{"$f":"HLOOKUP(\"סיכום קורס-ש' פתוחות\",grade_report!$3:$100,ROWS($A$4:AQ10),0)","v":{"$error":"#N/A"}},{"$f":"HLOOKUP(\"תלמידאות\",grade_report!$3:$100,ROWS($A$4:AR10),0)","v":"Not Available"}]
[{"$f":"grade_report!C10","v":"oriziv06"},{"$f":"grade_report!B10","v":"oriziv06@gmail.com"},null,{"$f":"VLOOKUP(A8,grade_report!C:D,2,FALSE)","v":0},{"$f":"HLOOKUP(\"שיעור לתלמיד 1: נאורוּת - שיעור לתלמיד\",grade_report!$3:$100,ROWS($A$4:A11),0)","v":"Not Attempted"},{"$f":"HLOOKUP(\"סיכום פרק 1: נאורוּת - משימת סיכום\",grade_report!$3:$100,ROWS($A$4:A11),0)","v":"Not Attempted"},{"$f":"HLOOKUP(\"הפנמה 1: נאורוּת - משימת הפנמה\",grade_report!$3:$100,ROWS($A$4:B11),0)","v":"Not Attempted"},{"$f":"HLOOKUP(\"העשרה 1: נאורוּת - משימת העשרה\",grade_report!$3:$100,ROWS($A$4:C11),0)","v":"Not Attempted"},null,{"$f":"HLOOKUP(\"שיעור לתלמיד 2: מלחמת העולם הראשונה - שיעור לתלמיד\",grade_report!$3:$100,ROWS($A$4:E11),0)","v":{"$error":"#N/A"}},{"$f":"HLOOKUP(\"סיכום פרק 2: מלחמת העולם הראשונה - משימת סיכום\",grade_report!$3:$100,ROWS($A$4:E11),0)","v":{"$error":"#N/A"}},{"$f":"HLOOKUP(\"הפנמה 2: מלחמת העולם הראשונה - משימת הפנמה\",grade_report!$3:$100,ROWS($A$4:F11),0)","v":{"$error":"#N/A"}},{"$f":"HLOOKUP(\"העשרה 2: מלחמת העולם הראשונה - משימת העשרה - רשות: מלחמת החפירות\",grade_report!$3:$100,ROWS($A$4:G11),0)","v":{"$error":"#N/A"}},null,{"$f":"HLOOKUP(\"שיעור לתלמיד 3: השינויים במעמד המשפטי של יהודי צרפת משלהי המאה ה-18 עד ראשית המאה ה-20 - תת פרק לבחירה\",grade_report!$3:$100,ROWS($A$4:J11),0)","v":{"$error":"#N/A"}},{"$f":"HLOOKUP(\"סיכום פרק 3: השינויים במעמד המשפטי של יהודי צרפת משלהי המאה ה-18 עד ראשית המאה ה-20 -משימת סיכום\",grade_report!$3:$100,ROWS($A$4:J11),0)","v":{"$error":"#N/A"}},{"$f":"HLOOKUP(\"שיעור לתלמיד 4: השינויים במעמד המשפטי של יהודי גרמניה משלהי המאה ה-18 עד ראשית המאה ה-20 - תת פרק לבחירה\",grade_report!$3:$100,ROWS($A$4:O11),0)","v":{"$error":"#N/A"}},{"$f":"HLOOKUP(\"סיכום פרק 4: השינויים במעמד המשפטי של יהודי גרמניה משלהי המאה ה-18 עד ראשית המאה ה-20 - תת פרק לבחירה -משימת סיכום\",grade_report!$3:$100,ROWS($A$4:O11),0)","v":{"$error":"#N/A"}},{"$f":"HLOOKUP(\"שיעור לתלמיד 5: השינויים במעמד המשפטי של היהודים בארצות האסלאם - תהליך האמנציפציה באלג'יריה - תת פרק חובה\",grade_report!$3:$100,ROWS($A$4:A11),0)","v":{"$error":"#N/A"}},{"$f":"HLOOKUP(\"סיכום פרק 5: השינויים במעמד המשפטי של היהודים בארצות האסלאם - תהליך האמנציפציה באלג'יריה - משימת סיכום\",grade_report!$3:$100,ROWS($A$4:A11),0)","v":{"$error":"#N/A"}},{"$f":"HLOOKUP(\"שיעור לתלמיד 6: השלכות השינויים במעמד היהודים על החברה היהודית - תת פרק חובה\",grade_report!$3:$100,ROWS($A$4:D11),0)","v":{"$error":"#N/A"}},{"$f":"HLOOKUP(\"סיכום פרק 6: השפעת הליברליזם על תמורות בחברה היהודית - משימת סיכום - סיכום הסוגיה לכל הפרק\",grade_report!$3:$100,ROWS($A$4:A11),0)","v":{"$error":"#N/A"}},{"$f":"HLOOKUP(\"הפנמה 3: מעמד היהודים משלהי המאה ה-18 ועד תחילת המאה ה-20 - משימת הפנמה לכל הפרק\",grade_report!$3:$100,ROWS($A$4:Q11),0)","v":{"$error":"#N/A"}},{"$f":"HLOOKUP(\"העשרה 3: מעמד היהודים משלהי המאה ה-18 ועד תחילת המאה ה-20 - משימת העשרה לכל הפרק\",grade_report!$3:$100,ROWS($A$4:R11),0)","v":{"$error":"#N/A"}},null,{"$f":"HLOOKUP(\"שיעור לתלמיד 7: השפעת הנאורות על החברה היהודית - תת פרק חובה\",grade_report!$3:$100,ROWS($A$4:A11),0)","v":{"$error":"#N/A"}},{"$f":"HLOOKUP(\"סיכום פרק 7: השפעת הנאורות על החברה היהודית - תת פרק חובה - משימת סיכום\",grade_report!$3:$100,ROWS($A$4:A11),0)","v":{"$error":"#N/A"}},null,{"$f":"HLOOKUP(\"שיעור לתלמיד 8: ניאו אורתודוקסיה - חיוב המודרנה תוך שמירה קפדנית על מצוות הדת - שיעור לתלמיד\",grade_report!$3:$100,ROWS($A$4:D11),0)","v":{"$error":"#N/A"}},{"$f":"HLOOKUP(\"סיכום פרק 8: ניאו אורתודוקסיה - חיוב המודרנה תוך שמירה קפדנית על מצוות הדת - משימת סיכום\",grade_report!$3:$100,ROWS($A$4:D11),0)","v":{"$error":"#N/A"}},{"$f":"HLOOKUP(\"סיכום פרק 9: תנועות וזרמים יהודיים - משימת סיכום לכל הפרק\",grade_report!$3:$100,ROWS($A$4:E11),0)","v":{"$error":"#N/A"}},null,{"$f":"HLOOKUP(\"שיעור לתלמיד 9: מבשרי הציונות וחיבת ציון - שיעור לתלמיד\",grade_report!$3:$100,ROWS($A$4:H11),0)","v":{"$error":"#N/A"}},{"$f":"HLOOKUP(\"סיכום פרק 10: מבשרי הציונות וחיבת ציון - משימת סיכום\",grade_report!$3:$100,ROWS($A$4:H11),0)","v":{"$error":"#N/A"}},{"$f":"HLOOKUP(\"הפנמה 4: מבשרי הציונות וחיבת ציון - משימת הפנמה\",grade_report!$3:$100,ROWS($A$4:AC11),0)","v":{"$error":"#N/A"}},{"$f":"HLOOKUP(\"העשרה 4: מבשרי הציונות וחיבת ציון - משימת העשרה\",grade_report!$3:$100,ROWS($A$4:AD11),0)","v":{"$error":"#N/A"}},null,{"$f":"HLOOKUP(\"שיעור לתלמיד 10: התנועה הציונית והרצל - שיעור לתלמיד\",grade_report!$3:$100,ROWS($A$4:M11),0)","v":{"$error":"#N/A"}},{"$f":"HLOOKUP(\"סיכום פרק 11: התנועה הציונית והרצל - משימת סיכום - סוף ימיו של הרצל\",grade_report!$3:$100,ROWS($A$4:M11),0)","v":{"$error":"#N/A"}},{"$f":"HLOOKUP(\"הפנמה 5: התנועה הציונית והרצל - משימת הפנמה\",grade_report!$3:$100,ROWS($A$4:AH11),0)","v":{"$error":"#N/A"}},{"$f":"HLOOKUP(\"העשרה 5: התנועה הציונית והרצל - משימת העשרה\",grade_report!$3:$100,ROWS($A$4:AI11),0)","v":{"$error":"#N/A"}},null,{"$f":"HLOOKUP(\"שיעור לתלמיד 11: מפלגות, זרמים ומתנגדים - שיעור לתלמיד\",grade_report!$3:$100,ROWS($A$4:R11),0)","v":{"$error":"#N/A"}},{"$f":"HLOOKUP(\"סיכום פרק 12: מפלגות, זרמים ומתנגדים - משימת סיכום\",grade_report!$3:$100,ROWS($A$4:R11),0)","v":{"$error":"#N/A"}},{"$f":"HLOOKUP(\"הפנמה 6: מפלגות, זרמים ומתנגדים - משימת הפנמה\",grade_report!$3:$100,ROWS($A$4:AM11),0)","v":{"$error":"#N/A"}},{"$f":"HLOOKUP(\"העשרה 6: מפלגות, זרמים ומתנגדים - משימת העשרה\",grade_report!$3:$100,ROWS($A$4:AN11),0)","v":{"$error":"#N/A"}},null,{"$f":"HLOOKUP(\"סיכום קורס-ש' סגורות\",grade_report!$3:$100,ROWS($A$4:AP11),0)","v":{"$error":"#N/A"}},{"$f":"HLOOKUP(\"סיכום קורס-ש' פתוחות\",grade_report!$3:$100,ROWS($A$4:AQ11),0)","v":{"$error":"#N/A"}},{"$f":"HLOOKUP(\"תלמידאות\",grade_report!$3:$100,ROWS($A$4:AR11),0)","v":"Not Available"}]
[{"$f":"grade_report!C11","v":"אריאלה_חן_יעקב_חי"},{"$f":"grade_report!B11","v":"arielachen10@gmail.com"},null,{"$f":"VLOOKUP(A9,grade_report!C:D,2,FALSE)","v":7.0000000000000007E-2},{"$f":"HLOOKUP(\"שיעור לתלמיד 1: נאורוּת - שיעור לתלמיד\",grade_report!$3:$100,ROWS($A$4:A12),0)","v":1},{"$f":"HLOOKUP(\"סיכום פרק 1: נאורוּת - משימת סיכום\",grade_report!$3:$100,ROWS($A$4:A12),0)","v":"Not Attempted"},{"$f":"HLOOKUP(\"הפנמה 1: נאורוּת - משימת הפנמה\",grade_report!$3:$100,ROWS($A$4:B12),0)","v":4.7619047619000002E-2},{"$f":"HLOOKUP(\"העשרה 1: נאורוּת - משימת העשרה\",grade_report!$3:$100,ROWS($A$4:C12),0)","v":"Not Attempted"},null,{"$f":"HLOOKUP(\"שיעור לתלמיד 2: מלחמת העולם הראשונה - שיעור לתלמיד\",grade_report!$3:$100,ROWS($A$4:E12),0)","v":{"$error":"#N/A"}},{"$f":"HLOOKUP(\"סיכום פרק 2: מלחמת העולם הראשונה - משימת סיכום\",grade_report!$3:$100,ROWS($A$4:E12),0)","v":{"$error":"#N/A"}},{"$f":"HLOOKUP(\"הפנמה 2: מלחמת העולם הראשונה - משימת הפנמה\",grade_report!$3:$100,ROWS($A$4:F12),0)","v":{"$error":"#N/A"}},{"$f":"HLOOKUP(\"העשרה 2: מלחמת העולם הראשונה - משימת העשרה - רשות: מלחמת החפירות\",grade_report!$3:$100,ROWS($A$4:G12),0)","v":{"$error":"#N/A"}},null,{"$f":"HLOOKUP(\"שיעור לתלמיד 3: השינויים במעמד המשפטי של יהודי צרפת משלהי המאה ה-18 עד ראשית המאה ה-20 - תת פרק לבחירה\",grade_report!$3:$100,ROWS($A$4:J12),0)","v":{"$error":"#N/A"}},{"$f":"HLOOKUP(\"סיכום פרק 3: השינויים במעמד המשפטי של יהודי צרפת משלהי המאה ה-18 עד ראשית המאה ה-20 -משימת סיכום\",grade_report!$3:$100,ROWS($A$4:J12),0)","v":{"$error":"#N/A"}},{"$f":"HLOOKUP(\"שיעור לתלמיד 4: השינויים במעמד המשפטי של יהודי גרמניה משלהי המאה ה-18 עד ראשית המאה ה-20 - תת פרק לבחירה\",grade_report!$3:$100,ROWS($A$4:O12),0)","v":{"$error":"#N/A"}},{"$f":"HLOOKUP(\"סיכום פרק 4: השינויים במעמד המשפטי של יהודי גרמניה משלהי המאה ה-18 עד ראשית המאה ה-20 - תת פרק לבחירה -משימת סיכום\",grade_report!$3:$100,ROWS($A$4:O12),0)","v":{"$error":"#N/A"}},{"$f":"HLOOKUP(\"שיעור לתלמיד 5: השינויים במעמד המשפטי של היהודים בארצות האסלאם - תהליך האמנציפציה באלג'יריה - תת פרק חובה\",grade_report!$3:$100,ROWS($A$4:A12),0)","v":{"$error":"#N/A"}},{"$f":"HLOOKUP(\"סיכום פרק 5: השינויים במעמד המשפטי של היהודים בארצות האסלאם - תהליך האמנציפציה באלג'יריה - משימת סיכום\",grade_report!$3:$100,ROWS($A$4:A12),0)","v":{"$error":"#N/A"}},{"$f":"HLOOKUP(\"שיעור לתלמיד 6: השלכות השינויים במעמד היהודים על החברה היהודית - תת פרק חובה\",grade_report!$3:$100,ROWS($A$4:D12),0)","v":{"$error":"#N/A"}},{"$f":"HLOOKUP(\"סיכום פרק 6: השפעת הליברליזם על תמורות בחברה היהודית - משימת סיכום - סיכום הסוגיה לכל הפרק\",grade_report!$3:$100,ROWS($A$4:A12),0)","v":{"$error":"#N/A"}},{"$f":"HLOOKUP(\"הפנמה 3: מעמד היהודים משלהי המאה ה-18 ועד תחילת המאה ה-20 - משימת הפנמה לכל הפרק\",grade_report!$3:$100,ROWS($A$4:Q12),0)","v":{"$error":"#N/A"}},{"$f":"HLOOKUP(\"העשרה 3: מעמד היהודים משלהי המאה ה-18 ועד תחילת המאה ה-20 - משימת העשרה לכל הפרק\",grade_report!$3:$100,ROWS($A$4:R12),0)","v":{"$error":"#N/A"}},null,{"$f":"HLOOKUP(\"שיעור לתלמיד 7: השפעת הנאורות על החברה היהודית - תת פרק חובה\",grade_report!$3:$100,ROWS($A$4:A12),0)","v":{"$error":"#N/A"}},{"$f":"HLOOKUP(\"סיכום פרק 7: השפעת הנאורות על החברה היהודית - תת פרק חובה - משימת סיכום\",grade_report!$3:$100,ROWS($A$4:A12),0)","v":{"$error":"#N/A"}},null,{"$f":"HLOOKUP(\"שיעור לתלמיד 8: ניאו אורתודוקסיה - חיוב המודרנה תוך שמירה קפדנית על מצוות הדת - שיעור לתלמיד\",grade_report!$3:$100,ROWS($A$4:D12),0)","v":{"$error":"#N/A"}},{"$f":"HLOOKUP(\"סיכום פרק 8: ניאו אורתודוקסיה - חיוב המודרנה תוך שמירה קפדנית על מצוות הדת - משימת סיכום\",grade_report!$3:$100,ROWS($A$4:D12),0)","v":{"$error":"#N/A"}},{"$f":"HLOOKUP(\"סיכום פרק 9: תנועות וזרמים יהודיים - משימת סיכום לכל הפרק\",grade_report!$3:$100,ROWS($A$4:E12),0)","v":{"$error":"#N/A"}},null,{"$f":"HLOOKUP(\"שיעור לתלמיד 9: מבשרי הציונות וחיבת ציון - שיעור לתלמיד\",grade_report!$3:$100,ROWS($A$4:H12),0)","v":{"$error":"#N/A"}},{"$f":"HLOOKUP(\"סיכום פרק 10: מבשרי הציונות וחיבת ציון - משימת סיכום\",grade_report!$3:$100,ROWS($A$4:H12),0)","v":{"$error":"#N/A"}},{"$f":"HLOOKUP(\"הפנמה 4: מבשרי הציונות וחיבת ציון - משימת הפנמה\",grade_report!$3:$100,ROWS($A$4:AC12),0)","v":{"$error":"#N/A"}},{"$f":"HLOOKUP(\"העשרה 4: מבשרי הציונות וחיבת ציון - משימת העשרה\",grade_report!$3:$100,ROWS($A$4:AD12),0)","v":{"$error":"#N/A"}},null,{"$f":"HLOOKUP(\"שיעור לתלמיד 10: התנועה הציונית והרצל - שיעור לתלמיד\",grade_report!$3:$100,ROWS($A$4:M12),0)","v":{"$error":"#N/A"}},{"$f":"HLOOKUP(\"סיכום פרק 11: התנועה הציונית והרצל - משימת סיכום - סוף ימיו של הרצל\",grade_report!$3:$100,ROWS($A$4:M12),0)","v":{"$error":"#N/A"}},{"$f":"HLOOKUP(\"הפנמה 5: התנועה הציונית והרצל - משימת הפנמה\",grade_report!$3:$100,ROWS($A$4:AH12),0)","v":{"$error":"#N/A"}},{"$f":"HLOOKUP(\"העשרה 5: התנועה הציונית והרצל - משימת העשרה\",grade_report!$3:$100,ROWS($A$4:AI12),0)","v":{"$error":"#N/A"}},null,{"$f":"HLOOKUP(\"שיעור לתלמיד 11: מפלגות, זרמים ומתנגדים - שיעור לתלמיד\",grade_report!$3:$100,ROWS($A$4:R12),0)","v":{"$error":"#N/A"}},{"$f":"HLOOKUP(\"סיכום פרק 12: מפלגות, זרמים ומתנגדים - משימת סיכום\",grade_report!$3:$100,ROWS($A$4:R12),0)","v":{"$error":"#N/A"}},{"$f":"HLOOKUP(\"הפנמה 6: מפלגות, זרמים ומתנגדים - משימת הפנמה\",grade_report!$3:$100,ROWS($A$4:AM12),0)","v":{"$error":"#N/A"}},{"$f":"HLOOKUP(\"העשרה 6: מפלגות, זרמים ומתנגדים - משימת העשרה\",grade_report!$3:$100,ROWS($A$4:AN12),0)","v":{"$error":"#N/A"}},null,{"$f":"HLOOKUP(\"סיכום קורס-ש' סגורות\",grade_report!$3:$100,ROWS($A$4:AP12),0)","v":{"$error":"#N/A"}},{"$f":"HLOOKUP(\"סיכום קורס-ש' פתוחות\",grade_report!$3:$100,ROWS($A$4:AQ12),0)","v":{"$error":"#N/A"}},{"$f":"HLOOKUP(\"תלמידאות\",grade_report!$3:$100,ROWS($A$4:AR12),0)","v":"Not Available"}]
[{"$f":"grade_report!C12","v":"ליאם_פחימה"},{"$f":"grade_report!B12","v":"liempahima21@gmail.com"},null,{"$f":"VLOOKUP(A10,grade_report!C:D,2,FALSE)","v":0.12},{"$f":"HLOOKUP(\"שיעור לתלמיד 1: נאורוּת - שיעור לתלמיד\",grade_report!$3:$100,ROWS($A$4:A13),0)","v":1},{"$f":"HLOOKUP(\"סיכום פרק 1: נאורוּת - משימת סיכום\",grade_report!$3:$100,ROWS($A$4:A13),0)","v":"Not Attempted"},{"$f":"HLOOKUP(\"הפנמה 1: נאורוּת - משימת הפנמה\",grade_report!$3:$100,ROWS($A$4:B13),0)","v":4.7619047619000002E-2},{"$f":"HLOOKUP(\"העשרה 1: נאורוּת - משימת העשרה\",grade_report!$3:$100,ROWS($A$4:C13),0)","v":"Not Attempted"},null,{"$f":"HLOOKUP(\"שיעור לתלמיד 2: מלחמת העולם הראשונה - שיעור לתלמיד\",grade_report!$3:$100,ROWS($A$4:E13),0)","v":{"$error":"#N/A"}},{"$f":"HLOOKUP(\"סיכום פרק 2: מלחמת העולם הראשונה - משימת סיכום\",grade_report!$3:$100,ROWS($A$4:E13),0)","v":{"$error":"#N/A"}},{"$f":"HLOOKUP(\"הפנמה 2: מלחמת העולם הראשונה - משימת הפנמה\",grade_report!$3:$100,ROWS($A$4:F13),0)","v":{"$error":"#N/A"}},{"$f":"HLOOKUP(\"העשרה 2: מלחמת העולם הראשונה - משימת העשרה - רשות: מלחמת החפירות\",grade_report!$3:$100,ROWS($A$4:G13),0)","v":{"$error":"#N/A"}},null,{"$f":"HLOOKUP(\"שיעור לתלמיד 3: השינויים במעמד המשפטי של יהודי צרפת משלהי המאה ה-18 עד ראשית המאה ה-20 - תת פרק לבחירה\",grade_report!$3:$100,ROWS($A$4:J13),0)","v":{"$error":"#N/A"}},{"$f":"HLOOKUP(\"סיכום פרק 3: השינויים במעמד המשפטי של יהודי צרפת משלהי המאה ה-18 עד ראשית המאה ה-20 -משימת סיכום\",grade_report!$3:$100,ROWS($A$4:J13),0)","v":{"$error":"#N/A"}},{"$f":"HLOOKUP(\"שיעור לתלמיד 4: השינויים במעמד המשפטי של יהודי גרמניה משלהי המאה ה-18 עד ראשית המאה ה-20 - תת פרק לבחירה\",grade_report!$3:$100,ROWS($A$4:O13),0)","v":{"$error":"#N/A"}},{"$f":"HLOOKUP(\"סיכום פרק 4: השינויים במעמד המשפטי של יהודי גרמניה משלהי המאה ה-18 עד ראשית המאה ה-20 - תת פרק לבחירה -משימת סיכום\",grade_report!$3:$100,ROWS($A$4:O13),0)","v":{"$error":"#N/A"}},{"$f":"HLOOKUP(\"שיעור לתלמיד 5: השינויים במעמד המשפטי של היהודים בארצות האסלאם - תהליך האמנציפציה באלג'יריה - תת פרק חובה\",grade_report!$3:$100,ROWS($A$4:A13),0)","v":{"$error":"#N/A"}},{"$f":"HLOOKUP(\"סיכום פרק 5: השינויים במעמד המשפטי של היהודים בארצות האסלאם - תהליך האמנציפציה באלג'יריה - משימת סיכום\",grade_report!$3:$100,ROWS($A$4:A13),0)","v":{"$error":"#N/A"}},{"$f":"HLOOKUP(\"שיעור לתלמיד 6: השלכות השינויים במעמד היהודים על החברה היהודית - תת פרק חובה\",grade_report!$3:$100,ROWS($A$4:D13),0)","v":{"$error":"#N/A"}},{"$f":"HLOOKUP(\"סיכום פרק 6: השפעת הליברליזם על תמורות בחברה היהודית - משימת סיכום - סיכום הסוגיה לכל הפרק\",grade_report!$3:$100,ROWS($A$4:A13),0)","v":{"$error":"#N/A"}},{"$f":"HLOOKUP(\"הפנמה 3: מעמד היהודים משלהי המאה ה-18 ועד תחילת המאה ה-20 - משימת הפנמה לכל הפרק\",grade_report!$3:$100,ROWS($A$4:Q13),0)","v":{"$error":"#N/A"}},{"$f":"HLOOKUP(\"העשרה 3: מעמד היהודים משלהי המאה ה-18 ועד תחילת המאה ה-20 - משימת העשרה לכל הפרק\",grade_report!$3:$100,ROWS($A$4:R13),0)","v":{"$error":"#N/A"}},null,{"$f":"HLOOKUP(\"שיעור לתלמיד 7: השפעת הנאורות על החברה היהודית - תת פרק חובה\",grade_report!$3:$100,ROWS($A$4:A13),0)","v":{"$error":"#N/A"}},{"$f":"HLOOKUP(\"סיכום פרק 7: השפעת הנאורות על החברה היהודית - תת פרק חובה - משימת סיכום\",grade_report!$3:$100,ROWS($A$4:A13),0)","v":{"$error":"#N/A"}},null,{"$f":"HLOOKUP(\"שיעור לתלמיד 8: ניאו אורתודוקסיה - חיוב המודרנה תוך שמירה קפדנית על מצוות הדת - שיעור לתלמיד\",grade_report!$3:$100,ROWS($A$4:D13),0)","v":{"$error":"#N/A"}},{"$f":"HLOOKUP(\"סיכום פרק 8: ניאו אורתודוקסיה - חיוב המודרנה תוך שמירה קפדנית על מצוות הדת - משימת סיכום\",grade_report!$3:$100,ROWS($A$4:D13),0)","v":{"$error":"#N/A"}},{"$f":"HLOOKUP(\"סיכום פרק 9: תנועות וזרמים יהודיים - משימת סיכום לכל הפרק\",grade_report!$3:$100,ROWS($A$4:E13),0)","v":{"$error":"#N/A"}},null,{"$f":"HLOOKUP(\"שיעור לתלמיד 9: מבשרי הציונות וחיבת ציון - שיעור לתלמיד\",grade_report!$3:$100,ROWS($A$4:H13),0)","v":{"$error":"#N/A"}},{"$f":"HLOOKUP(\"סיכום פרק 10: מבשרי הציונות וחיבת ציון - משימת סיכום\",grade_report!$3:$100,ROWS($A$4:H13),0)","v":{"$error":"#N/A"}},{"$f":"HLOOKUP(\"הפנמה 4: מבשרי הציונות וחיבת ציון - משימת הפנמה\",grade_report!$3:$100,ROWS($A$4:AC13),0)","v":{"$error":"#N/A"}},{"$f":"HLOOKUP(\"העשרה 4: מבשרי הציונות וחיבת ציון - משימת העשרה\",grade_report!$3:$100,ROWS($A$4:AD13),0)","v":{"$error":"#N/A"}},null,{"$f":"HLOOKUP(\"שיעור לתלמיד 10: התנועה הציונית והרצל - שיעור לתלמיד\",grade_report!$3:$100,ROWS($A$4:M13),0)","v":{"$error":"#N/A"}},{"$f":"HLOOKUP(\"סיכום פרק 11: התנועה הציונית והרצל - משימת סיכום - סוף ימיו של הרצל\",grade_report!$3:$100,ROWS($A$4:M13),0)","v":{"$error":"#N/A"}},{"$f":"HLOOKUP(\"הפנמה 5: התנועה הציונית והרצל - משימת הפנמה\",grade_report!$3:$100,ROWS($A$4:AH13),0)","v":{"$error":"#N/A"}},{"$f":"HLOOKUP(\"העשרה 5: התנועה הציונית והרצל - משימת העשרה\",grade_report!$3:$100,ROWS($A$4:AI13),0)","v":{"$error":"#N/A"}},null,{"$f":"HLOOKUP(\"שיעור לתלמיד 11: מפלגות, זרמים ומתנגדים - שיעור לתלמיד\",grade_report!$3:$100,ROWS($A$4:R13),0)","v":{"$error":"#N/A"}},{"$f":"HLOOKUP(\"סיכום פרק 12: מפלגות, זרמים ומתנגדים - משימת סיכום\",grade_report!$3:$100,ROWS($A$4:R13),0)","v":{"$error":"#N/A"}},{"$f":"HLOOKUP(\"הפנמה 6: מפלגות, זרמים ומתנגדים - משימת הפנמה\",grade_report!$3:$100,ROWS($A$4:AM13),0)","v":{"$error":"#N/A"}},{"$f":"HLOOKUP(\"העשרה 6: מפלגות, זרמים ומתנגדים - משימת העשרה\",grade_report!$3:$100,ROWS($A$4:AN13),0)","v":{"$error":"#N/A"}},null,{"$f":"HLOOKUP(\"סיכום קורס-ש' סגורות\",grade_report!$3:$100,ROWS($A$4:AP13),0)","v":{"$error":"#N/A"}},{"$f":"HLOOKUP(\"סיכום קורס-ש' פתוחות\",grade_report!$3:$100,ROWS($A$4:AQ13),0)","v":{"$error":"#N/A"}},{"$f":"HLOOKUP(\"תלמידאות\",grade_report!$3:$100,ROWS($A$4:AR13),0)","v":"Not Available"}]
[{"$f":"grade_report!C13","v":"אלה_רן"},{"$f":"grade_report!B13","v":"elaran28@gmail.com"},null,{"$f":"VLOOKUP(A11,grade_report!C:D,2,FALSE)","v":0.02},{"$f":"HLOOKUP(\"שיעור לתלמיד 1: נאורוּת - שיעור לתלמיד\",grade_report!$3:$100,ROWS($A$4:A14),0)","v":0.9375},{"$f":"HLOOKUP(\"סיכום פרק 1: נאורוּת - משימת סיכום\",grade_report!$3:$100,ROWS($A$4:A14),0)","v":"Not Attempted"},{"$f":"HLOOKUP(\"הפנמה 1: נאורוּת - משימת הפנמה\",grade_report!$3:$100,ROWS($A$4:B14),0)","v":4.7619047619000002E-2},{"$f":"HLOOKUP(\"העשרה 1: נאורוּת - משימת העשרה\",grade_report!$3:$100,ROWS($A$4:C14),0)","v":"Not Attempted"},null,{"$f":"HLOOKUP(\"שיעור לתלמיד 2: מלחמת העולם הראשונה - שיעור לתלמיד\",grade_report!$3:$100,ROWS($A$4:E14),0)","v":{"$error":"#N/A"}},{"$f":"HLOOKUP(\"סיכום פרק 2: מלחמת העולם הראשונה - משימת סיכום\",grade_report!$3:$100,ROWS($A$4:E14),0)","v":{"$error":"#N/A"}},{"$f":"HLOOKUP(\"הפנמה 2: מלחמת העולם הראשונה - משימת הפנמה\",grade_report!$3:$100,ROWS($A$4:F14),0)","v":{"$error":"#N/A"}},{"$f":"HLOOKUP(\"העשרה 2: מלחמת העולם הראשונה - משימת העשרה - רשות: מלחמת החפירות\",grade_report!$3:$100,ROWS($A$4:G14),0)","v":{"$error":"#N/A"}},null,{"$f":"HLOOKUP(\"שיעור לתלמיד 3: השינויים במעמד המשפטי של יהודי צרפת משלהי המאה ה-18 עד ראשית המאה ה-20 - תת פרק לבחירה\",grade_report!$3:$100,ROWS($A$4:J14),0)","v":{"$error":"#N/A"}},{"$f":"HLOOKUP(\"סיכום פרק 3: השינויים במעמד המשפטי של יהודי צרפת משלהי המאה ה-18 עד ראשית המאה ה-20 -משימת סיכום\",grade_report!$3:$100,ROWS($A$4:J14),0)","v":{"$error":"#N/A"}},{"$f":"HLOOKUP(\"שיעור לתלמיד 4: השינויים במעמד המשפטי של יהודי גרמניה משלהי המאה ה-18 עד ראשית המאה ה-20 - תת פרק לבחירה\",grade_report!$3:$100,ROWS($A$4:O14),0)","v":{"$error":"#N/A"}},{"$f":"HLOOKUP(\"סיכום פרק 4: השינויים במעמד המשפטי של יהודי גרמניה משלהי המאה ה-18 עד ראשית המאה ה-20 - תת פרק לבחירה -משימת סיכום\",grade_report!$3:$100,ROWS($A$4:O14),0)","v":{"$error":"#N/A"}},{"$f":"HLOOKUP(\"שיעור לתלמיד 5: השינויים במעמד המשפטי של היהודים בארצות האסלאם - תהליך האמנציפציה באלג'יריה - תת פרק חובה\",grade_report!$3:$100,ROWS($A$4:A14),0)","v":{"$error":"#N/A"}},{"$f":"HLOOKUP(\"סיכום פרק 5: השינויים במעמד המשפטי של היהודים בארצות האסלאם - תהליך האמנציפציה באלג'יריה - משימת סיכום\",grade_report!$3:$100,ROWS($A$4:A14),0)","v":{"$error":"#N/A"}},{"$f":"HLOOKUP(\"שיעור לתלמיד 6: השלכות השינויים במעמד היהודים על החברה היהודית - תת פרק חובה\",grade_report!$3:$100,ROWS($A$4:D14),0)","v":{"$error":"#N/A"}},{"$f":"HLOOKUP(\"סיכום פרק 6: השפעת הליברליזם על תמורות בחברה היהודית - משימת סיכום - סיכום הסוגיה לכל הפרק\",grade_report!$3:$100,ROWS($A$4:A14),0)","v":{"$error":"#N/A"}},{"$f":"HLOOKUP(\"הפנמה 3: מעמד היהודים משלהי המאה ה-18 ועד תחילת המאה ה-20 - משימת הפנמה לכל הפרק\",grade_report!$3:$100,ROWS($A$4:Q14),0)","v":{"$error":"#N/A"}},{"$f":"HLOOKUP(\"העשרה 3: מעמד היהודים משלהי המאה ה-18 ועד תחילת המאה ה-20 - משימת העשרה לכל הפרק\",grade_report!$3:$100,ROWS($A$4:R14),0)","v":{"$error":"#N/A"}},null,{"$f":"HLOOKUP(\"שיעור לתלמיד 7: השפעת הנאורות על החברה היהודית - תת פרק חובה\",grade_report!$3:$100,ROWS($A$4:A14),0)","v":{"$error":"#N/A"}},{"$f":"HLOOKUP(\"סיכום פרק 7: השפעת הנאורות על החברה היהודית - תת פרק חובה - משימת סיכום\",grade_report!$3:$100,ROWS($A$4:A14),0)","v":{"$error":"#N/A"}},null,{"$f":"HLOOKUP(\"שיעור לתלמיד 8: ניאו אורתודוקסיה - חיוב המודרנה תוך שמירה קפדנית על מצוות הדת - שיעור לתלמיד\",grade_report!$3:$100,ROWS($A$4:D14),0)","v":{"$error":"#N/A"}},{"$f":"HLOOKUP(\"סיכום פרק 8: ניאו אורתודוקסיה - חיוב המודרנה תוך שמירה קפדנית על מצוות הדת - משימת סיכום\",grade_report!$3:$100,ROWS($A$4:D14),0)","v":{"$error":"#N/A"}},{"$f":"HLOOKUP(\"סיכום פרק 9: תנועות וזרמים יהודיים - משימת סיכום לכל הפרק\",grade_report!$3:$100,ROWS($A$4:E14),0)","v":{"$error":"#N/A"}},null,{"$f":"HLOOKUP(\"שיעור לתלמיד 9: מבשרי הציונות וחיבת ציון - שיעור לתלמיד\",grade_report!$3:$100,ROWS($A$4:H14),0)","v":{"$error":"#N/A"}},{"$f":"HLOOKUP(\"סיכום פרק 10: מבשרי הציונות וחיבת ציון - משימת סיכום\",grade_report!$3:$100,ROWS($A$4:H14),0)","v":{"$error":"#N/A"}},{"$f":"HLOOKUP(\"הפנמה 4: מבשרי הציונות וחיבת ציון - משימת הפנמה\",grade_report!$3:$100,ROWS($A$4:AC14),0)","v":{"$error":"#N/A"}},{"$f":"HLOOKUP(\"העשרה 4: מבשרי הציונות וחיבת ציון - משימת העשרה\",grade_report!$3:$100,ROWS($A$4:AD14),0)","v":{"$error":"#N/A"}},null,{"$f":"HLOOKUP(\"שיעור לתלמיד 10: התנועה הציונית והרצל - שיעור לתלמיד\",grade_report!$3:$100,ROWS($A$4:M14),0)","v":{"$error":"#N/A"}},{"$f":"HLOOKUP(\"סיכום פרק 11: התנועה הציונית והרצל - משימת סיכום - סוף ימיו של הרצל\",grade_report!$3:$100,ROWS($A$4:M14),0)","v":{"$error":"#N/A"}},{"$f":"HLOOKUP(\"הפנמה 5: התנועה הציונית והרצל - משימת הפנמה\",grade_report!$3:$100,ROWS($A$4:AH14),0)","v":{"$error":"#N/A"}},{"$f":"HLOOKUP(\"העשרה 5: התנועה הציונית והרצל - משימת העשרה\",grade_report!$3:$100,ROWS($A$4:AI14),0)","v":{"$error":"#N/A"}},null,{"$f":"HLOOKUP(\"שיעור לתלמיד 11: מפלגות, זרמים ומתנגדים - שיעור לתלמיד\",grade_report!$3:$100,ROWS($A$4:R14),0)","v":{"$error":"#N/A"}},{"$f":"HLOOKUP(\"סיכום פרק 12: מפלגות, זרמים ומתנגדים - משימת סיכום\",grade_report!$3:$100,ROWS($A$4:R14),0)","v":{"$error":"#N/A"}},{"$f":"HLOOKUP(\"הפנמה 6: מפלגות, זרמים ומתנגדים - משימת הפנמה\",grade_report!$3:$100,ROWS($A$4:AM14),0)","v":{"$error":"#N/A"}},{"$f":"HLOOKUP(\"העשרה 6: מפלגות, זרמים ומתנגדים - משימת העשרה\",grade_report!$3:$100,ROWS($A$4:AN14),0)","v":{"$error":"#N/A"}},null,{"$f":"HLOOKUP(\"סיכום קורס-ש' סגורות\",grade_report!$3:$100,ROWS($A$4:AP14),0)","v":{"$error":"#N/A"}},{"$f":"HLOOKUP(\"סיכום קורס-ש' פתוחות\",grade_report!$3:$100,ROWS($A$4:AQ14),0)","v":{"$error":"#N/A"}},{"$f":"HLOOKUP(\"תלמידאות\",grade_report!$3:$100,ROWS($A$4:AR14),0)","v":"Not Available"}]
[{"$f":"grade_report!C14","v":"אורי בלונדר"},{"$f":"grade_report!B14","v":"blonderori@gmail.com"},null,{"$f":"VLOOKUP(A12,grade_report!C:D,2,FALSE)","v":0.12},{"$f":"HLOOKUP(\"שיעור לתלמיד 1: נאורוּת - שיעור לתלמיד\",grade_report!$3:$100,ROWS($A$4:A15),0)","v":0.9375},{"$f":"HLOOKUP(\"סיכום פרק 1: נאורוּת - משימת סיכום\",grade_report!$3:$100,ROWS($A$4:A15),0)","v":"Not Attempted"},{"$f":"HLOOKUP(\"הפנמה 1: נאורוּת - משימת הפנמה\",grade_report!$3:$100,ROWS($A$4:B15),0)","v":4.7619047619000002E-2},{"$f":"HLOOKUP(\"העשרה 1: נאורוּת - משימת העשרה\",grade_report!$3:$100,ROWS($A$4:C15),0)","v":"Not Attempted"},null,{"$f":"HLOOKUP(\"שיעור לתלמיד 2: מלחמת העולם הראשונה - שיעור לתלמיד\",grade_report!$3:$100,ROWS($A$4:E15),0)","v":{"$error":"#N/A"}},{"$f":"HLOOKUP(\"סיכום פרק 2: מלחמת העולם הראשונה - משימת סיכום\",grade_report!$3:$100,ROWS($A$4:E15),0)","v":{"$error":"#N/A"}},{"$f":"HLOOKUP(\"הפנמה 2: מלחמת העולם הראשונה - משימת הפנמה\",grade_report!$3:$100,ROWS($A$4:F15),0)","v":{"$error":"#N/A"}},{"$f":"HLOOKUP(\"העשרה 2: מלחמת העולם הראשונה - משימת העשרה - רשות: מלחמת החפירות\",grade_report!$3:$100,ROWS($A$4:G15),0)","v":{"$error":"#N/A"}},null,{"$f":"HLOOKUP(\"שיעור לתלמיד 3: השינויים במעמד המשפטי של יהודי צרפת משלהי המאה ה-18 עד ראשית המאה ה-20 - תת פרק לבחירה\",grade_report!$3:$100,ROWS($A$4:J15),0)","v":{"$error":"#N/A"}},{"$f":"HLOOKUP(\"סיכום פרק 3: השינויים במעמד המשפטי של יהודי צרפת משלהי המאה ה-18 עד ראשית המאה ה-20 -משימת סיכום\",grade_report!$3:$100,ROWS($A$4:J15),0)","v":{"$error":"#N/A"}},{"$f":"HLOOKUP(\"שיעור לתלמיד 4: השינויים במעמד המשפטי של יהודי גרמניה משלהי המאה ה-18 עד ראשית המאה ה-20 - תת פרק לבחירה\",grade_report!$3:$100,ROWS($A$4:O15),0)","v":{"$error":"#N/A"}},{"$f":"HLOOKUP(\"סיכום פרק 4: השינויים במעמד המשפטי של יהודי גרמניה משלהי המאה ה-18 עד ראשית המאה ה-20 - תת פרק לבחירה -משימת סיכום\",grade_report!$3:$100,ROWS($A$4:O15),0)","v":{"$error":"#N/A"}},{"$f":"HLOOKUP(\"שיעור לתלמיד 5: השינויים במעמד המשפטי של היהודים בארצות האסלאם - תהליך האמנציפציה באלג'יריה - תת פרק חובה\",grade_report!$3:$100,ROWS($A$4:A15),0)","v":{"$error":"#N/A"}},{"$f":"HLOOKUP(\"סיכום פרק 5: השינויים במעמד המשפטי של היהודים בארצות האסלאם - תהליך האמנציפציה באלג'יריה - משימת סיכום\",grade_report!$3:$100,ROWS($A$4:A15),0)","v":{"$error":"#N/A"}},{"$f":"HLOOKUP(\"שיעור לתלמיד 6: השלכות השינויים במעמד היהודים על החברה היהודית - תת פרק חובה\",grade_report!$3:$100,ROWS($A$4:D15),0)","v":{"$error":"#N/A"}},{"$f":"HLOOKUP(\"סיכום פרק 6: השפעת הליברליזם על תמורות בחברה היהודית - משימת סיכום - סיכום הסוגיה לכל הפרק\",grade_report!$3:$100,ROWS($A$4:A15),0)","v":{"$error":"#N/A"}},{"$f":"HLOOKUP(\"הפנמה 3: מעמד היהודים משלהי המאה ה-18 ועד תחילת המאה ה-20 - משימת הפנמה לכל הפרק\",grade_report!$3:$100,ROWS($A$4:Q15),0)","v":{"$error":"#N/A"}},{"$f":"HLOOKUP(\"העשרה 3: מעמד היהודים משלהי המאה ה-18 ועד תחילת המאה ה-20 - משימת העשרה לכל הפרק\",grade_report!$3:$100,ROWS($A$4:R15),0)","v":{"$error":"#N/A"}},null,{"$f":"HLOOKUP(\"שיעור לתלמיד 7: השפעת הנאורות על החברה היהודית - תת פרק חובה\",grade_report!$3:$100,ROWS($A$4:A15),0)","v":{"$error":"#N/A"}},{"$f":"HLOOKUP(\"סיכום פרק 7: השפעת הנאורות על החברה היהודית - תת פרק חובה - משימת סיכום\",grade_report!$3:$100,ROWS($A$4:A15),0)","v":{"$error":"#N/A"}},null,{"$f":"HLOOKUP(\"שיעור לתלמיד 8: ניאו אורתודוקסיה - חיוב המודרנה תוך שמירה קפדנית על מצוות הדת - שיעור לתלמיד\",grade_report!$3:$100,ROWS($A$4:D15),0)","v":{"$error":"#N/A"}},{"$f":"HLOOKUP(\"סיכום פרק 8: ניאו אורתודוקסיה - חיוב המודרנה תוך שמירה קפדנית על מצוות הדת - משימת סיכום\",grade_report!$3:$100,ROWS($A$4:D15),0)","v":{"$error":"#N/A"}},{"$f":"HLOOKUP(\"סיכום פרק 9: תנועות וזרמים יהודיים - משימת סיכום לכל הפרק\",grade_report!$3:$100,ROWS($A$4:E15),0)","v":{"$error":"#N/A"}},null,{"$f":"HLOOKUP(\"שיעור לתלמיד 9: מבשרי הציונות וחיבת ציון - שיעור לתלמיד\",grade_report!$3:$100,ROWS($A$4:H15),0)","v":{"$error":"#N/A"}},{"$f":"HLOOKUP(\"סיכום פרק 10: מבשרי הציונות וחיבת ציון - משימת סיכום\",grade_report!$3:$100,ROWS($A$4:H15),0)","v":{"$error":"#N/A"}},{"$f":"HLOOKUP(\"הפנמה 4: מבשרי הציונות וחיבת ציון - משימת הפנמה\",grade_report!$3:$100,ROWS($A$4:AC15),0)","v":{"$error":"#N/A"}},{"$f":"HLOOKUP(\"העשרה 4: מבשרי הציונות וחיבת ציון - משימת העשרה\",grade_report!$3:$100,ROWS($A$4:AD15),0)","v":{"$error":"#N/A"}},null,{"$f":"HLOOKUP(\"שיעור לתלמיד 10: התנועה הציונית והרצל - שיעור לתלמיד\",grade_report!$3:$100,ROWS($A$4:M15),0)","v":{"$error":"#N/A"}},{"$f":"HLOOKUP(\"סיכום פרק 11: התנועה הציונית והרצל - משימת סיכום - סוף ימיו של הרצל\",grade_report!$3:$100,ROWS($A$4:M15),0)","v":{"$error":"#N/A"}},{"$f":"HLOOKUP(\"הפנמה 5: התנועה הציונית והרצל - משימת הפנמה\",grade_report!$3:$100,ROWS($A$4:AH15),0)","v":{"$error":"#N/A"}},{"$f":"HLOOKUP(\"העשרה 5: התנועה הציונית והרצל - משימת העשרה\",grade_report!$3:$100,ROWS($A$4:AI15),0)","v":{"$error":"#N/A"}},null,{"$f":"HLOOKUP(\"שיעור לתלמיד 11: מפלגות, זרמים ומתנגדים - שיעור לתלמיד\",grade_report!$3:$100,ROWS($A$4:R15),0)","v":{"$error":"#N/A"}},{"$f":"HLOOKUP(\"סיכום פרק 12: מפלגות, זרמים ומתנגדים - משימת סיכום\",grade_report!$3:$100,ROWS($A$4:R15),0)","v":{"$error":"#N/A"}},{"$f":"HLOOKUP(\"הפנמה 6: מפלגות, זרמים ומתנגדים - משימת הפנמה\",grade_report!$3:$100,ROWS($A$4:AM15),0)","v":{"$error":"#N/A"}},{"$f":"HLOOKUP(\"העשרה 6: מפלגות, זרמים ומתנגדים - משימת העשרה\",grade_report!$3:$100,ROWS($A$4:AN15),0)","v":{"$error":"#N/A"}},null,{"$f":"HLOOKUP(\"סיכום קורס-ש' סגורות\",grade_report!$3:$100,ROWS($A$4:AP15),0)","v":{"$error":"#N/A"}},{"$f":"HLOOKUP(\"סיכום קורס-ש' פתוחות\",grade_report!$3:$100,ROWS($A$4:AQ15),0)","v":{"$error":"#N/A"}},{"$f":"HLOOKUP(\"תלמידאות\",grade_report!$3:$100,ROWS($A$4:AR15),0)","v":"Not Available"}]
[{"$f":"grade_report!C15","v":"יעל גרינוולד"},{"$f":"grade_report!B15","v":"coolyaelg@gmail.com"},null,{"$f":"VLOOKUP(A13,grade_report!C:D,2,FALSE)","v":0.08},{"$f":"HLOOKUP(\"שיעור לתלמיד 1: נאורוּת - שיעור לתלמיד\",grade_report!$3:$100,ROWS($A$4:A16),0)","v":0.86979166666700003},{"$f":"HLOOKUP(\"סיכום פרק 1: נאורוּת - משימת סיכום\",grade_report!$3:$100,ROWS($A$4:A16),0)","v":"Not Attempted"},{"$f":"HLOOKUP(\"הפנמה 1: נאורוּת - משימת הפנמה\",grade_report!$3:$100,ROWS($A$4:B16),0)","v":4.7619047619000002E-2},{"$f":"HLOOKUP(\"העשרה 1: נאורוּת - משימת העשרה\",grade_report!$3:$100,ROWS($A$4:C16),0)","v":"Not Attempted"},null,{"$f":"HLOOKUP(\"שיעור לתלמיד 2: מלחמת העולם הראשונה - שיעור לתלמיד\",grade_report!$3:$100,ROWS($A$4:E16),0)","v":{"$error":"#N/A"}},{"$f":"HLOOKUP(\"סיכום פרק 2: מלחמת העולם הראשונה - משימת סיכום\",grade_report!$3:$100,ROWS($A$4:E16),0)","v":{"$error":"#N/A"}},{"$f":"HLOOKUP(\"הפנמה 2: מלחמת העולם הראשונה - משימת הפנמה\",grade_report!$3:$100,ROWS($A$4:F16),0)","v":{"$error":"#N/A"}},{"$f":"HLOOKUP(\"העשרה 2: מלחמת העולם הראשונה - משימת העשרה - רשות: מלחמת החפירות\",grade_report!$3:$100,ROWS($A$4:G16),0)","v":{"$error":"#N/A"}},null,{"$f":"HLOOKUP(\"שיעור לתלמיד 3: השינויים במעמד המשפטי של יהודי צרפת משלהי המאה ה-18 עד ראשית המאה ה-20 - תת פרק לבחירה\",grade_report!$3:$100,ROWS($A$4:J16),0)","v":{"$error":"#N/A"}},{"$f":"HLOOKUP(\"סיכום פרק 3: השינויים במעמד המשפטי של יהודי צרפת משלהי המאה ה-18 עד ראשית המאה ה-20 -משימת סיכום\",grade_report!$3:$100,ROWS($A$4:J16),0)","v":{"$error":"#N/A"}},{"$f":"HLOOKUP(\"שיעור לתלמיד 4: השינויים במעמד המשפטי של יהודי גרמניה משלהי המאה ה-18 עד ראשית המאה ה-20 - תת פרק לבחירה\",grade_report!$3:$100,ROWS($A$4:O16),0)","v":{"$error":"#N/A"}},{"$f":"HLOOKUP(\"סיכום פרק 4: השינויים במעמד המשפטי של יהודי גרמניה משלהי המאה ה-18 עד ראשית המאה ה-20 - תת פרק לבחירה -משימת סיכום\",grade_report!$3:$100,ROWS($A$4:O16),0)","v":{"$error":"#N/A"}},{"$f":"HLOOKUP(\"שיעור לתלמיד 5: השינויים במעמד המשפטי של היהודים בארצות האסלאם - תהליך האמנציפציה באלג'יריה - תת פרק חובה\",grade_report!$3:$100,ROWS($A$4:A16),0)","v":{"$error":"#N/A"}},{"$f":"HLOOKUP(\"סיכום פרק 5: השינויים במעמד המשפטי של היהודים בארצות האסלאם - תהליך האמנציפציה באלג'יריה - משימת סיכום\",grade_report!$3:$100,ROWS($A$4:A16),0)","v":{"$error":"#N/A"}},{"$f":"HLOOKUP(\"שיעור לתלמיד 6: השלכות השינויים במעמד היהודים על החברה היהודית - תת פרק חובה\",grade_report!$3:$100,ROWS($A$4:D16),0)","v":{"$error":"#N/A"}},{"$f":"HLOOKUP(\"סיכום פרק 6: השפעת הליברליזם על תמורות בחברה היהודית - משימת סיכום - סיכום הסוגיה לכל הפרק\",grade_report!$3:$100,ROWS($A$4:A16),0)","v":{"$error":"#N/A"}},{"$f":"HLOOKUP(\"הפנמה 3: מעמד היהודים משלהי המאה ה-18 ועד תחילת המאה ה-20 - משימת הפנמה לכל הפרק\",grade_report!$3:$100,ROWS($A$4:Q16),0)","v":{"$error":"#N/A"}},{"$f":"HLOOKUP(\"העשרה 3: מעמד היהודים משלהי המאה ה-18 ועד תחילת המאה ה-20 - משימת העשרה לכל הפרק\",grade_report!$3:$100,ROWS($A$4:R16),0)","v":{"$error":"#N/A"}},null,{"$f":"HLOOKUP(\"שיעור לתלמיד 7: השפעת הנאורות על החברה היהודית - תת פרק חובה\",grade_report!$3:$100,ROWS($A$4:A16),0)","v":{"$error":"#N/A"}},{"$f":"HLOOKUP(\"סיכום פרק 7: השפעת הנאורות על החברה היהודית - תת פרק חובה - משימת סיכום\",grade_report!$3:$100,ROWS($A$4:A16),0)","v":{"$error":"#N/A"}},null,{"$f":"HLOOKUP(\"שיעור לתלמיד 8: ניאו אורתודוקסיה - חיוב המודרנה תוך שמירה קפדנית על מצוות הדת - שיעור לתלמיד\",grade_report!$3:$100,ROWS($A$4:D16),0)","v":{"$error":"#N/A"}},{"$f":"HLOOKUP(\"סיכום פרק 8: ניאו אורתודוקסיה - חיוב המודרנה תוך שמירה קפדנית על מצוות הדת - משימת סיכום\",grade_report!$3:$100,ROWS($A$4:D16),0)","v":{"$error":"#N/A"}},{"$f":"HLOOKUP(\"סיכום פרק 9: תנועות וזרמים יהודיים - משימת סיכום לכל הפרק\",grade_report!$3:$100,ROWS($A$4:E16),0)","v":{"$error":"#N/A"}},null,{"$f":"HLOOKUP(\"שיעור לתלמיד 9: מבשרי הציונות וחיבת ציון - שיעור לתלמיד\",grade_report!$3:$100,ROWS($A$4:H16),0)","v":{"$error":"#N/A"}},{"$f":"HLOOKUP(\"סיכום פרק 10: מבשרי הציונות וחיבת ציון - משימת סיכום\",grade_report!$3:$100,ROWS($A$4:H16),0)","v":{"$error":"#N/A"}},{"$f":"HLOOKUP(\"הפנמה 4: מבשרי הציונות וחיבת ציון - משימת הפנמה\",grade_report!$3:$100,ROWS($A$4:AC16),0)","v":{"$error":"#N/A"}},{"$f":"HLOOKUP(\"העשרה 4: מבשרי הציונות וחיבת ציון - משימת העשרה\",grade_report!$3:$100,ROWS($A$4:AD16),0)","v":{"$error":"#N/A"}},null,{"$f":"HLOOKUP(\"שיעור לתלמיד 10: התנועה הציונית והרצל - שיעור לתלמיד\",grade_report!$3:$100,ROWS($A$4:M16),0)","v":{"$error":"#N/A"}},{"$f":"HLOOKUP(\"סיכום פרק 11: התנועה הציונית והרצל - משימת סיכום - סוף ימיו של הרצל\",grade_report!$3:$100,ROWS($A$4:M16),0)","v":{"$error":"#N/A"}},{"$f":"HLOOKUP(\"הפנמה 5: התנועה הציונית והרצל - משימת הפנמה\",grade_report!$3:$100,ROWS($A$4:AH16),0)","v":{"$error":"#N/A"}},{"$f":"HLOOKUP(\"העשרה 5: התנועה הציונית והרצל - משימת העשרה\",grade_report!$3:$100,ROWS($A$4:AI16),0)","v":{"$error":"#N/A"}},null,{"$f":"HLOOKUP(\"שיעור לתלמיד 11: מפלגות, זרמים ומתנגדים - שיעור לתלמיד\",grade_report!$3:$100,ROWS($A$4:R16),0)","v":{"$error":"#N/A"}},{"$f":"HLOOKUP(\"סיכום פרק 12: מפלגות, זרמים ומתנגדים - משימת סיכום\",grade_report!$3:$100,ROWS($A$4:R16),0)","v":{"$error":"#N/A"}},{"$f":"HLOOKUP(\"הפנמה 6: מפלגות, זרמים ומתנגדים - משימת הפנמה\",grade_report!$3:$100,ROWS($A$4:AM16),0)","v":{"$error":"#N/A"}},{"$f":"HLOOKUP(\"העשרה 6: מפלגות, זרמים ומתנגדים - משימת העשרה\",grade_report!$3:$100,ROWS($A$4:AN16),0)","v":{"$error":"#N/A"}},null,{"$f":"HLOOKUP(\"סיכום קורס-ש' סגורות\",grade_report!$3:$100,ROWS($A$4:AP16),0)","v":{"$error":"#N/A"}},{"$f":"HLOOKUP(\"סיכום קורס-ש' פתוחות\",grade_report!$3:$100,ROWS($A$4:AQ16),0)","v":{"$error":"#N/A"}},{"$f":"HLOOKUP(\"תלמידאות\",grade_report!$3:$100,ROWS($A$4:AR16),0)","v":"Not Available"}]
[{"$f":"grade_report!C16","v":"עדי_יוסף_3"},{"$f":"grade_report!B16","v":"adi8yosef@gmail.com"},null,{"$f":"VLOOKUP(A14,grade_report!C:D,2,FALSE)","v":0.13},{"$f":"HLOOKUP(\"שיעור לתלמיד 1: נאורוּת - שיעור לתלמיד\",grade_report!$3:$100,ROWS($A$4:A17),0)","v":1},{"$f":"HLOOKUP(\"סיכום פרק 1: נאורוּת - משימת סיכום\",grade_report!$3:$100,ROWS($A$4:A17),0)","v":"Not Attempted"},{"$f":"HLOOKUP(\"הפנמה 1: נאורוּת - משימת הפנמה\",grade_report!$3:$100,ROWS($A$4:B17),0)","v":4.7619047619000002E-2},{"$f":"HLOOKUP(\"העשרה 1: נאורוּת - משימת העשרה\",grade_report!$3:$100,ROWS($A$4:C17),0)","v":"Not Attempted"},null,{"$f":"HLOOKUP(\"שיעור לתלמיד 2: מלחמת העולם הראשונה - שיעור לתלמיד\",grade_report!$3:$100,ROWS($A$4:E17),0)","v":{"$error":"#N/A"}},{"$f":"HLOOKUP(\"סיכום פרק 2: מלחמת העולם הראשונה - משימת סיכום\",grade_report!$3:$100,ROWS($A$4:E17),0)","v":{"$error":"#N/A"}},{"$f":"HLOOKUP(\"הפנמה 2: מלחמת העולם הראשונה - משימת הפנמה\",grade_report!$3:$100,ROWS($A$4:F17),0)","v":{"$error":"#N/A"}},{"$f":"HLOOKUP(\"העשרה 2: מלחמת העולם הראשונה - משימת העשרה - רשות: מלחמת החפירות\",grade_report!$3:$100,ROWS($A$4:G17),0)","v":{"$error":"#N/A"}},null,{"$f":"HLOOKUP(\"שיעור לתלמיד 3: השינויים במעמד המשפטי של יהודי צרפת משלהי המאה ה-18 עד ראשית המאה ה-20 - תת פרק לבחירה\",grade_report!$3:$100,ROWS($A$4:J17),0)","v":{"$error":"#N/A"}},{"$f":"HLOOKUP(\"סיכום פרק 3: השינויים במעמד המשפטי של יהודי צרפת משלהי המאה ה-18 עד ראשית המאה ה-20 -משימת סיכום\",grade_report!$3:$100,ROWS($A$4:J17),0)","v":{"$error":"#N/A"}},{"$f":"HLOOKUP(\"שיעור לתלמיד 4: השינויים במעמד המשפטי של יהודי גרמניה משלהי המאה ה-18 עד ראשית המאה ה-20 - תת פרק לבחירה\",grade_report!$3:$100,ROWS($A$4:O17),0)","v":{"$error":"#N/A"}},{"$f":"HLOOKUP(\"סיכום פרק 4: השינויים במעמד המשפטי של יהודי גרמניה משלהי המאה ה-18 עד ראשית המאה ה-20 - תת פרק לבחירה -משימת סיכום\",grade_report!$3:$100,ROWS($A$4:O17),0)","v":{"$error":"#N/A"}},{"$f":"HLOOKUP(\"שיעור לתלמיד 5: השינויים במעמד המשפטי של היהודים בארצות האסלאם - תהליך האמנציפציה באלג'יריה - תת פרק חובה\",grade_report!$3:$100,ROWS($A$4:A17),0)","v":{"$error":"#N/A"}},{"$f":"HLOOKUP(\"סיכום פרק 5: השינויים במעמד המשפטי של היהודים בארצות האסלאם - תהליך האמנציפציה באלג'יריה - משימת סיכום\",grade_report!$3:$100,ROWS($A$4:A17),0)","v":{"$error":"#N/A"}},{"$f":"HLOOKUP(\"שיעור לתלמיד 6: השלכות השינויים במעמד היהודים על החברה היהודית - תת פרק חובה\",grade_report!$3:$100,ROWS($A$4:D17),0)","v":{"$error":"#N/A"}},{"$f":"HLOOKUP(\"סיכום פרק 6: השפעת הליברליזם על תמורות בחברה היהודית - משימת סיכום - סיכום הסוגיה לכל הפרק\",grade_report!$3:$100,ROWS($A$4:A17),0)","v":{"$error":"#N/A"}},{"$f":"HLOOKUP(\"הפנמה 3: מעמד היהודים משלהי המאה ה-18 ועד תחילת המאה ה-20 - משימת הפנמה לכל הפרק\",grade_report!$3:$100,ROWS($A$4:Q17),0)","v":{"$error":"#N/A"}},{"$f":"HLOOKUP(\"העשרה 3: מעמד היהודים משלהי המאה ה-18 ועד תחילת המאה ה-20 - משימת העשרה לכל הפרק\",grade_report!$3:$100,ROWS($A$4:R17),0)","v":{"$error":"#N/A"}},null,{"$f":"HLOOKUP(\"שיעור לתלמיד 7: השפעת הנאורות על החברה היהודית - תת פרק חובה\",grade_report!$3:$100,ROWS($A$4:A17),0)","v":{"$error":"#N/A"}},{"$f":"HLOOKUP(\"סיכום פרק 7: השפעת הנאורות על החברה היהודית - תת פרק חובה - משימת סיכום\",grade_report!$3:$100,ROWS($A$4:A17),0)","v":{"$error":"#N/A"}},null,{"$f":"HLOOKUP(\"שיעור לתלמיד 8: ניאו אורתודוקסיה - חיוב המודרנה תוך שמירה קפדנית על מצוות הדת - שיעור לתלמיד\",grade_report!$3:$100,ROWS($A$4:D17),0)","v":{"$error":"#N/A"}},{"$f":"HLOOKUP(\"סיכום פרק 8: ניאו אורתודוקסיה - חיוב המודרנה תוך שמירה קפדנית על מצוות הדת - משימת סיכום\",grade_report!$3:$100,ROWS($A$4:D17),0)","v":{"$error":"#N/A"}},{"$f":"HLOOKUP(\"סיכום פרק 9: תנועות וזרמים יהודיים - משימת סיכום לכל הפרק\",grade_report!$3:$100,ROWS($A$4:E17),0)","v":{"$error":"#N/A"}},null,{"$f":"HLOOKUP(\"שיעור לתלמיד 9: מבשרי הציונות וחיבת ציון - שיעור לתלמיד\",grade_report!$3:$100,ROWS($A$4:H17),0)","v":{"$error":"#N/A"}},{"$f":"HLOOKUP(\"סיכום פרק 10: מבשרי הציונות וחיבת ציון - משימת סיכום\",grade_report!$3:$100,ROWS($A$4:H17),0)","v":{"$error":"#N/A"}},{"$f":"HLOOKUP(\"הפנמה 4: מבשרי הציונות וחיבת ציון - משימת הפנמה\",grade_report!$3:$100,ROWS($A$4:AC17),0)","v":{"$error":"#N/A"}},{"$f":"HLOOKUP(\"העשרה 4: מבשרי הציונות וחיבת ציון - משימת העשרה\",grade_report!$3:$100,ROWS($A$4:AD17),0)","v":{"$error":"#N/A"}},null,{"$f":"HLOOKUP(\"שיעור לתלמיד 10: התנועה הציונית והרצל - שיעור לתלמיד\",grade_report!$3:$100,ROWS($A$4:M17),0)","v":{"$error":"#N/A"}},{"$f":"HLOOKUP(\"סיכום פרק 11: התנועה הציונית והרצל - משימת סיכום - סוף ימיו של הרצל\",grade_report!$3:$100,ROWS($A$4:M17),0)","v":{"$error":"#N/A"}},{"$f":"HLOOKUP(\"הפנמה 5: התנועה הציונית והרצל - משימת הפנמה\",grade_report!$3:$100,ROWS($A$4:AH17),0)","v":{"$error":"#N/A"}},{"$f":"HLOOKUP(\"העשרה 5: התנועה הציונית והרצל - משימת העשרה\",grade_report!$3:$100,ROWS($A$4:AI17),0)","v":{"$error":"#N/A"}},null,{"$f":"HLOOKUP(\"שיעור לתלמיד 11: מפלגות, זרמים ומתנגדים - שיעור לתלמיד\",grade_report!$3:$100,ROWS($A$4:R17),0)","v":{"$error":"#N/A"}},{"$f":"HLOOKUP(\"סיכום פרק 12: מפלגות, זרמים ומתנגדים - משימת סיכום\",grade_report!$3:$100,ROWS($A$4:R17),0)","v":{"$error":"#N/A"}},{"$f":"HLOOKUP(\"הפנמה 6: מפלגות, זרמים ומתנגדים - משימת הפנמה\",grade_report!$3:$100,ROWS($A$4:AM17),0)","v":{"$error":"#N/A"}},{"$f":"HLOOKUP(\"העשרה 6: מפלגות, זרמים ומתנגדים - משימת העשרה\",grade_report!$3:$100,ROWS($A$4:AN17),0)","v":{"$error":"#N/A"}},null,{"$f":"HLOOKUP(\"סיכום קורס-ש' סגורות\",grade_report!$3:$100,ROWS($A$4:AP17),0)","v":{"$error":"#N/A"}},{"$f":"HLOOKUP(\"סיכום קורס-ש' פתוחות\",grade_report!$3:$100,ROWS($A$4:AQ17),0)","v":{"$error":"#N/A"}},{"$f":"HLOOKUP(\"תלמידאות\",grade_report!$3:$100,ROWS($A$4:AR17),0)","v":"Not Available"}]
[{"$f":"grade_report!C17","v":"אליה תמרי"},{"$f":"grade_report!B17","v":"eliyatamari@gmail.com"},null,{"$f":"VLOOKUP(A15,grade_report!C:D,2,FALSE)","v":7.0000000000000007E-2},{"$f":"HLOOKUP(\"שיעור לתלמיד 1: נאורוּת - שיעור לתלמיד\",grade_report!$3:$100,ROWS($A$4:A18),0)","v":1},{"$f":"HLOOKUP(\"סיכום פרק 1: נאורוּת - משימת סיכום\",grade_report!$3:$100,ROWS($A$4:A18),0)","v":"Not Attempted"},{"$f":"HLOOKUP(\"הפנמה 1: נאורוּת - משימת הפנמה\",grade_report!$3:$100,ROWS($A$4:B18),0)","v":4.7619047619000002E-2},{"$f":"HLOOKUP(\"העשרה 1: נאורוּת - משימת העשרה\",grade_report!$3:$100,ROWS($A$4:C18),0)","v":"Not Attempted"},null,{"$f":"HLOOKUP(\"שיעור לתלמיד 2: מלחמת העולם הראשונה - שיעור לתלמיד\",grade_report!$3:$100,ROWS($A$4:E18),0)","v":{"$error":"#N/A"}},{"$f":"HLOOKUP(\"סיכום פרק 2: מלחמת העולם הראשונה - משימת סיכום\",grade_report!$3:$100,ROWS($A$4:E18),0)","v":{"$error":"#N/A"}},{"$f":"HLOOKUP(\"הפנמה 2: מלחמת העולם הראשונה - משימת הפנמה\",grade_report!$3:$100,ROWS($A$4:F18),0)","v":{"$error":"#N/A"}},{"$f":"HLOOKUP(\"העשרה 2: מלחמת העולם הראשונה - משימת העשרה - רשות: מלחמת החפירות\",grade_report!$3:$100,ROWS($A$4:G18),0)","v":{"$error":"#N/A"}},null,{"$f":"HLOOKUP(\"שיעור לתלמיד 3: השינויים במעמד המשפטי של יהודי צרפת משלהי המאה ה-18 עד ראשית המאה ה-20 - תת פרק לבחירה\",grade_report!$3:$100,ROWS($A$4:J18),0)","v":{"$error":"#N/A"}},{"$f":"HLOOKUP(\"סיכום פרק 3: השינויים במעמד המשפטי של יהודי צרפת משלהי המאה ה-18 עד ראשית המאה ה-20 -משימת סיכום\",grade_report!$3:$100,ROWS($A$4:J18),0)","v":{"$error":"#N/A"}},{"$f":"HLOOKUP(\"שיעור לתלמיד 4: השינויים במעמד המשפטי של יהודי גרמניה משלהי המאה ה-18 עד ראשית המאה ה-20 - תת פרק לבחירה\",grade_report!$3:$100,ROWS($A$4:O18),0)","v":{"$error":"#N/A"}},{"$f":"HLOOKUP(\"סיכום פרק 4: השינויים במעמד המשפטי של יהודי גרמניה משלהי המאה ה-18 עד ראשית המאה ה-20 - תת פרק לבחירה -משימת סיכום\",grade_report!$3:$100,ROWS($A$4:O18),0)","v":{"$error":"#N/A"}},{"$f":"HLOOKUP(\"שיעור לתלמיד 5: השינויים במעמד המשפטי של היהודים בארצות האסלאם - תהליך האמנציפציה באלג'יריה - תת פרק חובה\",grade_report!$3:$100,ROWS($A$4:A18),0)","v":{"$error":"#N/A"}},{"$f":"HLOOKUP(\"סיכום פרק 5: השינויים במעמד המשפטי של היהודים בארצות האסלאם - תהליך האמנציפציה באלג'יריה - משימת סיכום\",grade_report!$3:$100,ROWS($A$4:A18),0)","v":{"$error":"#N/A"}},{"$f":"HLOOKUP(\"שיעור לתלמיד 6: השלכות השינויים במעמד היהודים על החברה היהודית - תת פרק חובה\",grade_report!$3:$100,ROWS($A$4:D18),0)","v":{"$error":"#N/A"}},{"$f":"HLOOKUP(\"סיכום פרק 6: השפעת הליברליזם על תמורות בחברה היהודית - משימת סיכום - סיכום הסוגיה לכל הפרק\",grade_report!$3:$100,ROWS($A$4:A18),0)","v":{"$error":"#N/A"}},{"$f":"HLOOKUP(\"הפנמה 3: מעמד היהודים משלהי המאה ה-18 ועד תחילת המאה ה-20 - משימת הפנמה לכל הפרק\",grade_report!$3:$100,ROWS($A$4:Q18),0)","v":{"$error":"#N/A"}},{"$f":"HLOOKUP(\"העשרה 3: מעמד היהודים משלהי המאה ה-18 ועד תחילת המאה ה-20 - משימת העשרה לכל הפרק\",grade_report!$3:$100,ROWS($A$4:R18),0)","v":{"$error":"#N/A"}},null,{"$f":"HLOOKUP(\"שיעור לתלמיד 7: השפעת הנאורות על החברה היהודית - תת פרק חובה\",grade_report!$3:$100,ROWS($A$4:A18),0)","v":{"$error":"#N/A"}},{"$f":"HLOOKUP(\"סיכום פרק 7: השפעת הנאורות על החברה היהודית - תת פרק חובה - משימת סיכום\",grade_report!$3:$100,ROWS($A$4:A18),0)","v":{"$error":"#N/A"}},null,{"$f":"HLOOKUP(\"שיעור לתלמיד 8: ניאו אורתודוקסיה - חיוב המודרנה תוך שמירה קפדנית על מצוות הדת - שיעור לתלמיד\",grade_report!$3:$100,ROWS($A$4:D18),0)","v":{"$error":"#N/A"}},{"$f":"HLOOKUP(\"סיכום פרק 8: ניאו אורתודוקסיה - חיוב המודרנה תוך שמירה קפדנית על מצוות הדת - משימת סיכום\",grade_report!$3:$100,ROWS($A$4:D18),0)","v":{"$error":"#N/A"}},{"$f":"HLOOKUP(\"סיכום פרק 9: תנועות וזרמים יהודיים - משימת סיכום לכל הפרק\",grade_report!$3:$100,ROWS($A$4:E18),0)","v":{"$error":"#N/A"}},null,{"$f":"HLOOKUP(\"שיעור לתלמיד 9: מבשרי הציונות וחיבת ציון - שיעור לתלמיד\",grade_report!$3:$100,ROWS($A$4:H18),0)","v":{"$error":"#N/A"}},{"$f":"HLOOKUP(\"סיכום פרק 10: מבשרי הציונות וחיבת ציון - משימת סיכום\",grade_report!$3:$100,ROWS($A$4:H18),0)","v":{"$error":"#N/A"}},{"$f":"HLOOKUP(\"הפנמה 4: מבשרי הציונות וחיבת ציון - משימת הפנמה\",grade_report!$3:$100,ROWS($A$4:AC18),0)","v":{"$error":"#N/A"}},{"$f":"HLOOKUP(\"העשרה 4: מבשרי הציונות וחיבת ציון - משימת העשרה\",grade_report!$3:$100,ROWS($A$4:AD18),0)","v":{"$error":"#N/A"}},null,{"$f":"HLOOKUP(\"שיעור לתלמיד 10: התנועה הציונית והרצל - שיעור לתלמיד\",grade_report!$3:$100,ROWS($A$4:M18),0)","v":{"$error":"#N/A"}},{"$f":"HLOOKUP(\"סיכום פרק 11: התנועה הציונית והרצל - משימת סיכום - סוף ימיו של הרצל\",grade_report!$3:$100,ROWS($A$4:M18),0)","v":{"$error":"#N/A"}},{"$f":"HLOOKUP(\"הפנמה 5: התנועה הציונית והרצל - משימת הפנמה\",grade_report!$3:$100,ROWS($A$4:AH18),0)","v":{"$error":"#N/A"}},{"$f":"HLOOKUP(\"העשרה 5: התנועה הציונית והרצל - משימת העשרה\",grade_report!$3:$100,ROWS($A$4:AI18),0)","v":{"$error":"#N/A"}},null,{"$f":"HLOOKUP(\"שיעור לתלמיד 11: מפלגות, זרמים ומתנגדים - שיעור לתלמיד\",grade_report!$3:$100,ROWS($A$4:R18),0)","v":{"$error":"#N/A"}},{"$f":"HLOOKUP(\"סיכום פרק 12: מפלגות, זרמים ומתנגדים - משימת סיכום\",grade_report!$3:$100,ROWS($A$4:R18),0)","v":{"$error":"#N/A"}},{"$f":"HLOOKUP(\"הפנמה 6: מפלגות, זרמים ומתנגדים - משימת הפנמה\",grade_report!$3:$100,ROWS($A$4:AM18),0)","v":{"$error":"#N/A"}},{"$f":"HLOOKUP(\"העשרה 6: מפלגות, זרמים ומתנגדים - משימת העשרה\",grade_report!$3:$100,ROWS($A$4:AN18),0)","v":{"$error":"#N/A"}},null,{"$f":"HLOOKUP(\"סיכום קורס-ש' סגורות\",grade_report!$3:$100,ROWS($A$4:AP18),0)","v":{"$error":"#N/A"}},{"$f":"HLOOKUP(\"סיכום קורס-ש' פתוחות\",grade_report!$3:$100,ROWS($A$4:AQ18),0)","v":{"$error":"#N/A"}},{"$f":"HLOOKUP(\"תלמידאות\",grade_report!$3:$100,ROWS($A$4:AR18),0)","v":"Not Available"}]
[{"$f":"grade_report!C18","v":"אדירה_חנה_יעקב"},{"$f":"grade_report!B18","v":"adira.yaacov@gmail.com"},null,{"$f":"VLOOKUP(A16,grade_report!C:D,2,FALSE)","v":7.0000000000000007E-2},{"$f":"HLOOKUP(\"שיעור לתלמיד 1: נאורוּת - שיעור לתלמיד\",grade_report!$3:$100,ROWS($A$4:A19),0)","v":1},{"$f":"HLOOKUP(\"סיכום פרק 1: נאורוּת - משימת סיכום\",grade_report!$3:$100,ROWS($A$4:A19),0)","v":"Not Attempted"},{"$f":"HLOOKUP(\"הפנמה 1: נאורוּת - משימת הפנמה\",grade_report!$3:$100,ROWS($A$4:B19),0)","v":"Not Attempted"},{"$f":"HLOOKUP(\"העשרה 1: נאורוּת - משימת העשרה\",grade_report!$3:$100,ROWS($A$4:C19),0)","v":"Not Attempted"},null,{"$f":"HLOOKUP(\"שיעור לתלמיד 2: מלחמת העולם הראשונה - שיעור לתלמיד\",grade_report!$3:$100,ROWS($A$4:E19),0)","v":{"$error":"#N/A"}},{"$f":"HLOOKUP(\"סיכום פרק 2: מלחמת העולם הראשונה - משימת סיכום\",grade_report!$3:$100,ROWS($A$4:E19),0)","v":{"$error":"#N/A"}},{"$f":"HLOOKUP(\"הפנמה 2: מלחמת העולם הראשונה - משימת הפנמה\",grade_report!$3:$100,ROWS($A$4:F19),0)","v":{"$error":"#N/A"}},{"$f":"HLOOKUP(\"העשרה 2: מלחמת העולם הראשונה - משימת העשרה - רשות: מלחמת החפירות\",grade_report!$3:$100,ROWS($A$4:G19),0)","v":{"$error":"#N/A"}},null,{"$f":"HLOOKUP(\"שיעור לתלמיד 3: השינויים במעמד המשפטי של יהודי צרפת משלהי המאה ה-18 עד ראשית המאה ה-20 - תת פרק לבחירה\",grade_report!$3:$100,ROWS($A$4:J19),0)","v":{"$error":"#N/A"}},{"$f":"HLOOKUP(\"סיכום פרק 3: השינויים במעמד המשפטי של יהודי צרפת משלהי המאה ה-18 עד ראשית המאה ה-20 -משימת סיכום\",grade_report!$3:$100,ROWS($A$4:J19),0)","v":{"$error":"#N/A"}},{"$f":"HLOOKUP(\"שיעור לתלמיד 4: השינויים במעמד המשפטי של יהודי גרמניה משלהי המאה ה-18 עד ראשית המאה ה-20 - תת פרק לבחירה\",grade_report!$3:$100,ROWS($A$4:O19),0)","v":{"$error":"#N/A"}},{"$f":"HLOOKUP(\"סיכום פרק 4: השינויים במעמד המשפטי של יהודי גרמניה משלהי המאה ה-18 עד ראשית המאה ה-20 - תת פרק לבחירה -משימת סיכום\",grade_report!$3:$100,ROWS($A$4:O19),0)","v":{"$error":"#N/A"}},{"$f":"HLOOKUP(\"שיעור לתלמיד 5: השינויים במעמד המשפטי של היהודים בארצות האסלאם - תהליך האמנציפציה באלג'יריה - תת פרק חובה\",grade_report!$3:$100,ROWS($A$4:A19),0)","v":{"$error":"#N/A"}},{"$f":"HLOOKUP(\"סיכום פרק 5: השינויים במעמד המשפטי של היהודים בארצות האסלאם - תהליך האמנציפציה באלג'יריה - משימת סיכום\",grade_report!$3:$100,ROWS($A$4:A19),0)","v":{"$error":"#N/A"}},{"$f":"HLOOKUP(\"שיעור לתלמיד 6: השלכות השינויים במעמד היהודים על החברה היהודית - תת פרק חובה\",grade_report!$3:$100,ROWS($A$4:D19),0)","v":{"$error":"#N/A"}},{"$f":"HLOOKUP(\"סיכום פרק 6: השפעת הליברליזם על תמורות בחברה היהודית - משימת סיכום - סיכום הסוגיה לכל הפרק\",grade_report!$3:$100,ROWS($A$4:A19),0)","v":{"$error":"#N/A"}},{"$f":"HLOOKUP(\"הפנמה 3: מעמד היהודים משלהי המאה ה-18 ועד תחילת המאה ה-20 - משימת הפנמה לכל הפרק\",grade_report!$3:$100,ROWS($A$4:Q19),0)","v":{"$error":"#N/A"}},{"$f":"HLOOKUP(\"העשרה 3: מעמד היהודים משלהי המאה ה-18 ועד תחילת המאה ה-20 - משימת העשרה לכל הפרק\",grade_report!$3:$100,ROWS($A$4:R19),0)","v":{"$error":"#N/A"}},null,{"$f":"HLOOKUP(\"שיעור לתלמיד 7: השפעת הנאורות על החברה היהודית - תת פרק חובה\",grade_report!$3:$100,ROWS($A$4:A19),0)","v":{"$error":"#N/A"}},{"$f":"HLOOKUP(\"סיכום פרק 7: השפעת הנאורות על החברה היהודית - תת פרק חובה - משימת סיכום\",grade_report!$3:$100,ROWS($A$4:A19),0)","v":{"$error":"#N/A"}},null,{"$f":"HLOOKUP(\"שיעור לתלמיד 8: ניאו אורתודוקסיה - חיוב המודרנה תוך שמירה קפדנית על מצוות הדת - שיעור לתלמיד\",grade_report!$3:$100,ROWS($A$4:D19),0)","v":{"$error":"#N/A"}},{"$f":"HLOOKUP(\"סיכום פרק 8: ניאו אורתודוקסיה - חיוב המודרנה תוך שמירה קפדנית על מצוות הדת - משימת סיכום\",grade_report!$3:$100,ROWS($A$4:D19),0)","v":{"$error":"#N/A"}},{"$f":"HLOOKUP(\"סיכום פרק 9: תנועות וזרמים יהודיים - משימת סיכום לכל הפרק\",grade_report!$3:$100,ROWS($A$4:E19),0)","v":{"$error":"#N/A"}},null,{"$f":"HLOOKUP(\"שיעור לתלמיד 9: מבשרי הציונות וחיבת ציון - שיעור לתלמיד\",grade_report!$3:$100,ROWS($A$4:H19),0)","v":{"$error":"#N/A"}},{"$f":"HLOOKUP(\"סיכום פרק 10: מבשרי הציונות וחיבת ציון - משימת סיכום\",grade_report!$3:$100,ROWS($A$4:H19),0)","v":{"$error":"#N/A"}},{"$f":"HLOOKUP(\"הפנמה 4: מבשרי הציונות וחיבת ציון - משימת הפנמה\",grade_report!$3:$100,ROWS($A$4:AC19),0)","v":{"$error":"#N/A"}},{"$f":"HLOOKUP(\"העשרה 4: מבשרי הציונות וחיבת ציון - משימת העשרה\",grade_report!$3:$100,ROWS($A$4:AD19),0)","v":{"$error":"#N/A"}},null,{"$f":"HLOOKUP(\"שיעור לתלמיד 10: התנועה הציונית והרצל - שיעור לתלמיד\",grade_report!$3:$100,ROWS($A$4:M19),0)","v":{"$error":"#N/A"}},{"$f":"HLOOKUP(\"סיכום פרק 11: התנועה הציונית והרצל - משימת סיכום - סוף ימיו של הרצל\",grade_report!$3:$100,ROWS($A$4:M19),0)","v":{"$error":"#N/A"}},{"$f":"HLOOKUP(\"הפנמה 5: התנועה הציונית והרצל - משימת הפנמה\",grade_report!$3:$100,ROWS($A$4:AH19),0)","v":{"$error":"#N/A"}},{"$f":"HLOOKUP(\"העשרה 5: התנועה הציונית והרצל - משימת העשרה\",grade_report!$3:$100,ROWS($A$4:AI19),0)","v":{"$error":"#N/A"}},null,{"$f":"HLOOKUP(\"שיעור לתלמיד 11: מפלגות, זרמים ומתנגדים - שיעור לתלמיד\",grade_report!$3:$100,ROWS($A$4:R19),0)","v":{"$error":"#N/A"}},{"$f":"HLOOKUP(\"סיכום פרק 12: מפלגות, זרמים ומתנגדים - משימת סיכום\",grade_report!$3:$100,ROWS($A$4:R19),0)","v":{"$error":"#N/A"}},{"$f":"HLOOKUP(\"הפנמה 6: מפלגות, זרמים ומתנגדים - משימת הפנמה\",grade_report!$3:$100,ROWS($A$4:AM19),0)","v":{"$error":"#N/A"}},{"$f":"HLOOKUP(\"העשרה 6: מפלגות, זרמים ומתנגדים - משימת העשרה\",grade_report!$3:$100,ROWS($A$4:AN19),0)","v":{"$error":"#N/A"}},null,{"$f":"HLOOKUP(\"סיכום קורס-ש' סגורות\",grade_report!$3:$100,ROWS($A$4:AP19),0)","v":{"$error":"#N/A"}},{"$f":"HLOOKUP(\"סיכום קורס-ש' פתוחות\",grade_report!$3:$100,ROWS($A$4:AQ19),0)","v":{"$error":"#N/A"}},{"$f":"HLOOKUP(\"תלמידאות\",grade_report!$3:$100,ROWS($A$4:AR19),0)","v":"Not Available"}]
[{"$f":"grade_report!C19","v":"דולב_בן_צור"},{"$f":"grade_report!B19","v":"dolev1231bt@gmail.com"},null,{"$f":"VLOOKUP(A17,grade_report!C:D,2,FALSE)","v":0},{"$f":"HLOOKUP(\"שיעור לתלמיד 1: נאורוּת - שיעור לתלמיד\",grade_report!$3:$100,ROWS($A$4:A20),0)","v":"Not Attempted"},{"$f":"HLOOKUP(\"סיכום פרק 1: נאורוּת - משימת סיכום\",grade_report!$3:$100,ROWS($A$4:A20),0)","v":"Not Attempted"},{"$f":"HLOOKUP(\"הפנמה 1: נאורוּת - משימת הפנמה\",grade_report!$3:$100,ROWS($A$4:B20),0)","v":"Not Attempted"},{"$f":"HLOOKUP(\"העשרה 1: נאורוּת - משימת העשרה\",grade_report!$3:$100,ROWS($A$4:C20),0)","v":"Not Attempted"},null,{"$f":"HLOOKUP(\"שיעור לתלמיד 2: מלחמת העולם הראשונה - שיעור לתלמיד\",grade_report!$3:$100,ROWS($A$4:E20),0)","v":{"$error":"#N/A"}},{"$f":"HLOOKUP(\"סיכום פרק 2: מלחמת העולם הראשונה - משימת סיכום\",grade_report!$3:$100,ROWS($A$4:E20),0)","v":{"$error":"#N/A"}},{"$f":"HLOOKUP(\"הפנמה 2: מלחמת העולם הראשונה - משימת הפנמה\",grade_report!$3:$100,ROWS($A$4:F20),0)","v":{"$error":"#N/A"}},{"$f":"HLOOKUP(\"העשרה 2: מלחמת העולם הראשונה - משימת העשרה - רשות: מלחמת החפירות\",grade_report!$3:$100,ROWS($A$4:G20),0)","v":{"$error":"#N/A"}},null,{"$f":"HLOOKUP(\"שיעור לתלמיד 3: השינויים במעמד המשפטי של יהודי צרפת משלהי המאה ה-18 עד ראשית המאה ה-20 - תת פרק לבחירה\",grade_report!$3:$100,ROWS($A$4:J20),0)","v":{"$error":"#N/A"}},{"$f":"HLOOKUP(\"סיכום פרק 3: השינויים במעמד המשפטי של יהודי צרפת משלהי המאה ה-18 עד ראשית המאה ה-20 -משימת סיכום\",grade_report!$3:$100,ROWS($A$4:J20),0)","v":{"$error":"#N/A"}},{"$f":"HLOOKUP(\"שיעור לתלמיד 4: השינויים במעמד המשפטי של יהודי גרמניה משלהי המאה ה-18 עד ראשית המאה ה-20 - תת פרק לבחירה\",grade_report!$3:$100,ROWS($A$4:O20),0)","v":{"$error":"#N/A"}},{"$f":"HLOOKUP(\"סיכום פרק 4: השינויים במעמד המשפטי של יהודי גרמניה משלהי המאה ה-18 עד ראשית המאה ה-20 - תת פרק לבחירה -משימת סיכום\",grade_report!$3:$100,ROWS($A$4:O20),0)","v":{"$error":"#N/A"}},{"$f":"HLOOKUP(\"שיעור לתלמיד 5: השינויים במעמד המשפטי של היהודים בארצות האסלאם - תהליך האמנציפציה באלג'יריה - תת פרק חובה\",grade_report!$3:$100,ROWS($A$4:A20),0)","v":{"$error":"#N/A"}},{"$f":"HLOOKUP(\"סיכום פרק 5: השינויים במעמד המשפטי של היהודים בארצות האסלאם - תהליך האמנציפציה באלג'יריה - משימת סיכום\",grade_report!$3:$100,ROWS($A$4:A20),0)","v":{"$error":"#N/A"}},{"$f":"HLOOKUP(\"שיעור לתלמיד 6: השלכות השינויים במעמד היהודים על החברה היהודית - תת פרק חובה\",grade_report!$3:$100,ROWS($A$4:D20),0)","v":{"$error":"#N/A"}},{"$f":"HLOOKUP(\"סיכום פרק 6: השפעת הליברליזם על תמורות בחברה היהודית - משימת סיכום - סיכום הסוגיה לכל הפרק\",grade_report!$3:$100,ROWS($A$4:A20),0)","v":{"$error":"#N/A"}},{"$f":"HLOOKUP(\"הפנמה 3: מעמד היהודים משלהי המאה ה-18 ועד תחילת המאה ה-20 - משימת הפנמה לכל הפרק\",grade_report!$3:$100,ROWS($A$4:Q20),0)","v":{"$error":"#N/A"}},{"$f":"HLOOKUP(\"העשרה 3: מעמד היהודים משלהי המאה ה-18 ועד תחילת המאה ה-20 - משימת העשרה לכל הפרק\",grade_report!$3:$100,ROWS($A$4:R20),0)","v":{"$error":"#N/A"}},null,{"$f":"HLOOKUP(\"שיעור לתלמיד 7: השפעת הנאורות על החברה היהודית - תת פרק חובה\",grade_report!$3:$100,ROWS($A$4:A20),0)","v":{"$error":"#N/A"}},{"$f":"HLOOKUP(\"סיכום פרק 7: השפעת הנאורות על החברה היהודית - תת פרק חובה - משימת סיכום\",grade_report!$3:$100,ROWS($A$4:A20),0)","v":{"$error":"#N/A"}},null,{"$f":"HLOOKUP(\"שיעור לתלמיד 8: ניאו אורתודוקסיה - חיוב המודרנה תוך שמירה קפדנית על מצוות הדת - שיעור לתלמיד\",grade_report!$3:$100,ROWS($A$4:D20),0)","v":{"$error":"#N/A"}},{"$f":"HLOOKUP(\"סיכום פרק 8: ניאו אורתודוקסיה - חיוב המודרנה תוך שמירה קפדנית על מצוות הדת - משימת סיכום\",grade_report!$3:$100,ROWS($A$4:D20),0)","v":{"$error":"#N/A"}},{"$f":"HLOOKUP(\"סיכום פרק 9: תנועות וזרמים יהודיים - משימת סיכום לכל הפרק\",grade_report!$3:$100,ROWS($A$4:E20),0)","v":{"$error":"#N/A"}},null,{"$f":"HLOOKUP(\"שיעור לתלמיד 9: מבשרי הציונות וחיבת ציון - שיעור לתלמיד\",grade_report!$3:$100,ROWS($A$4:H20),0)","v":{"$error":"#N/A"}},{"$f":"HLOOKUP(\"סיכום פרק 10: מבשרי הציונות וחיבת ציון - משימת סיכום\",grade_report!$3:$100,ROWS($A$4:H20),0)","v":{"$error":"#N/A"}},{"$f":"HLOOKUP(\"הפנמה 4: מבשרי הציונות וחיבת ציון - משימת הפנמה\",grade_report!$3:$100,ROWS($A$4:AC20),0)","v":{"$error":"#N/A"}},{"$f":"HLOOKUP(\"העשרה 4: מבשרי הציונות וחיבת ציון - משימת העשרה\",grade_report!$3:$100,ROWS($A$4:AD20),0)","v":{"$error":"#N/A"}},null,{"$f":"HLOOKUP(\"שיעור לתלמיד 10: התנועה הציונית והרצל - שיעור לתלמיד\",grade_report!$3:$100,ROWS($A$4:M20),0)","v":{"$error":"#N/A"}},{"$f":"HLOOKUP(\"סיכום פרק 11: התנועה הציונית והרצל - משימת סיכום - סוף ימיו של הרצל\",grade_report!$3:$100,ROWS($A$4:M20),0)","v":{"$error":"#N/A"}},{"$f":"HLOOKUP(\"הפנמה 5: התנועה הציונית והרצל - משימת הפנמה\",grade_report!$3:$100,ROWS($A$4:AH20),0)","v":{"$error":"#N/A"}},{"$f":"HLOOKUP(\"העשרה 5: התנועה הציונית והרצל - משימת העשרה\",grade_report!$3:$100,ROWS($A$4:AI20),0)","v":{"$error":"#N/A"}},null,{"$f":"HLOOKUP(\"שיעור לתלמיד 11: מפלגות, זרמים ומתנגדים - שיעור לתלמיד\",grade_report!$3:$100,ROWS($A$4:R20),0)","v":{"$error":"#N/A"}},{"$f":"HLOOKUP(\"סיכום פרק 12: מפלגות, זרמים ומתנגדים - משימת סיכום\",grade_report!$3:$100,ROWS($A$4:R20),0)","v":{"$error":"#N/A"}},{"$f":"HLOOKUP(\"הפנמה 6: מפלגות, זרמים ומתנגדים - משימת הפנמה\",grade_report!$3:$100,ROWS($A$4:AM20),0)","v":{"$error":"#N/A"}},{"$f":"HLOOKUP(\"העשרה 6: מפלגות, זרמים ומתנגדים - משימת העשרה\",grade_report!$3:$100,ROWS($A$4:AN20),0)","v":{"$error":"#N/A"}},null,{"$f":"HLOOKUP(\"סיכום קורס-ש' סגורות\",grade_report!$3:$100,ROWS($A$4:AP20),0)","v":{"$error":"#N/A"}},{"$f":"HLOOKUP(\"סיכום קורס-ש' פתוחות\",grade_report!$3:$100,ROWS($A$4:AQ20),0)","v":{"$error":"#N/A"}},{"$f":"HLOOKUP(\"תלמידאות\",grade_report!$3:$100,ROWS($A$4:AR20),0)","v":"Not Available"}]
[{"$f":"grade_report!C20","v":"טליה_דוד_1"},{"$f":"grade_report!B20","v":"talya123david@gmail.com"},null,{"$f":"VLOOKUP(A18,grade_report!C:D,2,FALSE)","v":0.08},{"$f":"HLOOKUP(\"שיעור לתלמיד 1: נאורוּת - שיעור לתלמיד\",grade_report!$3:$100,ROWS($A$4:A21),0)","v":0.99479166666700003},{"$f":"HLOOKUP(\"סיכום פרק 1: נאורוּת - משימת סיכום\",grade_report!$3:$100,ROWS($A$4:A21),0)","v":"Not Attempted"},{"$f":"HLOOKUP(\"הפנמה 1: נאורוּת - משימת הפנמה\",grade_report!$3:$100,ROWS($A$4:B21),0)","v":4.7619047619000002E-2},{"$f":"HLOOKUP(\"העשרה 1: נאורוּת - משימת העשרה\",grade_report!$3:$100,ROWS($A$4:C21),0)","v":"Not Attempted"},null,{"$f":"HLOOKUP(\"שיעור לתלמיד 2: מלחמת העולם הראשונה - שיעור לתלמיד\",grade_report!$3:$100,ROWS($A$4:E21),0)","v":{"$error":"#N/A"}},{"$f":"HLOOKUP(\"סיכום פרק 2: מלחמת העולם הראשונה - משימת סיכום\",grade_report!$3:$100,ROWS($A$4:E21),0)","v":{"$error":"#N/A"}},{"$f":"HLOOKUP(\"הפנמה 2: מלחמת העולם הראשונה - משימת הפנמה\",grade_report!$3:$100,ROWS($A$4:F21),0)","v":{"$error":"#N/A"}},{"$f":"HLOOKUP(\"העשרה 2: מלחמת העולם הראשונה - משימת העשרה - רשות: מלחמת החפירות\",grade_report!$3:$100,ROWS($A$4:G21),0)","v":{"$error":"#N/A"}},null,{"$f":"HLOOKUP(\"שיעור לתלמיד 3: השינויים במעמד המשפטי של יהודי צרפת משלהי המאה ה-18 עד ראשית המאה ה-20 - תת פרק לבחירה\",grade_report!$3:$100,ROWS($A$4:J21),0)","v":{"$error":"#N/A"}},{"$f":"HLOOKUP(\"סיכום פרק 3: השינויים במעמד המשפטי של יהודי צרפת משלהי המאה ה-18 עד ראשית המאה ה-20 -משימת סיכום\",grade_report!$3:$100,ROWS($A$4:J21),0)","v":{"$error":"#N/A"}},{"$f":"HLOOKUP(\"שיעור לתלמיד 4: השינויים במעמד המשפטי של יהודי גרמניה משלהי המאה ה-18 עד ראשית המאה ה-20 - תת פרק לבחירה\",grade_report!$3:$100,ROWS($A$4:O21),0)","v":{"$error":"#N/A"}},{"$f":"HLOOKUP(\"סיכום פרק 4: השינויים במעמד המשפטי של יהודי גרמניה משלהי המאה ה-18 עד ראשית המאה ה-20 - תת פרק לבחירה -משימת סיכום\",grade_report!$3:$100,ROWS($A$4:O21),0)","v":{"$error":"#N/A"}},{"$f":"HLOOKUP(\"שיעור לתלמיד 5: השינויים במעמד המשפטי של היהודים בארצות האסלאם - תהליך האמנציפציה באלג'יריה - תת פרק חובה\",grade_report!$3:$100,ROWS($A$4:A21),0)","v":{"$error":"#N/A"}},{"$f":"HLOOKUP(\"סיכום פרק 5: השינויים במעמד המשפטי של היהודים בארצות האסלאם - תהליך האמנציפציה באלג'יריה - משימת סיכום\",grade_report!$3:$100,ROWS($A$4:A21),0)","v":{"$error":"#N/A"}},{"$f":"HLOOKUP(\"שיעור לתלמיד 6: השלכות השינויים במעמד היהודים על החברה היהודית - תת פרק חובה\",grade_report!$3:$100,ROWS($A$4:D21),0)","v":{"$error":"#N/A"}},{"$f":"HLOOKUP(\"סיכום פרק 6: השפעת הליברליזם על תמורות בחברה היהודית - משימת סיכום - סיכום הסוגיה לכל הפרק\",grade_report!$3:$100,ROWS($A$4:A21),0)","v":{"$error":"#N/A"}},{"$f":"HLOOKUP(\"הפנמה 3: מעמד היהודים משלהי המאה ה-18 ועד תחילת המאה ה-20 - משימת הפנמה לכל הפרק\",grade_report!$3:$100,ROWS($A$4:Q21),0)","v":{"$error":"#N/A"}},{"$f":"HLOOKUP(\"העשרה 3: מעמד היהודים משלהי המאה ה-18 ועד תחילת המאה ה-20 - משימת העשרה לכל הפרק\",grade_report!$3:$100,ROWS($A$4:R21),0)","v":{"$error":"#N/A"}},null,{"$f":"HLOOKUP(\"שיעור לתלמיד 7: השפעת הנאורות על החברה היהודית - תת פרק חובה\",grade_report!$3:$100,ROWS($A$4:A21),0)","v":{"$error":"#N/A"}},{"$f":"HLOOKUP(\"סיכום פרק 7: השפעת הנאורות על החברה היהודית - תת פרק חובה - משימת סיכום\",grade_report!$3:$100,ROWS($A$4:A21),0)","v":{"$error":"#N/A"}},null,{"$f":"HLOOKUP(\"שיעור לתלמיד 8: ניאו אורתודוקסיה - חיוב המודרנה תוך שמירה קפדנית על מצוות הדת - שיעור לתלמיד\",grade_report!$3:$100,ROWS($A$4:D21),0)","v":{"$error":"#N/A"}},{"$f":"HLOOKUP(\"סיכום פרק 8: ניאו אורתודוקסיה - חיוב המודרנה תוך שמירה קפדנית על מצוות הדת - משימת סיכום\",grade_report!$3:$100,ROWS($A$4:D21),0)","v":{"$error":"#N/A"}},{"$f":"HLOOKUP(\"סיכום פרק 9: תנועות וזרמים יהודיים - משימת סיכום לכל הפרק\",grade_report!$3:$100,ROWS($A$4:E21),0)","v":{"$error":"#N/A"}},null,{"$f":"HLOOKUP(\"שיעור לתלמיד 9: מבשרי הציונות וחיבת ציון - שיעור לתלמיד\",grade_report!$3:$100,ROWS($A$4:H21),0)","v":{"$error":"#N/A"}},{"$f":"HLOOKUP(\"סיכום פרק 10: מבשרי הציונות וחיבת ציון - משימת סיכום\",grade_report!$3:$100,ROWS($A$4:H21),0)","v":{"$error":"#N/A"}},{"$f":"HLOOKUP(\"הפנמה 4: מבשרי הציונות וחיבת ציון - משימת הפנמה\",grade_report!$3:$100,ROWS($A$4:AC21),0)","v":{"$error":"#N/A"}},{"$f":"HLOOKUP(\"העשרה 4: מבשרי הציונות וחיבת ציון - משימת העשרה\",grade_report!$3:$100,ROWS($A$4:AD21),0)","v":{"$error":"#N/A"}},null,{"$f":"HLOOKUP(\"שיעור לתלמיד 10: התנועה הציונית והרצל - שיעור לתלמיד\",grade_report!$3:$100,ROWS($A$4:M21),0)","v":{"$error":"#N/A"}},{"$f":"HLOOKUP(\"סיכום פרק 11: התנועה הציונית והרצל - משימת סיכום - סוף ימיו של הרצל\",grade_report!$3:$100,ROWS($A$4:M21),0)","v":{"$error":"#N/A"}},{"$f":"HLOOKUP(\"הפנמה 5: התנועה הציונית והרצל - משימת הפנמה\",grade_report!$3:$100,ROWS($A$4:AH21),0)","v":{"$error":"#N/A"}},{"$f":"HLOOKUP(\"העשרה 5: התנועה הציונית והרצל - משימת העשרה\",grade_report!$3:$100,ROWS($A$4:AI21),0)","v":{"$error":"#N/A"}},null,{"$f":"HLOOKUP(\"שיעור לתלמיד 11: מפלגות, זרמים ומתנגדים - שיעור לתלמיד\",grade_report!$3:$100,ROWS($A$4:R21),0)","v":{"$error":"#N/A"}},{"$f":"HLOOKUP(\"סיכום פרק 12: מפלגות, זרמים ומתנגדים - משימת סיכום\",grade_report!$3:$100,ROWS($A$4:R21),0)","v":{"$error":"#N/A"}},{"$f":"HLOOKUP(\"הפנמה 6: מפלגות, זרמים ומתנגדים - משימת הפנמה\",grade_report!$3:$100,ROWS($A$4:AM21),0)","v":{"$error":"#N/A"}},{"$f":"HLOOKUP(\"העשרה 6: מפלגות, זרמים ומתנגדים - משימת העשרה\",grade_report!$3:$100,ROWS($A$4:AN21),0)","v":{"$error":"#N/A"}},null,{"$f":"HLOOKUP(\"סיכום קורס-ש' סגורות\",grade_report!$3:$100,ROWS($A$4:AP21),0)","v":{"$error":"#N/A"}},{"$f":"HLOOKUP(\"סיכום קורס-ש' פתוחות\",grade_report!$3:$100,ROWS($A$4:AQ21),0)","v":{"$error":"#N/A"}},{"$f":"HLOOKUP(\"תלמידאות\",grade_report!$3:$100,ROWS($A$4:AR21),0)","v":"Not Available"}]
[{"$f":"grade_report!C21","v":"נטע_הייזלר"},{"$f":"grade_report!B21","v":"netah10000@gmail.com"},null,{"$f":"VLOOKUP(A19,grade_report!C:D,2,FALSE)","v":0.08},{"$f":"HLOOKUP(\"שיעור לתלמיד 1: נאורוּת - שיעור לתלמיד\",grade_report!$3:$100,ROWS($A$4:A22),0)","v":"Not Attempted"},{"$f":"HLOOKUP(\"סיכום פרק 1: נאורוּת - משימת סיכום\",grade_report!$3:$100,ROWS($A$4:A22),0)","v":"Not Attempted"},{"$f":"HLOOKUP(\"הפנמה 1: נאורוּת - משימת הפנמה\",grade_report!$3:$100,ROWS($A$4:B22),0)","v":"Not Attempted"},{"$f":"HLOOKUP(\"העשרה 1: נאורוּת - משימת העשרה\",grade_report!$3:$100,ROWS($A$4:C22),0)","v":"Not Attempted"},null,{"$f":"HLOOKUP(\"שיעור לתלמיד 2: מלחמת העולם הראשונה - שיעור לתלמיד\",grade_report!$3:$100,ROWS($A$4:E22),0)","v":{"$error":"#N/A"}},{"$f":"HLOOKUP(\"סיכום פרק 2: מלחמת העולם הראשונה - משימת סיכום\",grade_report!$3:$100,ROWS($A$4:E22),0)","v":{"$error":"#N/A"}},{"$f":"HLOOKUP(\"הפנמה 2: מלחמת העולם הראשונה - משימת הפנמה\",grade_report!$3:$100,ROWS($A$4:F22),0)","v":{"$error":"#N/A"}},{"$f":"HLOOKUP(\"העשרה 2: מלחמת העולם הראשונה - משימת העשרה - רשות: מלחמת החפירות\",grade_report!$3:$100,ROWS($A$4:G22),0)","v":{"$error":"#N/A"}},null,{"$f":"HLOOKUP(\"שיעור לתלמיד 3: השינויים במעמד המשפטי של יהודי צרפת משלהי המאה ה-18 עד ראשית המאה ה-20 - תת פרק לבחירה\",grade_report!$3:$100,ROWS($A$4:J22),0)","v":{"$error":"#N/A"}},{"$f":"HLOOKUP(\"סיכום פרק 3: השינויים במעמד המשפטי של יהודי צרפת משלהי המאה ה-18 עד ראשית המאה ה-20 -משימת סיכום\",grade_report!$3:$100,ROWS($A$4:J22),0)","v":{"$error":"#N/A"}},{"$f":"HLOOKUP(\"שיעור לתלמיד 4: השינויים במעמד המשפטי של יהודי גרמניה משלהי המאה ה-18 עד ראשית המאה ה-20 - תת פרק לבחירה\",grade_report!$3:$100,ROWS($A$4:O22),0)","v":{"$error":"#N/A"}},{"$f":"HLOOKUP(\"סיכום פרק 4: השינויים במעמד המשפטי של יהודי גרמניה משלהי המאה ה-18 עד ראשית המאה ה-20 - תת פרק לבחירה -משימת סיכום\",grade_report!$3:$100,ROWS($A$4:O22),0)","v":{"$error":"#N/A"}},{"$f":"HLOOKUP(\"שיעור לתלמיד 5: השינויים במעמד המשפטי של היהודים בארצות האסלאם - תהליך האמנציפציה באלג'יריה - תת פרק חובה\",grade_report!$3:$100,ROWS($A$4:A22),0)","v":{"$error":"#N/A"}},{"$f":"HLOOKUP(\"סיכום פרק 5: השינויים במעמד המשפטי של היהודים בארצות האסלאם - תהליך האמנציפציה באלג'יריה - משימת סיכום\",grade_report!$3:$100,ROWS($A$4:A22),0)","v":{"$error":"#N/A"}},{"$f":"HLOOKUP(\"שיעור לתלמיד 6: השלכות השינויים במעמד היהודים על החברה היהודית - תת פרק חובה\",grade_report!$3:$100,ROWS($A$4:D22),0)","v":{"$error":"#N/A"}},{"$f":"HLOOKUP(\"סיכום פרק 6: השפעת הליברליזם על תמורות בחברה היהודית - משימת סיכום - סיכום הסוגיה לכל הפרק\",grade_report!$3:$100,ROWS($A$4:A22),0)","v":{"$error":"#N/A"}},{"$f":"HLOOKUP(\"הפנמה 3: מעמד היהודים משלהי המאה ה-18 ועד תחילת המאה ה-20 - משימת הפנמה לכל הפרק\",grade_report!$3:$100,ROWS($A$4:Q22),0)","v":{"$error":"#N/A"}},{"$f":"HLOOKUP(\"העשרה 3: מעמד היהודים משלהי המאה ה-18 ועד תחילת המאה ה-20 - משימת העשרה לכל הפרק\",grade_report!$3:$100,ROWS($A$4:R22),0)","v":{"$error":"#N/A"}},null,{"$f":"HLOOKUP(\"שיעור לתלמיד 7: השפעת הנאורות על החברה היהודית - תת פרק חובה\",grade_report!$3:$100,ROWS($A$4:A22),0)","v":{"$error":"#N/A"}},{"$f":"HLOOKUP(\"סיכום פרק 7: השפעת הנאורות על החברה היהודית - תת פרק חובה - משימת סיכום\",grade_report!$3:$100,ROWS($A$4:A22),0)","v":{"$error":"#N/A"}},null,{"$f":"HLOOKUP(\"שיעור לתלמיד 8: ניאו אורתודוקסיה - חיוב המודרנה תוך שמירה קפדנית על מצוות הדת - שיעור לתלמיד\",grade_report!$3:$100,ROWS($A$4:D22),0)","v":{"$error":"#N/A"}},{"$f":"HLOOKUP(\"סיכום פרק 8: ניאו אורתודוקסיה - חיוב המודרנה תוך שמירה קפדנית על מצוות הדת - משימת סיכום\",grade_report!$3:$100,ROWS($A$4:D22),0)","v":{"$error":"#N/A"}},{"$f":"HLOOKUP(\"סיכום פרק 9: תנועות וזרמים יהודיים - משימת סיכום לכל הפרק\",grade_report!$3:$100,ROWS($A$4:E22),0)","v":{"$error":"#N/A"}},null,{"$f":"HLOOKUP(\"שיעור לתלמיד 9: מבשרי הציונות וחיבת ציון - שיעור לתלמיד\",grade_report!$3:$100,ROWS($A$4:H22),0)","v":{"$error":"#N/A"}},{"$f":"HLOOKUP(\"סיכום פרק 10: מבשרי הציונות וחיבת ציון - משימת סיכום\",grade_report!$3:$100,ROWS($A$4:H22),0)","v":{"$error":"#N/A"}},{"$f":"HLOOKUP(\"הפנמה 4: מבשרי הציונות וחיבת ציון - משימת הפנמה\",grade_report!$3:$100,ROWS($A$4:AC22),0)","v":{"$error":"#N/A"}},{"$f":"HLOOKUP(\"העשרה 4: מבשרי הציונות וחיבת ציון - משימת העשרה\",grade_report!$3:$100,ROWS($A$4:AD22),0)","v":{"$error":"#N/A"}},null,{"$f":"HLOOKUP(\"שיעור לתלמיד 10: התנועה הציונית והרצל - שיעור לתלמיד\",grade_report!$3:$100,ROWS($A$4:M22),0)","v":{"$error":"#N/A"}},{"$f":"HLOOKUP(\"סיכום פרק 11: התנועה הציונית והרצל - משימת סיכום - סוף ימיו של הרצל\",grade_report!$3:$100,ROWS($A$4:M22),0)","v":{"$error":"#N/A"}},{"$f":"HLOOKUP(\"הפנמה 5: התנועה הציונית והרצל - משימת הפנמה\",grade_report!$3:$100,ROWS($A$4:AH22),0)","v":{"$error":"#N/A"}},{"$f":"HLOOKUP(\"העשרה 5: התנועה הציונית והרצל - משימת העשרה\",grade_report!$3:$100,ROWS($A$4:AI22),0)","v":{"$error":"#N/A"}},null,{"$f":"HLOOKUP(\"שיעור לתלמיד 11: מפלגות, זרמים ומתנגדים - שיעור לתלמיד\",grade_report!$3:$100,ROWS($A$4:R22),0)","v":{"$error":"#N/A"}},{"$f":"HLOOKUP(\"סיכום פרק 12: מפלגות, זרמים ומתנגדים - משימת סיכום\",grade_report!$3:$100,ROWS($A$4:R22),0)","v":{"$error":"#N/A"}},{"$f":"HLOOKUP(\"הפנמה 6: מפלגות, זרמים ומתנגדים - משימת הפנמה\",grade_report!$3:$100,ROWS($A$4:AM22),0)","v":{"$error":"#N/A"}},{"$f":"HLOOKUP(\"העשרה 6: מפלגות, זרמים ומתנגדים - משימת העשרה\",grade_report!$3:$100,ROWS($A$4:AN22),0)","v":{"$error":"#N/A"}},null,{"$f":"HLOOKUP(\"סיכום קורס-ש' סגורות\",grade_report!$3:$100,ROWS($A$4:AP22),0)","v":{"$error":"#N/A"}},{"$f":"HLOOKUP(\"סיכום קורס-ש' פתוחות\",grade_report!$3:$100,ROWS($A$4:AQ22),0)","v":{"$error":"#N/A"}},{"$f":"HLOOKUP(\"תלמידאות\",grade_report!$3:$100,ROWS($A$4:AR22),0)","v":"Not Available"}]
[{"$f":"grade_report!C22","v":"תהל_חזות"},{"$f":"grade_report!B22","v":"tahel1.ch@gmail.com"},null,{"$f":"VLOOKUP(A20,grade_report!C:D,2,FALSE)","v":7.0000000000000007E-2},{"$f":"HLOOKUP(\"שיעור לתלמיד 1: נאורוּת - שיעור לתלמיד\",grade_report!$3:$100,ROWS($A$4:A23),0)","v":1},{"$f":"HLOOKUP(\"סיכום פרק 1: נאורוּת - משימת סיכום\",grade_report!$3:$100,ROWS($A$4:A23),0)","v":"Not Attempted"},{"$f":"HLOOKUP(\"הפנמה 1: נאורוּת - משימת הפנמה\",grade_report!$3:$100,ROWS($A$4:B23),0)","v":4.7619047619000002E-2},{"$f":"HLOOKUP(\"העשרה 1: נאורוּת - משימת העשרה\",grade_report!$3:$100,ROWS($A$4:C23),0)","v":"Not Attempted"},null,{"$f":"HLOOKUP(\"שיעור לתלמיד 2: מלחמת העולם הראשונה - שיעור לתלמיד\",grade_report!$3:$100,ROWS($A$4:E23),0)","v":{"$error":"#N/A"}},{"$f":"HLOOKUP(\"סיכום פרק 2: מלחמת העולם הראשונה - משימת סיכום\",grade_report!$3:$100,ROWS($A$4:E23),0)","v":{"$error":"#N/A"}},{"$f":"HLOOKUP(\"הפנמה 2: מלחמת העולם הראשונה - משימת הפנמה\",grade_report!$3:$100,ROWS($A$4:F23),0)","v":{"$error":"#N/A"}},{"$f":"HLOOKUP(\"העשרה 2: מלחמת העולם הראשונה - משימת העשרה - רשות: מלחמת החפירות\",grade_report!$3:$100,ROWS($A$4:G23),0)","v":{"$error":"#N/A"}},null,{"$f":"HLOOKUP(\"שיעור לתלמיד 3: השינויים במעמד המשפטי של יהודי צרפת משלהי המאה ה-18 עד ראשית המאה ה-20 - תת פרק לבחירה\",grade_report!$3:$100,ROWS($A$4:J23),0)","v":{"$error":"#N/A"}},{"$f":"HLOOKUP(\"סיכום פרק 3: השינויים במעמד המשפטי של יהודי צרפת משלהי המאה ה-18 עד ראשית המאה ה-20 -משימת סיכום\",grade_report!$3:$100,ROWS($A$4:J23),0)","v":{"$error":"#N/A"}},{"$f":"HLOOKUP(\"שיעור לתלמיד 4: השינויים במעמד המשפטי של יהודי גרמניה משלהי המאה ה-18 עד ראשית המאה ה-20 - תת פרק לבחירה\",grade_report!$3:$100,ROWS($A$4:O23),0)","v":{"$error":"#N/A"}},{"$f":"HLOOKUP(\"סיכום פרק 4: השינויים במעמד המשפטי של יהודי גרמניה משלהי המאה ה-18 עד ראשית המאה ה-20 - תת פרק לבחירה -משימת סיכום\",grade_report!$3:$100,ROWS($A$4:O23),0)","v":{"$error":"#N/A"}},{"$f":"HLOOKUP(\"שיעור לתלמיד 5: השינויים במעמד המשפטי של היהודים בארצות האסלאם - תהליך האמנציפציה באלג'יריה - תת פרק חובה\",grade_report!$3:$100,ROWS($A$4:A23),0)","v":{"$error":"#N/A"}},{"$f":"HLOOKUP(\"סיכום פרק 5: השינויים במעמד המשפטי של היהודים בארצות האסלאם - תהליך האמנציפציה באלג'יריה - משימת סיכום\",grade_report!$3:$100,ROWS($A$4:A23),0)","v":{"$error":"#N/A"}},{"$f":"HLOOKUP(\"שיעור לתלמיד 6: השלכות השינויים במעמד היהודים על החברה היהודית - תת פרק חובה\",grade_report!$3:$100,ROWS($A$4:D23),0)","v":{"$error":"#N/A"}},{"$f":"HLOOKUP(\"סיכום פרק 6: השפעת הליברליזם על תמורות בחברה היהודית - משימת סיכום - סיכום הסוגיה לכל הפרק\",grade_report!$3:$100,ROWS($A$4:A23),0)","v":{"$error":"#N/A"}},{"$f":"HLOOKUP(\"הפנמה 3: מעמד היהודים משלהי המאה ה-18 ועד תחילת המאה ה-20 - משימת הפנמה לכל הפרק\",grade_report!$3:$100,ROWS($A$4:Q23),0)","v":{"$error":"#N/A"}},{"$f":"HLOOKUP(\"העשרה 3: מעמד היהודים משלהי המאה ה-18 ועד תחילת המאה ה-20 - משימת העשרה לכל הפרק\",grade_report!$3:$100,ROWS($A$4:R23),0)","v":{"$error":"#N/A"}},null,{"$f":"HLOOKUP(\"שיעור לתלמיד 7: השפעת הנאורות על החברה היהודית - תת פרק חובה\",grade_report!$3:$100,ROWS($A$4:A23),0)","v":{"$error":"#N/A"}},{"$f":"HLOOKUP(\"סיכום פרק 7: השפעת הנאורות על החברה היהודית - תת פרק חובה - משימת סיכום\",grade_report!$3:$100,ROWS($A$4:A23),0)","v":{"$error":"#N/A"}},null,{"$f":"HLOOKUP(\"שיעור לתלמיד 8: ניאו אורתודוקסיה - חיוב המודרנה תוך שמירה קפדנית על מצוות הדת - שיעור לתלמיד\",grade_report!$3:$100,ROWS($A$4:D23),0)","v":{"$error":"#N/A"}},{"$f":"HLOOKUP(\"סיכום פרק 8: ניאו אורתודוקסיה - חיוב המודרנה תוך שמירה קפדנית על מצוות הדת - משימת סיכום\",grade_report!$3:$100,ROWS($A$4:D23),0)","v":{"$error":"#N/A"}},{"$f":"HLOOKUP(\"סיכום פרק 9: תנועות וזרמים יהודיים - משימת סיכום לכל הפרק\",grade_report!$3:$100,ROWS($A$4:E23),0)","v":{"$error":"#N/A"}},null,{"$f":"HLOOKUP(\"שיעור לתלמיד 9: מבשרי הציונות וחיבת ציון - שיעור לתלמיד\",grade_report!$3:$100,ROWS($A$4:H23),0)","v":{"$error":"#N/A"}},{"$f":"HLOOKUP(\"סיכום פרק 10: מבשרי הציונות וחיבת ציון - משימת סיכום\",grade_report!$3:$100,ROWS($A$4:H23),0)","v":{"$error":"#N/A"}},{"$f":"HLOOKUP(\"הפנמה 4: מבשרי הציונות וחיבת ציון - משימת הפנמה\",grade_report!$3:$100,ROWS($A$4:AC23),0)","v":{"$error":"#N/A"}},{"$f":"HLOOKUP(\"העשרה 4: מבשרי הציונות וחיבת ציון - משימת העשרה\",grade_report!$3:$100,ROWS($A$4:AD23),0)","v":{"$error":"#N/A"}},null,{"$f":"HLOOKUP(\"שיעור לתלמיד 10: התנועה הציונית והרצל - שיעור לתלמיד\",grade_report!$3:$100,ROWS($A$4:M23),0)","v":{"$error":"#N/A"}},{"$f":"HLOOKUP(\"סיכום פרק 11: התנועה הציונית והרצל - משימת סיכום - סוף ימיו של הרצל\",grade_report!$3:$100,ROWS($A$4:M23),0)","v":{"$error":"#N/A"}},{"$f":"HLOOKUP(\"הפנמה 5: התנועה הציונית והרצל - משימת הפנמה\",grade_report!$3:$100,ROWS($A$4:AH23),0)","v":{"$error":"#N/A"}},{"$f":"HLOOKUP(\"העשרה 5: התנועה הציונית והרצל - משימת העשרה\",grade_report!$3:$100,ROWS($A$4:AI23),0)","v":{"$error":"#N/A"}},null,{"$f":"HLOOKUP(\"שיעור לתלמיד 11: מפלגות, זרמים ומתנגדים - שיעור לתלמיד\",grade_report!$3:$100,ROWS($A$4:R23),0)","v":{"$error":"#N/A"}},{"$f":"HLOOKUP(\"סיכום פרק 12: מפלגות, זרמים ומתנגדים - משימת סיכום\",grade_report!$3:$100,ROWS($A$4:R23),0)","v":{"$error":"#N/A"}},{"$f":"HLOOKUP(\"הפנמה 6: מפלגות, זרמים ומתנגדים - משימת הפנמה\",grade_report!$3:$100,ROWS($A$4:AM23),0)","v":{"$error":"#N/A"}},{"$f":"HLOOKUP(\"העשרה 6: מפלגות, זרמים ומתנגדים - משימת העשרה\",grade_report!$3:$100,ROWS($A$4:AN23),0)","v":{"$error":"#N/A"}},null,{"$f":"HLOOKUP(\"סיכום קורס-ש' סגורות\",grade_report!$3:$100,ROWS($A$4:AP23),0)","v":{"$error":"#N/A"}},{"$f":"HLOOKUP(\"סיכום קורס-ש' פתוחות\",grade_report!$3:$100,ROWS($A$4:AQ23),0)","v":{"$error":"#N/A"}},{"$f":"HLOOKUP(\"תלמידאות\",grade_report!$3:$100,ROWS($A$4:AR23),0)","v":"Not Available"}]
[{"$f":"grade_report!C23","v":"לילך סמואל"},{"$f":"grade_report!B23","v":"samuellilach33@gmail.com"},null,{"$f":"VLOOKUP(A21,grade_report!C:D,2,FALSE)","v":7.0000000000000007E-2},{"$f":"HLOOKUP(\"שיעור לתלמיד 1: נאורוּת - שיעור לתלמיד\",grade_report!$3:$100,ROWS($A$4:A24),0)","v":0.875},{"$f":"HLOOKUP(\"סיכום פרק 1: נאורוּת - משימת סיכום\",grade_report!$3:$100,ROWS($A$4:A24),0)","v":"Not Attempted"},{"$f":"HLOOKUP(\"הפנמה 1: נאורוּת - משימת הפנמה\",grade_report!$3:$100,ROWS($A$4:B24),0)","v":4.7619047619000002E-2},{"$f":"HLOOKUP(\"העשרה 1: נאורוּת - משימת העשרה\",grade_report!$3:$100,ROWS($A$4:C24),0)","v":"Not Attempted"},null,{"$f":"HLOOKUP(\"שיעור לתלמיד 2: מלחמת העולם הראשונה - שיעור לתלמיד\",grade_report!$3:$100,ROWS($A$4:E24),0)","v":{"$error":"#N/A"}},{"$f":"HLOOKUP(\"סיכום פרק 2: מלחמת העולם הראשונה - משימת סיכום\",grade_report!$3:$100,ROWS($A$4:E24),0)","v":{"$error":"#N/A"}},{"$f":"HLOOKUP(\"הפנמה 2: מלחמת העולם הראשונה - משימת הפנמה\",grade_report!$3:$100,ROWS($A$4:F24),0)","v":{"$error":"#N/A"}},{"$f":"HLOOKUP(\"העשרה 2: מלחמת העולם הראשונה - משימת העשרה - רשות: מלחמת החפירות\",grade_report!$3:$100,ROWS($A$4:G24),0)","v":{"$error":"#N/A"}},null,{"$f":"HLOOKUP(\"שיעור לתלמיד 3: השינויים במעמד המשפטי של יהודי צרפת משלהי המאה ה-18 עד ראשית המאה ה-20 - תת פרק לבחירה\",grade_report!$3:$100,ROWS($A$4:J24),0)","v":{"$error":"#N/A"}},{"$f":"HLOOKUP(\"סיכום פרק 3: השינויים במעמד המשפטי של יהודי צרפת משלהי המאה ה-18 עד ראשית המאה ה-20 -משימת סיכום\",grade_report!$3:$100,ROWS($A$4:J24),0)","v":{"$error":"#N/A"}},{"$f":"HLOOKUP(\"שיעור לתלמיד 4: השינויים במעמד המשפטי של יהודי גרמניה משלהי המאה ה-18 עד ראשית המאה ה-20 - תת פרק לבחירה\",grade_report!$3:$100,ROWS($A$4:O24),0)","v":{"$error":"#N/A"}},{"$f":"HLOOKUP(\"סיכום פרק 4: השינויים במעמד המשפטי של יהודי גרמניה משלהי המאה ה-18 עד ראשית המאה ה-20 - תת פרק לבחירה -משימת סיכום\",grade_report!$3:$100,ROWS($A$4:O24),0)","v":{"$error":"#N/A"}},{"$f":"HLOOKUP(\"שיעור לתלמיד 5: השינויים במעמד המשפטי של היהודים בארצות האסלאם - תהליך האמנציפציה באלג'יריה - תת פרק חובה\",grade_report!$3:$100,ROWS($A$4:A24),0)","v":{"$error":"#N/A"}},{"$f":"HLOOKUP(\"סיכום פרק 5: השינויים במעמד המשפטי של היהודים בארצות האסלאם - תהליך האמנציפציה באלג'יריה - משימת סיכום\",grade_report!$3:$100,ROWS($A$4:A24),0)","v":{"$error":"#N/A"}},{"$f":"HLOOKUP(\"שיעור לתלמיד 6: השלכות השינויים במעמד היהודים על החברה היהודית - תת פרק חובה\",grade_report!$3:$100,ROWS($A$4:D24),0)","v":{"$error":"#N/A"}},{"$f":"HLOOKUP(\"סיכום פרק 6: השפעת הליברליזם על תמורות בחברה היהודית - משימת סיכום - סיכום הסוגיה לכל הפרק\",grade_report!$3:$100,ROWS($A$4:A24),0)","v":{"$error":"#N/A"}},{"$f":"HLOOKUP(\"הפנמה 3: מעמד היהודים משלהי המאה ה-18 ועד תחילת המאה ה-20 - משימת הפנמה לכל הפרק\",grade_report!$3:$100,ROWS($A$4:Q24),0)","v":{"$error":"#N/A"}},{"$f":"HLOOKUP(\"העשרה 3: מעמד היהודים משלהי המאה ה-18 ועד תחילת המאה ה-20 - משימת העשרה לכל הפרק\",grade_report!$3:$100,ROWS($A$4:R24),0)","v":{"$error":"#N/A"}},null,{"$f":"HLOOKUP(\"שיעור לתלמיד 7: השפעת הנאורות על החברה היהודית - תת פרק חובה\",grade_report!$3:$100,ROWS($A$4:A24),0)","v":{"$error":"#N/A"}},{"$f":"HLOOKUP(\"סיכום פרק 7: השפעת הנאורות על החברה היהודית - תת פרק חובה - משימת סיכום\",grade_report!$3:$100,ROWS($A$4:A24),0)","v":{"$error":"#N/A"}},null,{"$f":"HLOOKUP(\"שיעור לתלמיד 8: ניאו אורתודוקסיה - חיוב המודרנה תוך שמירה קפדנית על מצוות הדת - שיעור לתלמיד\",grade_report!$3:$100,ROWS($A$4:D24),0)","v":{"$error":"#N/A"}},{"$f":"HLOOKUP(\"סיכום פרק 8: ניאו אורתודוקסיה - חיוב המודרנה תוך שמירה קפדנית על מצוות הדת - משימת סיכום\",grade_report!$3:$100,ROWS($A$4:D24),0)","v":{"$error":"#N/A"}},{"$f":"HLOOKUP(\"סיכום פרק 9: תנועות וזרמים יהודיים - משימת סיכום לכל הפרק\",grade_report!$3:$100,ROWS($A$4:E24),0)","v":{"$error":"#N/A"}},null,{"$f":"HLOOKUP(\"שיעור לתלמיד 9: מבשרי הציונות וחיבת ציון - שיעור לתלמיד\",grade_report!$3:$100,ROWS($A$4:H24),0)","v":{"$error":"#N/A"}},{"$f":"HLOOKUP(\"סיכום פרק 10: מבשרי הציונות וחיבת ציון - משימת סיכום\",grade_report!$3:$100,ROWS($A$4:H24),0)","v":{"$error":"#N/A"}},{"$f":"HLOOKUP(\"הפנמה 4: מבשרי הציונות וחיבת ציון - משימת הפנמה\",grade_report!$3:$100,ROWS($A$4:AC24),0)","v":{"$error":"#N/A"}},{"$f":"HLOOKUP(\"העשרה 4: מבשרי הציונות וחיבת ציון - משימת העשרה\",grade_report!$3:$100,ROWS($A$4:AD24),0)","v":{"$error":"#N/A"}},null,{"$f":"HLOOKUP(\"שיעור לתלמיד 10: התנועה הציונית והרצל - שיעור לתלמיד\",grade_report!$3:$100,ROWS($A$4:M24),0)","v":{"$error":"#N/A"}},{"$f":"HLOOKUP(\"סיכום פרק 11: התנועה הציונית והרצל - משימת סיכום - סוף ימיו של הרצל\",grade_report!$3:$100,ROWS($A$4:M24),0)","v":{"$error":"#N/A"}},{"$f":"HLOOKUP(\"הפנמה 5: התנועה הציונית והרצל - משימת הפנמה\",grade_report!$3:$100,ROWS($A$4:AH24),0)","v":{"$error":"#N/A"}},{"$f":"HLOOKUP(\"העשרה 5: התנועה הציונית והרצל - משימת העשרה\",grade_report!$3:$100,ROWS($A$4:AI24),0)","v":{"$error":"#N/A"}},null,{"$f":"HLOOKUP(\"שיעור לתלמיד 11: מפלגות, זרמים ומתנגדים - שיעור לתלמיד\",grade_report!$3:$100,ROWS($A$4:R24),0)","v":{"$error":"#N/A"}},{"$f":"HLOOKUP(\"סיכום פרק 12: מפלגות, זרמים ומתנגדים - משימת סיכום\",grade_report!$3:$100,ROWS($A$4:R24),0)","v":{"$error":"#N/A"}},{"$f":"HLOOKUP(\"הפנמה 6: מפלגות, זרמים ומתנגדים - משימת הפנמה\",grade_report!$3:$100,ROWS($A$4:AM24),0)","v":{"$error":"#N/A"}},{"$f":"HLOOKUP(\"העשרה 6: מפלגות, זרמים ומתנגדים - משימת העשרה\",grade_report!$3:$100,ROWS($A$4:AN24),0)","v":{"$error":"#N/A"}},null,{"$f":"HLOOKUP(\"סיכום קורס-ש' סגורות\",grade_report!$3:$100,ROWS($A$4:AP24),0)","v":{"$error":"#N/A"}},{"$f":"HLOOKUP(\"סיכום קורס-ש' פתוחות\",grade_report!$3:$100,ROWS($A$4:AQ24),0)","v":{"$error":"#N/A"}},{"$f":"HLOOKUP(\"תלמידאות\",grade_report!$3:$100,ROWS($A$4:AR24),0)","v":"Not Available"}]
[{"$f":"grade_report!C24","v":"שחר_68"},{"$f":"grade_report!B24","v":"shaharnov8@gmail.com"},null,{"$f":"VLOOKUP(A22,grade_report!C:D,2,FALSE)","v":0},{"$f":"HLOOKUP(\"שיעור לתלמיד 1: נאורוּת - שיעור לתלמיד\",grade_report!$3:$100,ROWS($A$4:A25),0)","v":"Not Attempted"},{"$f":"HLOOKUP(\"סיכום פרק 1: נאורוּת - משימת סיכום\",grade_report!$3:$100,ROWS($A$4:A25),0)","v":"Not Attempted"},{"$f":"HLOOKUP(\"הפנמה 1: נאורוּת - משימת הפנמה\",grade_report!$3:$100,ROWS($A$4:B25),0)","v":"Not Attempted"},{"$f":"HLOOKUP(\"העשרה 1: נאורוּת - משימת העשרה\",grade_report!$3:$100,ROWS($A$4:C25),0)","v":"Not Attempted"},null,{"$f":"HLOOKUP(\"שיעור לתלמיד 2: מלחמת העולם הראשונה - שיעור לתלמיד\",grade_report!$3:$100,ROWS($A$4:E25),0)","v":{"$error":"#N/A"}},{"$f":"HLOOKUP(\"סיכום פרק 2: מלחמת העולם הראשונה - משימת סיכום\",grade_report!$3:$100,ROWS($A$4:E25),0)","v":{"$error":"#N/A"}},{"$f":"HLOOKUP(\"הפנמה 2: מלחמת העולם הראשונה - משימת הפנמה\",grade_report!$3:$100,ROWS($A$4:F25),0)","v":{"$error":"#N/A"}},{"$f":"HLOOKUP(\"העשרה 2: מלחמת העולם הראשונה - משימת העשרה - רשות: מלחמת החפירות\",grade_report!$3:$100,ROWS($A$4:G25),0)","v":{"$error":"#N/A"}},null,{"$f":"HLOOKUP(\"שיעור לתלמיד 3: השינויים במעמד המשפטי של יהודי צרפת משלהי המאה ה-18 עד ראשית המאה ה-20 - תת פרק לבחירה\",grade_report!$3:$100,ROWS($A$4:J25),0)","v":{"$error":"#N/A"}},{"$f":"HLOOKUP(\"סיכום פרק 3: השינויים במעמד המשפטי של יהודי צרפת משלהי המאה ה-18 עד ראשית המאה ה-20 -משימת סיכום\",grade_report!$3:$100,ROWS($A$4:J25),0)","v":{"$error":"#N/A"}},{"$f":"HLOOKUP(\"שיעור לתלמיד 4: השינויים במעמד המשפטי של יהודי גרמניה משלהי המאה ה-18 עד ראשית המאה ה-20 - תת פרק לבחירה\",grade_report!$3:$100,ROWS($A$4:O25),0)","v":{"$error":"#N/A"}},{"$f":"HLOOKUP(\"סיכום פרק 4: השינויים במעמד המשפטי של יהודי גרמניה משלהי המאה ה-18 עד ראשית המאה ה-20 - תת פרק לבחירה -משימת סיכום\",grade_report!$3:$100,ROWS($A$4:O25),0)","v":{"$error":"#N/A"}},{"$f":"HLOOKUP(\"שיעור לתלמיד 5: השינויים במעמד המשפטי של היהודים בארצות האסלאם - תהליך האמנציפציה באלג'יריה - תת פרק חובה\",grade_report!$3:$100,ROWS($A$4:A25),0)","v":{"$error":"#N/A"}},{"$f":"HLOOKUP(\"סיכום פרק 5: השינויים במעמד המשפטי של היהודים בארצות האסלאם - תהליך האמנציפציה באלג'יריה - משימת סיכום\",grade_report!$3:$100,ROWS($A$4:A25),0)","v":{"$error":"#N/A"}},{"$f":"HLOOKUP(\"שיעור לתלמיד 6: השלכות השינויים במעמד היהודים על החברה היהודית - תת פרק חובה\",grade_report!$3:$100,ROWS($A$4:D25),0)","v":{"$error":"#N/A"}},{"$f":"HLOOKUP(\"סיכום פרק 6: השפעת הליברליזם על תמורות בחברה היהודית - משימת סיכום - סיכום הסוגיה לכל הפרק\",grade_report!$3:$100,ROWS($A$4:A25),0)","v":{"$error":"#N/A"}},{"$f":"HLOOKUP(\"הפנמה 3: מעמד היהודים משלהי המאה ה-18 ועד תחילת המאה ה-20 - משימת הפנמה לכל הפרק\",grade_report!$3:$100,ROWS($A$4:Q25),0)","v":{"$error":"#N/A"}},{"$f":"HLOOKUP(\"העשרה 3: מעמד היהודים משלהי המאה ה-18 ועד תחילת המאה ה-20 - משימת העשרה לכל הפרק\",grade_report!$3:$100,ROWS($A$4:R25),0)","v":{"$error":"#N/A"}},null,{"$f":"HLOOKUP(\"שיעור לתלמיד 7: השפעת הנאורות על החברה היהודית - תת פרק חובה\",grade_report!$3:$100,ROWS($A$4:A25),0)","v":{"$error":"#N/A"}},{"$f":"HLOOKUP(\"סיכום פרק 7: השפעת הנאורות על החברה היהודית - תת פרק חובה - משימת סיכום\",grade_report!$3:$100,ROWS($A$4:A25),0)","v":{"$error":"#N/A"}},null,{"$f":"HLOOKUP(\"שיעור לתלמיד 8: ניאו אורתודוקסיה - חיוב המודרנה תוך שמירה קפדנית על מצוות הדת - שיעור לתלמיד\",grade_report!$3:$100,ROWS($A$4:D25),0)","v":{"$error":"#N/A"}},{"$f":"HLOOKUP(\"סיכום פרק 8: ניאו אורתודוקסיה - חיוב המודרנה תוך שמירה קפדנית על מצוות הדת - משימת סיכום\",grade_report!$3:$100,ROWS($A$4:D25),0)","v":{"$error":"#N/A"}},{"$f":"HLOOKUP(\"סיכום פרק 9: תנועות וזרמים יהודיים - משימת סיכום לכל הפרק\",grade_report!$3:$100,ROWS($A$4:E25),0)","v":{"$error":"#N/A"}},null,{"$f":"HLOOKUP(\"שיעור לתלמיד 9: מבשרי הציונות וחיבת ציון - שיעור לתלמיד\",grade_report!$3:$100,ROWS($A$4:H25),0)","v":{"$error":"#N/A"}},{"$f":"HLOOKUP(\"סיכום פרק 10: מבשרי הציונות וחיבת ציון - משימת סיכום\",grade_report!$3:$100,ROWS($A$4:H25),0)","v":{"$error":"#N/A"}},{"$f":"HLOOKUP(\"הפנמה 4: מבשרי הציונות וחיבת ציון - משימת הפנמה\",grade_report!$3:$100,ROWS($A$4:AC25),0)","v":{"$error":"#N/A"}},{"$f":"HLOOKUP(\"העשרה 4: מבשרי הציונות וחיבת ציון - משימת העשרה\",grade_report!$3:$100,ROWS($A$4:AD25),0)","v":{"$error":"#N/A"}},null,{"$f":"HLOOKUP(\"שיעור לתלמיד 10: התנועה הציונית והרצל - שיעור לתלמיד\",grade_report!$3:$100,ROWS($A$4:M25),0)","v":{"$error":"#N/A"}},{"$f":"HLOOKUP(\"סיכום פרק 11: התנועה הציונית והרצל - משימת סיכום - סוף ימיו של הרצל\",grade_report!$3:$100,ROWS($A$4:M25),0)","v":{"$error":"#N/A"}},{"$f":"HLOOKUP(\"הפנמה 5: התנועה הציונית והרצל - משימת הפנמה\",grade_report!$3:$100,ROWS($A$4:AH25),0)","v":{"$error":"#N/A"}},{"$f":"HLOOKUP(\"העשרה 5: התנועה הציונית והרצל - משימת העשרה\",grade_report!$3:$100,ROWS($A$4:AI25),0)","v":{"$error":"#N/A"}},null,{"$f":"HLOOKUP(\"שיעור לתלמיד 11: מפלגות, זרמים ומתנגדים - שיעור לתלמיד\",grade_report!$3:$100,ROWS($A$4:R25),0)","v":{"$error":"#N/A"}},{"$f":"HLOOKUP(\"סיכום פרק 12: מפלגות, זרמים ומתנגדים - משימת סיכום\",grade_report!$3:$100,ROWS($A$4:R25),0)","v":{"$error":"#N/A"}},{"$f":"HLOOKUP(\"הפנמה 6: מפלגות, זרמים ומתנגדים - משימת הפנמה\",grade_report!$3:$100,ROWS($A$4:AM25),0)","v":{"$error":"#N/A"}},{"$f":"HLOOKUP(\"העשרה 6: מפלגות, זרמים ומתנגדים - משימת העשרה\",grade_report!$3:$100,ROWS($A$4:AN25),0)","v":{"$error":"#N/A"}},null,{"$f":"HLOOKUP(\"סיכום קורס-ש' סגורות\",grade_report!$3:$100,ROWS($A$4:AP25),0)","v":{"$error":"#N/A"}},{"$f":"HLOOKUP(\"סיכום קורס-ש' פתוחות\",grade_report!$3:$100,ROWS($A$4:AQ25),0)","v":{"$error":"#N/A"}},{"$f":"HLOOKUP(\"תלמידאות\",grade_report!$3:$100,ROWS($A$4:AR25),0)","v":"Not Available"}]
[{"$f":"grade_report!C25","v":"שחר_נוב"},{"$f":"grade_report!B25","v":"shrnov1@gmail.com"},null,{"$f":"VLOOKUP(A23,grade_report!C:D,2,FALSE)","v":0.08},{"$f":"HLOOKUP(\"שיעור לתלמיד 1: נאורוּת - שיעור לתלמיד\",grade_report!$3:$100,ROWS($A$4:A26),0)","v":1},{"$f":"HLOOKUP(\"סיכום פרק 1: נאורוּת - משימת סיכום\",grade_report!$3:$100,ROWS($A$4:A26),0)","v":"Not Attempted"},{"$f":"HLOOKUP(\"הפנמה 1: נאורוּת - משימת הפנמה\",grade_report!$3:$100,ROWS($A$4:B26),0)","v":4.7619047619000002E-2},{"$f":"HLOOKUP(\"העשרה 1: נאורוּת - משימת העשרה\",grade_report!$3:$100,ROWS($A$4:C26),0)","v":"Not Attempted"},null,{"$f":"HLOOKUP(\"שיעור לתלמיד 2: מלחמת העולם הראשונה - שיעור לתלמיד\",grade_report!$3:$100,ROWS($A$4:E26),0)","v":{"$error":"#N/A"}},{"$f":"HLOOKUP(\"סיכום פרק 2: מלחמת העולם הראשונה - משימת סיכום\",grade_report!$3:$100,ROWS($A$4:E26),0)","v":{"$error":"#N/A"}},{"$f":"HLOOKUP(\"הפנמה 2: מלחמת העולם הראשונה - משימת הפנמה\",grade_report!$3:$100,ROWS($A$4:F26),0)","v":{"$error":"#N/A"}},{"$f":"HLOOKUP(\"העשרה 2: מלחמת העולם הראשונה - משימת העשרה - רשות: מלחמת החפירות\",grade_report!$3:$100,ROWS($A$4:G26),0)","v":{"$error":"#N/A"}},null,{"$f":"HLOOKUP(\"שיעור לתלמיד 3: השינויים במעמד המשפטי של יהודי צרפת משלהי המאה ה-18 עד ראשית המאה ה-20 - תת פרק לבחירה\",grade_report!$3:$100,ROWS($A$4:J26),0)","v":{"$error":"#N/A"}},{"$f":"HLOOKUP(\"סיכום פרק 3: השינויים במעמד המשפטי של יהודי צרפת משלהי המאה ה-18 עד ראשית המאה ה-20 -משימת סיכום\",grade_report!$3:$100,ROWS($A$4:J26),0)","v":{"$error":"#N/A"}},{"$f":"HLOOKUP(\"שיעור לתלמיד 4: השינויים במעמד המשפטי של יהודי גרמניה משלהי המאה ה-18 עד ראשית המאה ה-20 - תת פרק לבחירה\",grade_report!$3:$100,ROWS($A$4:O26),0)","v":{"$error":"#N/A"}},{"$f":"HLOOKUP(\"סיכום פרק 4: השינויים במעמד המשפטי של יהודי גרמניה משלהי המאה ה-18 עד ראשית המאה ה-20 - תת פרק לבחירה -משימת סיכום\",grade_report!$3:$100,ROWS($A$4:O26),0)","v":{"$error":"#N/A"}},{"$f":"HLOOKUP(\"שיעור לתלמיד 5: השינויים במעמד המשפטי של היהודים בארצות האסלאם - תהליך האמנציפציה באלג'יריה - תת פרק חובה\",grade_report!$3:$100,ROWS($A$4:A26),0)","v":{"$error":"#N/A"}},{"$f":"HLOOKUP(\"סיכום פרק 5: השינויים במעמד המשפטי של היהודים בארצות האסלאם - תהליך האמנציפציה באלג'יריה - משימת סיכום\",grade_report!$3:$100,ROWS($A$4:A26),0)","v":{"$error":"#N/A"}},{"$f":"HLOOKUP(\"שיעור לתלמיד 6: השלכות השינויים במעמד היהודים על החברה היהודית - תת פרק חובה\",grade_report!$3:$100,ROWS($A$4:D26),0)","v":{"$error":"#N/A"}},{"$f":"HLOOKUP(\"סיכום פרק 6: השפעת הליברליזם על תמורות בחברה היהודית - משימת סיכום - סיכום הסוגיה לכל הפרק\",grade_report!$3:$100,ROWS($A$4:A26),0)","v":{"$error":"#N/A"}},{"$f":"HLOOKUP(\"הפנמה 3: מעמד היהודים משלהי המאה ה-18 ועד תחילת המאה ה-20 - משימת הפנמה לכל הפרק\",grade_report!$3:$100,ROWS($A$4:Q26),0)","v":{"$error":"#N/A"}},{"$f":"HLOOKUP(\"העשרה 3: מעמד היהודים משלהי המאה ה-18 ועד תחילת המאה ה-20 - משימת העשרה לכל הפרק\",grade_report!$3:$100,ROWS($A$4:R26),0)","v":{"$error":"#N/A"}},null,{"$f":"HLOOKUP(\"שיעור לתלמיד 7: השפעת הנאורות על החברה היהודית - תת פרק חובה\",grade_report!$3:$100,ROWS($A$4:A26),0)","v":{"$error":"#N/A"}},{"$f":"HLOOKUP(\"סיכום פרק 7: השפעת הנאורות על החברה היהודית - תת פרק חובה - משימת סיכום\",grade_report!$3:$100,ROWS($A$4:A26),0)","v":{"$error":"#N/A"}},null,{"$f":"HLOOKUP(\"שיעור לתלמיד 8: ניאו אורתודוקסיה - חיוב המודרנה תוך שמירה קפדנית על מצוות הדת - שיעור לתלמיד\",grade_report!$3:$100,ROWS($A$4:D26),0)","v":{"$error":"#N/A"}},{"$f":"HLOOKUP(\"סיכום פרק 8: ניאו אורתודוקסיה - חיוב המודרנה תוך שמירה קפדנית על מצוות הדת - משימת סיכום\",grade_report!$3:$100,ROWS($A$4:D26),0)","v":{"$error":"#N/A"}},{"$f":"HLOOKUP(\"סיכום פרק 9: תנועות וזרמים יהודיים - משימת סיכום לכל הפרק\",grade_report!$3:$100,ROWS($A$4:E26),0)","v":{"$error":"#N/A"}},null,{"$f":"HLOOKUP(\"שיעור לתלמיד 9: מבשרי הציונות וחיבת ציון - שיעור לתלמיד\",grade_report!$3:$100,ROWS($A$4:H26),0)","v":{"$error":"#N/A"}},{"$f":"HLOOKUP(\"סיכום פרק 10: מבשרי הציונות וחיבת ציון - משימת סיכום\",grade_report!$3:$100,ROWS($A$4:H26),0)","v":{"$error":"#N/A"}},{"$f":"HLOOKUP(\"הפנמה 4: מבשרי הציונות וחיבת ציון - משימת הפנמה\",grade_report!$3:$100,ROWS($A$4:AC26),0)","v":{"$error":"#N/A"}},{"$f":"HLOOKUP(\"העשרה 4: מבשרי הציונות וחיבת ציון - משימת העשרה\",grade_report!$3:$100,ROWS($A$4:AD26),0)","v":{"$error":"#N/A"}},null,{"$f":"HLOOKUP(\"שיעור לתלמיד 10: התנועה הציונית והרצל - שיעור לתלמיד\",grade_report!$3:$100,ROWS($A$4:M26),0)","v":{"$error":"#N/A"}},{"$f":"HLOOKUP(\"סיכום פרק 11: התנועה הציונית והרצל - משימת סיכום - סוף ימיו של הרצל\",grade_report!$3:$100,ROWS($A$4:M26),0)","v":{"$error":"#N/A"}},{"$f":"HLOOKUP(\"הפנמה 5: התנועה הציונית והרצל - משימת הפנמה\",grade_report!$3:$100,ROWS($A$4:AH26),0)","v":{"$error":"#N/A"}},{"$f":"HLOOKUP(\"העשרה 5: התנועה הציונית והרצל - משימת העשרה\",grade_report!$3:$100,ROWS($A$4:AI26),0)","v":{"$error":"#N/A"}},null,{"$f":"HLOOKUP(\"שיעור לתלמיד 11: מפלגות, זרמים ומתנגדים - שיעור לתלמיד\",grade_report!$3:$100,ROWS($A$4:R26),0)","v":{"$error":"#N/A"}},{"$f":"HLOOKUP(\"סיכום פרק 12: מפלגות, זרמים ומתנגדים - משימת סיכום\",grade_report!$3:$100,ROWS($A$4:R26),0)","v":{"$error":"#N/A"}},{"$f":"HLOOKUP(\"הפנמה 6: מפלגות, זרמים ומתנגדים - משימת הפנמה\",grade_report!$3:$100,ROWS($A$4:AM26),0)","v":{"$error":"#N/A"}},{"$f":"HLOOKUP(\"העשרה 6: מפלגות, זרמים ומתנגדים - משימת העשרה\",grade_report!$3:$100,ROWS($A$4:AN26),0)","v":{"$error":"#N/A"}},null,{"$f":"HLOOKUP(\"סיכום קורס-ש' סגורות\",grade_report!$3:$100,ROWS($A$4:AP26),0)","v":{"$error":"#N/A"}},{"$f":"HLOOKUP(\"סיכום קורס-ש' פתוחות\",grade_report!$3:$100,ROWS($A$4:AQ26),0)","v":{"$error":"#N/A"}},{"$f":"HLOOKUP(\"תלמידאות\",grade_report!$3:$100,ROWS($A$4:AR26),0)","v":"Not Available"}]
[{"$f":"grade_report!C26","v":"shani_hirsch"},{"$f":"grade_report!B26","v":"shanih2308@gmail.com"},null,{"$f":"VLOOKUP(A24,grade_report!C:D,2,FALSE)","v":0.05},{"$f":"HLOOKUP(\"שיעור לתלמיד 1: נאורוּת - שיעור לתלמיד\",grade_report!$3:$100,ROWS($A$4:A27),0)","v":0.8125},{"$f":"HLOOKUP(\"סיכום פרק 1: נאורוּת - משימת סיכום\",grade_report!$3:$100,ROWS($A$4:A27),0)","v":"Not Attempted"},{"$f":"HLOOKUP(\"הפנמה 1: נאורוּת - משימת הפנמה\",grade_report!$3:$100,ROWS($A$4:B27),0)","v":4.7619047619000002E-2},{"$f":"HLOOKUP(\"העשרה 1: נאורוּת - משימת העשרה\",grade_report!$3:$100,ROWS($A$4:C27),0)","v":"Not Attempted"},null,{"$f":"HLOOKUP(\"שיעור לתלמיד 2: מלחמת העולם הראשונה - שיעור לתלמיד\",grade_report!$3:$100,ROWS($A$4:E27),0)","v":{"$error":"#N/A"}},{"$f":"HLOOKUP(\"סיכום פרק 2: מלחמת העולם הראשונה - משימת סיכום\",grade_report!$3:$100,ROWS($A$4:E27),0)","v":{"$error":"#N/A"}},{"$f":"HLOOKUP(\"הפנמה 2: מלחמת העולם הראשונה - משימת הפנמה\",grade_report!$3:$100,ROWS($A$4:F27),0)","v":{"$error":"#N/A"}},{"$f":"HLOOKUP(\"העשרה 2: מלחמת העולם הראשונה - משימת העשרה - רשות: מלחמת החפירות\",grade_report!$3:$100,ROWS($A$4:G27),0)","v":{"$error":"#N/A"}},null,{"$f":"HLOOKUP(\"שיעור לתלמיד 3: השינויים במעמד המשפטי של יהודי צרפת משלהי המאה ה-18 עד ראשית המאה ה-20 - תת פרק לבחירה\",grade_report!$3:$100,ROWS($A$4:J27),0)","v":{"$error":"#N/A"}},{"$f":"HLOOKUP(\"סיכום פרק 3: השינויים במעמד המשפטי של יהודי צרפת משלהי המאה ה-18 עד ראשית המאה ה-20 -משימת סיכום\",grade_report!$3:$100,ROWS($A$4:J27),0)","v":{"$error":"#N/A"}},{"$f":"HLOOKUP(\"שיעור לתלמיד 4: השינויים במעמד המשפטי של יהודי גרמניה משלהי המאה ה-18 עד ראשית המאה ה-20 - תת פרק לבחירה\",grade_report!$3:$100,ROWS($A$4:O27),0)","v":{"$error":"#N/A"}},{"$f":"HLOOKUP(\"סיכום פרק 4: השינויים במעמד המשפטי של יהודי גרמניה משלהי המאה ה-18 עד ראשית המאה ה-20 - תת פרק לבחירה -משימת סיכום\",grade_report!$3:$100,ROWS($A$4:O27),0)","v":{"$error":"#N/A"}},{"$f":"HLOOKUP(\"שיעור לתלמיד 5: השינויים במעמד המשפטי של היהודים בארצות האסלאם - תהליך האמנציפציה באלג'יריה - תת פרק חובה\",grade_report!$3:$100,ROWS($A$4:A27),0)","v":{"$error":"#N/A"}},{"$f":"HLOOKUP(\"סיכום פרק 5: השינויים במעמד המשפטי של היהודים בארצות האסלאם - תהליך האמנציפציה באלג'יריה - משימת סיכום\",grade_report!$3:$100,ROWS($A$4:A27),0)","v":{"$error":"#N/A"}},{"$f":"HLOOKUP(\"שיעור לתלמיד 6: השלכות השינויים במעמד היהודים על החברה היהודית - תת פרק חובה\",grade_report!$3:$100,ROWS($A$4:D27),0)","v":{"$error":"#N/A"}},{"$f":"HLOOKUP(\"סיכום פרק 6: השפעת הליברליזם על תמורות בחברה היהודית - משימת סיכום - סיכום הסוגיה לכל הפרק\",grade_report!$3:$100,ROWS($A$4:A27),0)","v":{"$error":"#N/A"}},{"$f":"HLOOKUP(\"הפנמה 3: מעמד היהודים משלהי המאה ה-18 ועד תחילת המאה ה-20 - משימת הפנמה לכל הפרק\",grade_report!$3:$100,ROWS($A$4:Q27),0)","v":{"$error":"#N/A"}},{"$f":"HLOOKUP(\"העשרה 3: מעמד היהודים משלהי המאה ה-18 ועד תחילת המאה ה-20 - משימת העשרה לכל הפרק\",grade_report!$3:$100,ROWS($A$4:R27),0)","v":{"$error":"#N/A"}},null,{"$f":"HLOOKUP(\"שיעור לתלמיד 7: השפעת הנאורות על החברה היהודית - תת פרק חובה\",grade_report!$3:$100,ROWS($A$4:A27),0)","v":{"$error":"#N/A"}},{"$f":"HLOOKUP(\"סיכום פרק 7: השפעת הנאורות על החברה היהודית - תת פרק חובה - משימת סיכום\",grade_report!$3:$100,ROWS($A$4:A27),0)","v":{"$error":"#N/A"}},null,{"$f":"HLOOKUP(\"שיעור לתלמיד 8: ניאו אורתודוקסיה - חיוב המודרנה תוך שמירה קפדנית על מצוות הדת - שיעור לתלמיד\",grade_report!$3:$100,ROWS($A$4:D27),0)","v":{"$error":"#N/A"}},{"$f":"HLOOKUP(\"סיכום פרק 8: ניאו אורתודוקסיה - חיוב המודרנה תוך שמירה קפדנית על מצוות הדת - משימת סיכום\",grade_report!$3:$100,ROWS($A$4:D27),0)","v":{"$error":"#N/A"}},{"$f":"HLOOKUP(\"סיכום פרק 9: תנועות וזרמים יהודיים - משימת סיכום לכל הפרק\",grade_report!$3:$100,ROWS($A$4:E27),0)","v":{"$error":"#N/A"}},null,{"$f":"HLOOKUP(\"שיעור לתלמיד 9: מבשרי הציונות וחיבת ציון - שיעור לתלמיד\",grade_report!$3:$100,ROWS($A$4:H27),0)","v":{"$error":"#N/A"}},{"$f":"HLOOKUP(\"סיכום פרק 10: מבשרי הציונות וחיבת ציון - משימת סיכום\",grade_report!$3:$100,ROWS($A$4:H27),0)","v":{"$error":"#N/A"}},{"$f":"HLOOKUP(\"הפנמה 4: מבשרי הציונות וחיבת ציון - משימת הפנמה\",grade_report!$3:$100,ROWS($A$4:AC27),0)","v":{"$error":"#N/A"}},{"$f":"HLOOKUP(\"העשרה 4: מבשרי הציונות וחיבת ציון - משימת העשרה\",grade_report!$3:$100,ROWS($A$4:AD27),0)","v":{"$error":"#N/A"}},null,{"$f":"HLOOKUP(\"שיעור לתלמיד 10: התנועה הציונית והרצל - שיעור לתלמיד\",grade_report!$3:$100,ROWS($A$4:M27),0)","v":{"$error":"#N/A"}},{"$f":"HLOOKUP(\"סיכום פרק 11: התנועה הציונית והרצל - משימת סיכום - סוף ימיו של הרצל\",grade_report!$3:$100,ROWS($A$4:M27),0)","v":{"$error":"#N/A"}},{"$f":"HLOOKUP(\"הפנמה 5: התנועה הציונית והרצל - משימת הפנמה\",grade_report!$3:$100,ROWS($A$4:AH27),0)","v":{"$error":"#N/A"}},{"$f":"HLOOKUP(\"העשרה 5: התנועה הציונית והרצל - משימת העשרה\",grade_report!$3:$100,ROWS($A$4:AI27),0)","v":{"$error":"#N/A"}},null,{"$f":"HLOOKUP(\"שיעור לתלמיד 11: מפלגות, זרמים ומתנגדים - שיעור לתלמיד\",grade_report!$3:$100,ROWS($A$4:R27),0)","v":{"$error":"#N/A"}},{"$f":"HLOOKUP(\"סיכום פרק 12: מפלגות, זרמים ומתנגדים - משימת סיכום\",grade_report!$3:$100,ROWS($A$4:R27),0)","v":{"$error":"#N/A"}},{"$f":"HLOOKUP(\"הפנמה 6: מפלגות, זרמים ומתנגדים - משימת הפנמה\",grade_report!$3:$100,ROWS($A$4:AM27),0)","v":{"$error":"#N/A"}},{"$f":"HLOOKUP(\"העשרה 6: מפלגות, זרמים ומתנגדים - משימת העשרה\",grade_report!$3:$100,ROWS($A$4:AN27),0)","v":{"$error":"#N/A"}},null,{"$f":"HLOOKUP(\"סיכום קורס-ש' סגורות\",grade_report!$3:$100,ROWS($A$4:AP27),0)","v":{"$error":"#N/A"}},{"$f":"HLOOKUP(\"סיכום קורס-ש' פתוחות\",grade_report!$3:$100,ROWS($A$4:AQ27),0)","v":{"$error":"#N/A"}},{"$f":"HLOOKUP(\"תלמידאות\",grade_report!$3:$100,ROWS($A$4:AR27),0)","v":"Not Available"}]
[{"$f":"grade_report!C27","v":"tal_tillinger"},{"$f":"grade_report!B27","v":"tal.tillinger2@gmail.com"},null,{"$f":"VLOOKUP(A25,grade_report!C:D,2,FALSE)","v":7.0000000000000007E-2},{"$f":"HLOOKUP(\"שיעור לתלמיד 1: נאורוּת - שיעור לתלמיד\",grade_report!$3:$100,ROWS($A$4:A28),0)","v":1},{"$f":"HLOOKUP(\"סיכום פרק 1: נאורוּת - משימת סיכום\",grade_report!$3:$100,ROWS($A$4:A28),0)","v":"Not Attempted"},{"$f":"HLOOKUP(\"הפנמה 1: נאורוּת - משימת הפנמה\",grade_report!$3:$100,ROWS($A$4:B28),0)","v":4.7619047619000002E-2},{"$f":"HLOOKUP(\"העשרה 1: נאורוּת - משימת העשרה\",grade_report!$3:$100,ROWS($A$4:C28),0)","v":"Not Attempted"},null,{"$f":"HLOOKUP(\"שיעור לתלמיד 2: מלחמת העולם הראשונה - שיעור לתלמיד\",grade_report!$3:$100,ROWS($A$4:E28),0)","v":{"$error":"#N/A"}},{"$f":"HLOOKUP(\"סיכום פרק 2: מלחמת העולם הראשונה - משימת סיכום\",grade_report!$3:$100,ROWS($A$4:E28),0)","v":{"$error":"#N/A"}},{"$f":"HLOOKUP(\"הפנמה 2: מלחמת העולם הראשונה - משימת הפנמה\",grade_report!$3:$100,ROWS($A$4:F28),0)","v":{"$error":"#N/A"}},{"$f":"HLOOKUP(\"העשרה 2: מלחמת העולם הראשונה - משימת העשרה - רשות: מלחמת החפירות\",grade_report!$3:$100,ROWS($A$4:G28),0)","v":{"$error":"#N/A"}},null,{"$f":"HLOOKUP(\"שיעור לתלמיד 3: השינויים במעמד המשפטי של יהודי צרפת משלהי המאה ה-18 עד ראשית המאה ה-20 - תת פרק לבחירה\",grade_report!$3:$100,ROWS($A$4:J28),0)","v":{"$error":"#N/A"}},{"$f":"HLOOKUP(\"סיכום פרק 3: השינויים במעמד המשפטי של יהודי צרפת משלהי המאה ה-18 עד ראשית המאה ה-20 -משימת סיכום\",grade_report!$3:$100,ROWS($A$4:J28),0)","v":{"$error":"#N/A"}},{"$f":"HLOOKUP(\"שיעור לתלמיד 4: השינויים במעמד המשפטי של יהודי גרמניה משלהי המאה ה-18 עד ראשית המאה ה-20 - תת פרק לבחירה\",grade_report!$3:$100,ROWS($A$4:O28),0)","v":{"$error":"#N/A"}},{"$f":"HLOOKUP(\"סיכום פרק 4: השינויים במעמד המשפטי של יהודי גרמניה משלהי המאה ה-18 עד ראשית המאה ה-20 - תת פרק לבחירה -משימת סיכום\",grade_report!$3:$100,ROWS($A$4:O28),0)","v":{"$error":"#N/A"}},{"$f":"HLOOKUP(\"שיעור לתלמיד 5: השינויים במעמד המשפטי של היהודים בארצות האסלאם - תהליך האמנציפציה באלג'יריה - תת פרק חובה\",grade_report!$3:$100,ROWS($A$4:A28),0)","v":{"$error":"#N/A"}},{"$f":"HLOOKUP(\"סיכום פרק 5: השינויים במעמד המשפטי של היהודים בארצות האסלאם - תהליך האמנציפציה באלג'יריה - משימת סיכום\",grade_report!$3:$100,ROWS($A$4:A28),0)","v":{"$error":"#N/A"}},{"$f":"HLOOKUP(\"שיעור לתלמיד 6: השלכות השינויים במעמד היהודים על החברה היהודית - תת פרק חובה\",grade_report!$3:$100,ROWS($A$4:D28),0)","v":{"$error":"#N/A"}},{"$f":"HLOOKUP(\"סיכום פרק 6: השפעת הליברליזם על תמורות בחברה היהודית - משימת סיכום - סיכום הסוגיה לכל הפרק\",grade_report!$3:$100,ROWS($A$4:A28),0)","v":{"$error":"#N/A"}},{"$f":"HLOOKUP(\"הפנמה 3: מעמד היהודים משלהי המאה ה-18 ועד תחילת המאה ה-20 - משימת הפנמה לכל הפרק\",grade_report!$3:$100,ROWS($A$4:Q28),0)","v":{"$error":"#N/A"}},{"$f":"HLOOKUP(\"העשרה 3: מעמד היהודים משלהי המאה ה-18 ועד תחילת המאה ה-20 - משימת העשרה לכל הפרק\",grade_report!$3:$100,ROWS($A$4:R28),0)","v":{"$error":"#N/A"}},null,{"$f":"HLOOKUP(\"שיעור לתלמיד 7: השפעת הנאורות על החברה היהודית - תת פרק חובה\",grade_report!$3:$100,ROWS($A$4:A28),0)","v":{"$error":"#N/A"}},{"$f":"HLOOKUP(\"סיכום פרק 7: השפעת הנאורות על החברה היהודית - תת פרק חובה - משימת סיכום\",grade_report!$3:$100,ROWS($A$4:A28),0)","v":{"$error":"#N/A"}},null,{"$f":"HLOOKUP(\"שיעור לתלמיד 8: ניאו אורתודוקסיה - חיוב המודרנה תוך שמירה קפדנית על מצוות הדת - שיעור לתלמיד\",grade_report!$3:$100,ROWS($A$4:D28),0)","v":{"$error":"#N/A"}},{"$f":"HLOOKUP(\"סיכום פרק 8: ניאו אורתודוקסיה - חיוב המודרנה תוך שמירה קפדנית על מצוות הדת - משימת סיכום\",grade_report!$3:$100,ROWS($A$4:D28),0)","v":{"$error":"#N/A"}},{"$f":"HLOOKUP(\"סיכום פרק 9: תנועות וזרמים יהודיים - משימת סיכום לכל הפרק\",grade_report!$3:$100,ROWS($A$4:E28),0)","v":{"$error":"#N/A"}},null,{"$f":"HLOOKUP(\"שיעור לתלמיד 9: מבשרי הציונות וחיבת ציון - שיעור לתלמיד\",grade_report!$3:$100,ROWS($A$4:H28),0)","v":{"$error":"#N/A"}},{"$f":"HLOOKUP(\"סיכום פרק 10: מבשרי הציונות וחיבת ציון - משימת סיכום\",grade_report!$3:$100,ROWS($A$4:H28),0)","v":{"$error":"#N/A"}},{"$f":"HLOOKUP(\"הפנמה 4: מבשרי הציונות וחיבת ציון - משימת הפנמה\",grade_report!$3:$100,ROWS($A$4:AC28),0)","v":{"$error":"#N/A"}},{"$f":"HLOOKUP(\"העשרה 4: מבשרי הציונות וחיבת ציון - משימת העשרה\",grade_report!$3:$100,ROWS($A$4:AD28),0)","v":{"$error":"#N/A"}},null,{"$f":"HLOOKUP(\"שיעור לתלמיד 10: התנועה הציונית והרצל - שיעור לתלמיד\",grade_report!$3:$100,ROWS($A$4:M28),0)","v":{"$error":"#N/A"}},{"$f":"HLOOKUP(\"סיכום פרק 11: התנועה הציונית והרצל - משימת סיכום - סוף ימיו של הרצל\",grade_report!$3:$100,ROWS($A$4:M28),0)","v":{"$error":"#N/A"}},{"$f":"HLOOKUP(\"הפנמה 5: התנועה הציונית והרצל - משימת הפנמה\",grade_report!$3:$100,ROWS($A$4:AH28),0)","v":{"$error":"#N/A"}},{"$f":"HLOOKUP(\"העשרה 5: התנועה הציונית והרצל - משימת העשרה\",grade_report!$3:$100,ROWS($A$4:AI28),0)","v":{"$error":"#N/A"}},null,{"$f":"HLOOKUP(\"שיעור לתלמיד 11: מפלגות, זרמים ומתנגדים - שיעור לתלמיד\",grade_report!$3:$100,ROWS($A$4:R28),0)","v":{"$error":"#N/A"}},{"$f":"HLOOKUP(\"סיכום פרק 12: מפלגות, זרמים ומתנגדים - משימת סיכום\",grade_report!$3:$100,ROWS($A$4:R28),0)","v":{"$error":"#N/A"}},{"$f":"HLOOKUP(\"הפנמה 6: מפלגות, זרמים ומתנגדים - משימת הפנמה\",grade_report!$3:$100,ROWS($A$4:AM28),0)","v":{"$error":"#N/A"}},{"$f":"HLOOKUP(\"העשרה 6: מפלגות, זרמים ומתנגדים - משימת העשרה\",grade_report!$3:$100,ROWS($A$4:AN28),0)","v":{"$error":"#N/A"}},null,{"$f":"HLOOKUP(\"סיכום קורס-ש' סגורות\",grade_report!$3:$100,ROWS($A$4:AP28),0)","v":{"$error":"#N/A"}},{"$f":"HLOOKUP(\"סיכום קורס-ש' פתוחות\",grade_report!$3:$100,ROWS($A$4:AQ28),0)","v":{"$error":"#N/A"}},{"$f":"HLOOKUP(\"תלמידאות\",grade_report!$3:$100,ROWS($A$4:AR28),0)","v":"Not Available"}]
[{"$f":"grade_report!C28","v":"תהל_יהושע"},{"$f":"grade_report!B28","v":"tahel030@gmail.com"},null,{"$f":"VLOOKUP(A26,grade_report!C:D,2,FALSE)","v":0.12},{"$f":"HLOOKUP(\"שיעור לתלמיד 1: נאורוּת - שיעור לתלמיד\",grade_report!$3:$100,ROWS($A$4:A29),0)","v":1},{"$f":"HLOOKUP(\"סיכום פרק 1: נאורוּת - משימת סיכום\",grade_report!$3:$100,ROWS($A$4:A29),0)","v":"Not Attempted"},{"$f":"HLOOKUP(\"הפנמה 1: נאורוּת - משימת הפנמה\",grade_report!$3:$100,ROWS($A$4:B29),0)","v":4.7619047619000002E-2},{"$f":"HLOOKUP(\"העשרה 1: נאורוּת - משימת העשרה\",grade_report!$3:$100,ROWS($A$4:C29),0)","v":"Not Attempted"},null,{"$f":"HLOOKUP(\"שיעור לתלמיד 2: מלחמת העולם הראשונה - שיעור לתלמיד\",grade_report!$3:$100,ROWS($A$4:E29),0)","v":{"$error":"#N/A"}},{"$f":"HLOOKUP(\"סיכום פרק 2: מלחמת העולם הראשונה - משימת סיכום\",grade_report!$3:$100,ROWS($A$4:E29),0)","v":{"$error":"#N/A"}},{"$f":"HLOOKUP(\"הפנמה 2: מלחמת העולם הראשונה - משימת הפנמה\",grade_report!$3:$100,ROWS($A$4:F29),0)","v":{"$error":"#N/A"}},{"$f":"HLOOKUP(\"העשרה 2: מלחמת העולם הראשונה - משימת העשרה - רשות: מלחמת החפירות\",grade_report!$3:$100,ROWS($A$4:G29),0)","v":{"$error":"#N/A"}},null,{"$f":"HLOOKUP(\"שיעור לתלמיד 3: השינויים במעמד המשפטי של יהודי צרפת משלהי המאה ה-18 עד ראשית המאה ה-20 - תת פרק לבחירה\",grade_report!$3:$100,ROWS($A$4:J29),0)","v":{"$error":"#N/A"}},{"$f":"HLOOKUP(\"סיכום פרק 3: השינויים במעמד המשפטי של יהודי צרפת משלהי המאה ה-18 עד ראשית המאה ה-20 -משימת סיכום\",grade_report!$3:$100,ROWS($A$4:J29),0)","v":{"$error":"#N/A"}},{"$f":"HLOOKUP(\"שיעור לתלמיד 4: השינויים במעמד המשפטי של יהודי גרמניה משלהי המאה ה-18 עד ראשית המאה ה-20 - תת פרק לבחירה\",grade_report!$3:$100,ROWS($A$4:O29),0)","v":{"$error":"#N/A"}},{"$f":"HLOOKUP(\"סיכום פרק 4: השינויים במעמד המשפטי של יהודי גרמניה משלהי המאה ה-18 עד ראשית המאה ה-20 - תת פרק לבחירה -משימת סיכום\",grade_report!$3:$100,ROWS($A$4:O29),0)","v":{"$error":"#N/A"}},{"$f":"HLOOKUP(\"שיעור לתלמיד 5: השינויים במעמד המשפטי של היהודים בארצות האסלאם - תהליך האמנציפציה באלג'יריה - תת פרק חובה\",grade_report!$3:$100,ROWS($A$4:A29),0)","v":{"$error":"#N/A"}},{"$f":"HLOOKUP(\"סיכום פרק 5: השינויים במעמד המשפטי של היהודים בארצות האסלאם - תהליך האמנציפציה באלג'יריה - משימת סיכום\",grade_report!$3:$100,ROWS($A$4:A29),0)","v":{"$error":"#N/A"}},{"$f":"HLOOKUP(\"שיעור לתלמיד 6: השלכות השינויים במעמד היהודים על החברה היהודית - תת פרק חובה\",grade_report!$3:$100,ROWS($A$4:D29),0)","v":{"$error":"#N/A"}},{"$f":"HLOOKUP(\"סיכום פרק 6: השפעת הליברליזם על תמורות בחברה היהודית - משימת סיכום - סיכום הסוגיה לכל הפרק\",grade_report!$3:$100,ROWS($A$4:A29),0)","v":{"$error":"#N/A"}},{"$f":"HLOOKUP(\"הפנמה 3: מעמד היהודים משלהי המאה ה-18 ועד תחילת המאה ה-20 - משימת הפנמה לכל הפרק\",grade_report!$3:$100,ROWS($A$4:Q29),0)","v":{"$error":"#N/A"}},{"$f":"HLOOKUP(\"העשרה 3: מעמד היהודים משלהי המאה ה-18 ועד תחילת המאה ה-20 - משימת העשרה לכל הפרק\",grade_report!$3:$100,ROWS($A$4:R29),0)","v":{"$error":"#N/A"}},null,{"$f":"HLOOKUP(\"שיעור לתלמיד 7: השפעת הנאורות על החברה היהודית - תת פרק חובה\",grade_report!$3:$100,ROWS($A$4:A29),0)","v":{"$error":"#N/A"}},{"$f":"HLOOKUP(\"סיכום פרק 7: השפעת הנאורות על החברה היהודית - תת פרק חובה - משימת סיכום\",grade_report!$3:$100,ROWS($A$4:A29),0)","v":{"$error":"#N/A"}},null,{"$f":"HLOOKUP(\"שיעור לתלמיד 8: ניאו אורתודוקסיה - חיוב המודרנה תוך שמירה קפדנית על מצוות הדת - שיעור לתלמיד\",grade_report!$3:$100,ROWS($A$4:D29),0)","v":{"$error":"#N/A"}},{"$f":"HLOOKUP(\"סיכום פרק 8: ניאו אורתודוקסיה - חיוב המודרנה תוך שמירה קפדנית על מצוות הדת - משימת סיכום\",grade_report!$3:$100,ROWS($A$4:D29),0)","v":{"$error":"#N/A"}},{"$f":"HLOOKUP(\"סיכום פרק 9: תנועות וזרמים יהודיים - משימת סיכום לכל הפרק\",grade_report!$3:$100,ROWS($A$4:E29),0)","v":{"$error":"#N/A"}},null,{"$f":"HLOOKUP(\"שיעור לתלמיד 9: מבשרי הציונות וחיבת ציון - שיעור לתלמיד\",grade_report!$3:$100,ROWS($A$4:H29),0)","v":{"$error":"#N/A"}},{"$f":"HLOOKUP(\"סיכום פרק 10: מבשרי הציונות וחיבת ציון - משימת סיכום\",grade_report!$3:$100,ROWS($A$4:H29),0)","v":{"$error":"#N/A"}},{"$f":"HLOOKUP(\"הפנמה 4: מבשרי הציונות וחיבת ציון - משימת הפנמה\",grade_report!$3:$100,ROWS($A$4:AC29),0)","v":{"$error":"#N/A"}},{"$f":"HLOOKUP(\"העשרה 4: מבשרי הציונות וחיבת ציון - משימת העשרה\",grade_report!$3:$100,ROWS($A$4:AD29),0)","v":{"$error":"#N/A"}},null,{"$f":"HLOOKUP(\"שיעור לתלמיד 10: התנועה הציונית והרצל - שיעור לתלמיד\",grade_report!$3:$100,ROWS($A$4:M29),0)","v":{"$error":"#N/A"}},{"$f":"HLOOKUP(\"סיכום פרק 11: התנועה הציונית והרצל - משימת סיכום - סוף ימיו של הרצל\",grade_report!$3:$100,ROWS($A$4:M29),0)","v":{"$error":"#N/A"}},{"$f":"HLOOKUP(\"הפנמה 5: התנועה הציונית והרצל - משימת הפנמה\",grade_report!$3:$100,ROWS($A$4:AH29),0)","v":{"$error":"#N/A"}},{"$f":"HLOOKUP(\"העשרה 5: התנועה הציונית והרצל - משימת העשרה\",grade_report!$3:$100,ROWS($A$4:AI29),0)","v":{"$error":"#N/A"}},null,{"$f":"HLOOKUP(\"שיעור לתלמיד 11: מפלגות, זרמים ומתנגדים - שיעור לתלמיד\",grade_report!$3:$100,ROWS($A$4:R29),0)","v":{"$error":"#N/A"}},{"$f":"HLOOKUP(\"סיכום פרק 12: מפלגות, זרמים ומתנגדים - משימת סיכום\",grade_report!$3:$100,ROWS($A$4:R29),0)","v":{"$error":"#N/A"}},{"$f":"HLOOKUP(\"הפנמה 6: מפלגות, זרמים ומתנגדים - משימת הפנמה\",grade_report!$3:$100,ROWS($A$4:AM29),0)","v":{"$error":"#N/A"}},{"$f":"HLOOKUP(\"העשרה 6: מפלגות, זרמים ומתנגדים - משימת העשרה\",grade_report!$3:$100,ROWS($A$4:AN29),0)","v":{"$error":"#N/A"}},null,{"$f":"HLOOKUP(\"סיכום קורס-ש' סגורות\",grade_report!$3:$100,ROWS($A$4:AP29),0)","v":{"$error":"#N/A"}},{"$f":"HLOOKUP(\"סיכום קורס-ש' פתוחות\",grade_report!$3:$100,ROWS($A$4:AQ29),0)","v":{"$error":"#N/A"}},{"$f":"HLOOKUP(\"תלמידאות\",grade_report!$3:$100,ROWS($A$4:AR29),0)","v":"Not Available"}]
[{"$f":"grade_report!C29","v":"ענבל_אברמזון"},{"$f":"grade_report!B29","v":"inbalav9@gmail.com"},null,{"$f":"VLOOKUP(A27,grade_report!C:D,2,FALSE)","v":0.11},{"$f":"HLOOKUP(\"שיעור לתלמיד 1: נאורוּת - שיעור לתלמיד\",grade_report!$3:$100,ROWS($A$4:A30),0)","v":1},{"$f":"HLOOKUP(\"סיכום פרק 1: נאורוּת - משימת סיכום\",grade_report!$3:$100,ROWS($A$4:A30),0)","v":"Not Attempted"},{"$f":"HLOOKUP(\"הפנמה 1: נאורוּת - משימת הפנמה\",grade_report!$3:$100,ROWS($A$4:B30),0)","v":4.7619047619000002E-2},{"$f":"HLOOKUP(\"העשרה 1: נאורוּת - משימת העשרה\",grade_report!$3:$100,ROWS($A$4:C30),0)","v":"Not Attempted"},null,{"$f":"HLOOKUP(\"שיעור לתלמיד 2: מלחמת העולם הראשונה - שיעור לתלמיד\",grade_report!$3:$100,ROWS($A$4:E30),0)","v":{"$error":"#N/A"}},{"$f":"HLOOKUP(\"סיכום פרק 2: מלחמת העולם הראשונה - משימת סיכום\",grade_report!$3:$100,ROWS($A$4:E30),0)","v":{"$error":"#N/A"}},{"$f":"HLOOKUP(\"הפנמה 2: מלחמת העולם הראשונה - משימת הפנמה\",grade_report!$3:$100,ROWS($A$4:F30),0)","v":{"$error":"#N/A"}},{"$f":"HLOOKUP(\"העשרה 2: מלחמת העולם הראשונה - משימת העשרה - רשות: מלחמת החפירות\",grade_report!$3:$100,ROWS($A$4:G30),0)","v":{"$error":"#N/A"}},null,{"$f":"HLOOKUP(\"שיעור לתלמיד 3: השינויים במעמד המשפטי של יהודי צרפת משלהי המאה ה-18 עד ראשית המאה ה-20 - תת פרק לבחירה\",grade_report!$3:$100,ROWS($A$4:J30),0)","v":{"$error":"#N/A"}},{"$f":"HLOOKUP(\"סיכום פרק 3: השינויים במעמד המשפטי של יהודי צרפת משלהי המאה ה-18 עד ראשית המאה ה-20 -משימת סיכום\",grade_report!$3:$100,ROWS($A$4:J30),0)","v":{"$error":"#N/A"}},{"$f":"HLOOKUP(\"שיעור לתלמיד 4: השינויים במעמד המשפטי של יהודי גרמניה משלהי המאה ה-18 עד ראשית המאה ה-20 - תת פרק לבחירה\",grade_report!$3:$100,ROWS($A$4:O30),0)","v":{"$error":"#N/A"}},{"$f":"HLOOKUP(\"סיכום פרק 4: השינויים במעמד המשפטי של יהודי גרמניה משלהי המאה ה-18 עד ראשית המאה ה-20 - תת פרק לבחירה -משימת סיכום\",grade_report!$3:$100,ROWS($A$4:O30),0)","v":{"$error":"#N/A"}},{"$f":"HLOOKUP(\"שיעור לתלמיד 5: השינויים במעמד המשפטי של היהודים בארצות האסלאם - תהליך האמנציפציה באלג'יריה - תת פרק חובה\",grade_report!$3:$100,ROWS($A$4:A30),0)","v":{"$error":"#N/A"}},{"$f":"HLOOKUP(\"סיכום פרק 5: השינויים במעמד המשפטי של היהודים בארצות האסלאם - תהליך האמנציפציה באלג'יריה - משימת סיכום\",grade_report!$3:$100,ROWS($A$4:A30),0)","v":{"$error":"#N/A"}},{"$f":"HLOOKUP(\"שיעור לתלמיד 6: השלכות השינויים במעמד היהודים על החברה היהודית - תת פרק חובה\",grade_report!$3:$100,ROWS($A$4:D30),0)","v":{"$error":"#N/A"}},{"$f":"HLOOKUP(\"סיכום פרק 6: השפעת הליברליזם על תמורות בחברה היהודית - משימת סיכום - סיכום הסוגיה לכל הפרק\",grade_report!$3:$100,ROWS($A$4:A30),0)","v":{"$error":"#N/A"}},{"$f":"HLOOKUP(\"הפנמה 3: מעמד היהודים משלהי המאה ה-18 ועד תחילת המאה ה-20 - משימת הפנמה לכל הפרק\",grade_report!$3:$100,ROWS($A$4:Q30),0)","v":{"$error":"#N/A"}},{"$f":"HLOOKUP(\"העשרה 3: מעמד היהודים משלהי המאה ה-18 ועד תחילת המאה ה-20 - משימת העשרה לכל הפרק\",grade_report!$3:$100,ROWS($A$4:R30),0)","v":{"$error":"#N/A"}},null,{"$f":"HLOOKUP(\"שיעור לתלמיד 7: השפעת הנאורות על החברה היהודית - תת פרק חובה\",grade_report!$3:$100,ROWS($A$4:A30),0)","v":{"$error":"#N/A"}},{"$f":"HLOOKUP(\"סיכום פרק 7: השפעת הנאורות על החברה היהודית - תת פרק חובה - משימת סיכום\",grade_report!$3:$100,ROWS($A$4:A30),0)","v":{"$error":"#N/A"}},null,{"$f":"HLOOKUP(\"שיעור לתלמיד 8: ניאו אורתודוקסיה - חיוב המודרנה תוך שמירה קפדנית על מצוות הדת - שיעור לתלמיד\",grade_report!$3:$100,ROWS($A$4:D30),0)","v":{"$error":"#N/A"}},{"$f":"HLOOKUP(\"סיכום פרק 8: ניאו אורתודוקסיה - חיוב המודרנה תוך שמירה קפדנית על מצוות הדת - משימת סיכום\",grade_report!$3:$100,ROWS($A$4:D30),0)","v":{"$error":"#N/A"}},{"$f":"HLOOKUP(\"סיכום פרק 9: תנועות וזרמים יהודיים - משימת סיכום לכל הפרק\",grade_report!$3:$100,ROWS($A$4:E30),0)","v":{"$error":"#N/A"}},null,{"$f":"HLOOKUP(\"שיעור לתלמיד 9: מבשרי הציונות וחיבת ציון - שיעור לתלמיד\",grade_report!$3:$100,ROWS($A$4:H30),0)","v":{"$error":"#N/A"}},{"$f":"HLOOKUP(\"סיכום פרק 10: מבשרי הציונות וחיבת ציון - משימת סיכום\",grade_report!$3:$100,ROWS($A$4:H30),0)","v":{"$error":"#N/A"}},{"$f":"HLOOKUP(\"הפנמה 4: מבשרי הציונות וחיבת ציון - משימת הפנמה\",grade_report!$3:$100,ROWS($A$4:AC30),0)","v":{"$error":"#N/A"}},{"$f":"HLOOKUP(\"העשרה 4: מבשרי הציונות וחיבת ציון - משימת העשרה\",grade_report!$3:$100,ROWS($A$4:AD30),0)","v":{"$error":"#N/A"}},null,{"$f":"HLOOKUP(\"שיעור לתלמיד 10: התנועה הציונית והרצל - שיעור לתלמיד\",grade_report!$3:$100,ROWS($A$4:M30),0)","v":{"$error":"#N/A"}},{"$f":"HLOOKUP(\"סיכום פרק 11: התנועה הציונית והרצל - משימת סיכום - סוף ימיו של הרצל\",grade_report!$3:$100,ROWS($A$4:M30),0)","v":{"$error":"#N/A"}},{"$f":"HLOOKUP(\"הפנמה 5: התנועה הציונית והרצל - משימת הפנמה\",grade_report!$3:$100,ROWS($A$4:AH30),0)","v":{"$error":"#N/A"}},{"$f":"HLOOKUP(\"העשרה 5: התנועה הציונית והרצל - משימת העשרה\",grade_report!$3:$100,ROWS($A$4:AI30),0)","v":{"$error":"#N/A"}},null,{"$f":"HLOOKUP(\"שיעור לתלמיד 11: מפלגות, זרמים ומתנגדים - שיעור לתלמיד\",grade_report!$3:$100,ROWS($A$4:R30),0)","v":{"$error":"#N/A"}},{"$f":"HLOOKUP(\"סיכום פרק 12: מפלגות, זרמים ומתנגדים - משימת סיכום\",grade_report!$3:$100,ROWS($A$4:R30),0)","v":{"$error":"#N/A"}},{"$f":"HLOOKUP(\"הפנמה 6: מפלגות, זרמים ומתנגדים - משימת הפנמה\",grade_report!$3:$100,ROWS($A$4:AM30),0)","v":{"$error":"#N/A"}},{"$f":"HLOOKUP(\"העשרה 6: מפלגות, זרמים ומתנגדים - משימת העשרה\",grade_report!$3:$100,ROWS($A$4:AN30),0)","v":{"$error":"#N/A"}},null,{"$f":"HLOOKUP(\"סיכום קורס-ש' סגורות\",grade_report!$3:$100,ROWS($A$4:AP30),0)","v":{"$error":"#N/A"}},{"$f":"HLOOKUP(\"סיכום קורס-ש' פתוחות\",grade_report!$3:$100,ROWS($A$4:AQ30),0)","v":{"$error":"#N/A"}},{"$f":"HLOOKUP(\"תלמידאות\",grade_report!$3:$100,ROWS($A$4:AR30),0)","v":"Not Available"}]
[{"$f":"grade_report!C30","v":"יהלי_גיליס"},{"$f":"grade_report!B30","v":"yahli.gillis@gmail.com"},null,{"$f":"VLOOKUP(A28,grade_report!C:D,2,FALSE)","v":0.04},{"$f":"HLOOKUP(\"שיעור לתלמיד 1: נאורוּת - שיעור לתלמיד\",grade_report!$3:$100,ROWS($A$4:A31),0)","v":0.875},{"$f":"HLOOKUP(\"סיכום פרק 1: נאורוּת - משימת סיכום\",grade_report!$3:$100,ROWS($A$4:A31),0)","v":"Not Attempted"},{"$f":"HLOOKUP(\"הפנמה 1: נאורוּת - משימת הפנמה\",grade_report!$3:$100,ROWS($A$4:B31),0)","v":4.7619047619000002E-2},{"$f":"HLOOKUP(\"העשרה 1: נאורוּת - משימת העשרה\",grade_report!$3:$100,ROWS($A$4:C31),0)","v":"Not Attempted"},null,{"$f":"HLOOKUP(\"שיעור לתלמיד 2: מלחמת העולם הראשונה - שיעור לתלמיד\",grade_report!$3:$100,ROWS($A$4:E31),0)","v":{"$error":"#N/A"}},{"$f":"HLOOKUP(\"סיכום פרק 2: מלחמת העולם הראשונה - משימת סיכום\",grade_report!$3:$100,ROWS($A$4:E31),0)","v":{"$error":"#N/A"}},{"$f":"HLOOKUP(\"הפנמה 2: מלחמת העולם הראשונה - משימת הפנמה\",grade_report!$3:$100,ROWS($A$4:F31),0)","v":{"$error":"#N/A"}},{"$f":"HLOOKUP(\"העשרה 2: מלחמת העולם הראשונה - משימת העשרה - רשות: מלחמת החפירות\",grade_report!$3:$100,ROWS($A$4:G31),0)","v":{"$error":"#N/A"}},null,{"$f":"HLOOKUP(\"שיעור לתלמיד 3: השינויים במעמד המשפטי של יהודי צרפת משלהי המאה ה-18 עד ראשית המאה ה-20 - תת פרק לבחירה\",grade_report!$3:$100,ROWS($A$4:J31),0)","v":{"$error":"#N/A"}},{"$f":"HLOOKUP(\"סיכום פרק 3: השינויים במעמד המשפטי של יהודי צרפת משלהי המאה ה-18 עד ראשית המאה ה-20 -משימת סיכום\",grade_report!$3:$100,ROWS($A$4:J31),0)","v":{"$error":"#N/A"}},{"$f":"HLOOKUP(\"שיעור לתלמיד 4: השינויים במעמד המשפטי של יהודי גרמניה משלהי המאה ה-18 עד ראשית המאה ה-20 - תת פרק לבחירה\",grade_report!$3:$100,ROWS($A$4:O31),0)","v":{"$error":"#N/A"}},{"$f":"HLOOKUP(\"סיכום פרק 4: השינויים במעמד המשפטי של יהודי גרמניה משלהי המאה ה-18 עד ראשית המאה ה-20 - תת פרק לבחירה -משימת סיכום\",grade_report!$3:$100,ROWS($A$4:O31),0)","v":{"$error":"#N/A"}},{"$f":"HLOOKUP(\"שיעור לתלמיד 5: השינויים במעמד המשפטי של היהודים בארצות האסלאם - תהליך האמנציפציה באלג'יריה - תת פרק חובה\",grade_report!$3:$100,ROWS($A$4:A31),0)","v":{"$error":"#N/A"}},{"$f":"HLOOKUP(\"סיכום פרק 5: השינויים במעמד המשפטי של היהודים בארצות האסלאם - תהליך האמנציפציה באלג'יריה - משימת סיכום\",grade_report!$3:$100,ROWS($A$4:A31),0)","v":{"$error":"#N/A"}},{"$f":"HLOOKUP(\"שיעור לתלמיד 6: השלכות השינויים במעמד היהודים על החברה היהודית - תת פרק חובה\",grade_report!$3:$100,ROWS($A$4:D31),0)","v":{"$error":"#N/A"}},{"$f":"HLOOKUP(\"סיכום פרק 6: השפעת הליברליזם על תמורות בחברה היהודית - משימת סיכום - סיכום הסוגיה לכל הפרק\",grade_report!$3:$100,ROWS($A$4:A31),0)","v":{"$error":"#N/A"}},{"$f":"HLOOKUP(\"הפנמה 3: מעמד היהודים משלהי המאה ה-18 ועד תחילת המאה ה-20 - משימת הפנמה לכל הפרק\",grade_report!$3:$100,ROWS($A$4:Q31),0)","v":{"$error":"#N/A"}},{"$f":"HLOOKUP(\"העשרה 3: מעמד היהודים משלהי המאה ה-18 ועד תחילת המאה ה-20 - משימת העשרה לכל הפרק\",grade_report!$3:$100,ROWS($A$4:R31),0)","v":{"$error":"#N/A"}},null,{"$f":"HLOOKUP(\"שיעור לתלמיד 7: השפעת הנאורות על החברה היהודית - תת פרק חובה\",grade_report!$3:$100,ROWS($A$4:A31),0)","v":{"$error":"#N/A"}},{"$f":"HLOOKUP(\"סיכום פרק 7: השפעת הנאורות על החברה היהודית - תת פרק חובה - משימת סיכום\",grade_report!$3:$100,ROWS($A$4:A31),0)","v":{"$error":"#N/A"}},null,{"$f":"HLOOKUP(\"שיעור לתלמיד 8: ניאו אורתודוקסיה - חיוב המודרנה תוך שמירה קפדנית על מצוות הדת - שיעור לתלמיד\",grade_report!$3:$100,ROWS($A$4:D31),0)","v":{"$error":"#N/A"}},{"$f":"HLOOKUP(\"סיכום פרק 8: ניאו אורתודוקסיה - חיוב המודרנה תוך שמירה קפדנית על מצוות הדת - משימת סיכום\",grade_report!$3:$100,ROWS($A$4:D31),0)","v":{"$error":"#N/A"}},{"$f":"HLOOKUP(\"סיכום פרק 9: תנועות וזרמים יהודיים - משימת סיכום לכל הפרק\",grade_report!$3:$100,ROWS($A$4:E31),0)","v":{"$error":"#N/A"}},null,{"$f":"HLOOKUP(\"שיעור לתלמיד 9: מבשרי הציונות וחיבת ציון - שיעור לתלמיד\",grade_report!$3:$100,ROWS($A$4:H31),0)","v":{"$error":"#N/A"}},{"$f":"HLOOKUP(\"סיכום פרק 10: מבשרי הציונות וחיבת ציון - משימת סיכום\",grade_report!$3:$100,ROWS($A$4:H31),0)","v":{"$error":"#N/A"}},{"$f":"HLOOKUP(\"הפנמה 4: מבשרי הציונות וחיבת ציון - משימת הפנמה\",grade_report!$3:$100,ROWS($A$4:AC31),0)","v":{"$error":"#N/A"}},{"$f":"HLOOKUP(\"העשרה 4: מבשרי הציונות וחיבת ציון - משימת העשרה\",grade_report!$3:$100,ROWS($A$4:AD31),0)","v":{"$error":"#N/A"}},null,{"$f":"HLOOKUP(\"שיעור לתלמיד 10: התנועה הציונית והרצל - שיעור לתלמיד\",grade_report!$3:$100,ROWS($A$4:M31),0)","v":{"$error":"#N/A"}},{"$f":"HLOOKUP(\"סיכום פרק 11: התנועה הציונית והרצל - משימת סיכום - סוף ימיו של הרצל\",grade_report!$3:$100,ROWS($A$4:M31),0)","v":{"$error":"#N/A"}},{"$f":"HLOOKUP(\"הפנמה 5: התנועה הציונית והרצל - משימת הפנמה\",grade_report!$3:$100,ROWS($A$4:AH31),0)","v":{"$error":"#N/A"}},{"$f":"HLOOKUP(\"העשרה 5: התנועה הציונית והרצל - משימת העשרה\",grade_report!$3:$100,ROWS($A$4:AI31),0)","v":{"$error":"#N/A"}},null,{"$f":"HLOOKUP(\"שיעור לתלמיד 11: מפלגות, זרמים ומתנגדים - שיעור לתלמיד\",grade_report!$3:$100,ROWS($A$4:R31),0)","v":{"$error":"#N/A"}},{"$f":"HLOOKUP(\"סיכום פרק 12: מפלגות, זרמים ומתנגדים - משימת סיכום\",grade_report!$3:$100,ROWS($A$4:R31),0)","v":{"$error":"#N/A"}},{"$f":"HLOOKUP(\"הפנמה 6: מפלגות, זרמים ומתנגדים - משימת הפנמה\",grade_report!$3:$100,ROWS($A$4:AM31),0)","v":{"$error":"#N/A"}},{"$f":"HLOOKUP(\"העשרה 6: מפלגות, זרמים ומתנגדים - משימת העשרה\",grade_report!$3:$100,ROWS($A$4:AN31),0)","v":{"$error":"#N/A"}},null,{"$f":"HLOOKUP(\"סיכום קורס-ש' סגורות\",grade_report!$3:$100,ROWS($A$4:AP31),0)","v":{"$error":"#N/A"}},{"$f":"HLOOKUP(\"סיכום קורס-ש' פתוחות\",grade_report!$3:$100,ROWS($A$4:AQ31),0)","v":{"$error":"#N/A"}},{"$f":"HLOOKUP(\"תלמידאות\",grade_report!$3:$100,ROWS($A$4:AR31),0)","v":"Not Available"}]
[{"$f":"grade_report!C31","v":"אוריה_אלהרר"},{"$f":"grade_report!B31","v":"oriyaelharar1@gmail.com"},null,{"$f":"VLOOKUP(A29,grade_report!C:D,2,FALSE)","v":0.1},{"$f":"HLOOKUP(\"שיעור לתלמיד 1: נאורוּת - שיעור לתלמיד\",grade_report!$3:$100,ROWS($A$4:A32),0)","v":0.875},{"$f":"HLOOKUP(\"סיכום פרק 1: נאורוּת - משימת סיכום\",grade_report!$3:$100,ROWS($A$4:A32),0)","v":"Not Attempted"},{"$f":"HLOOKUP(\"הפנמה 1: נאורוּת - משימת הפנמה\",grade_report!$3:$100,ROWS($A$4:B32),0)","v":"Not Attempted"},{"$f":"HLOOKUP(\"העשרה 1: נאורוּת - משימת העשרה\",grade_report!$3:$100,ROWS($A$4:C32),0)","v":"Not Attempted"},null,{"$f":"HLOOKUP(\"שיעור לתלמיד 2: מלחמת העולם הראשונה - שיעור לתלמיד\",grade_report!$3:$100,ROWS($A$4:E32),0)","v":{"$error":"#N/A"}},{"$f":"HLOOKUP(\"סיכום פרק 2: מלחמת העולם הראשונה - משימת סיכום\",grade_report!$3:$100,ROWS($A$4:E32),0)","v":{"$error":"#N/A"}},{"$f":"HLOOKUP(\"הפנמה 2: מלחמת העולם הראשונה - משימת הפנמה\",grade_report!$3:$100,ROWS($A$4:F32),0)","v":{"$error":"#N/A"}},{"$f":"HLOOKUP(\"העשרה 2: מלחמת העולם הראשונה - משימת העשרה - רשות: מלחמת החפירות\",grade_report!$3:$100,ROWS($A$4:G32),0)","v":{"$error":"#N/A"}},null,{"$f":"HLOOKUP(\"שיעור לתלמיד 3: השינויים במעמד המשפטי של יהודי צרפת משלהי המאה ה-18 עד ראשית המאה ה-20 - תת פרק לבחירה\",grade_report!$3:$100,ROWS($A$4:J32),0)","v":{"$error":"#N/A"}},{"$f":"HLOOKUP(\"סיכום פרק 3: השינויים במעמד המשפטי של יהודי צרפת משלהי המאה ה-18 עד ראשית המאה ה-20 -משימת סיכום\",grade_report!$3:$100,ROWS($A$4:J32),0)","v":{"$error":"#N/A"}},{"$f":"HLOOKUP(\"שיעור לתלמיד 4: השינויים במעמד המשפטי של יהודי גרמניה משלהי המאה ה-18 עד ראשית המאה ה-20 - תת פרק לבחירה\",grade_report!$3:$100,ROWS($A$4:O32),0)","v":{"$error":"#N/A"}},{"$f":"HLOOKUP(\"סיכום פרק 4: השינויים במעמד המשפטי של יהודי גרמניה משלהי המאה ה-18 עד ראשית המאה ה-20 - תת פרק לבחירה -משימת סיכום\",grade_report!$3:$100,ROWS($A$4:O32),0)","v":{"$error":"#N/A"}},{"$f":"HLOOKUP(\"שיעור לתלמיד 5: השינויים במעמד המשפטי של היהודים בארצות האסלאם - תהליך האמנציפציה באלג'יריה - תת פרק חובה\",grade_report!$3:$100,ROWS($A$4:A32),0)","v":{"$error":"#N/A"}},{"$f":"HLOOKUP(\"סיכום פרק 5: השינויים במעמד המשפטי של היהודים בארצות האסלאם - תהליך האמנציפציה באלג'יריה - משימת סיכום\",grade_report!$3:$100,ROWS($A$4:A32),0)","v":{"$error":"#N/A"}},{"$f":"HLOOKUP(\"שיעור לתלמיד 6: השלכות השינויים במעמד היהודים על החברה היהודית - תת פרק חובה\",grade_report!$3:$100,ROWS($A$4:D32),0)","v":{"$error":"#N/A"}},{"$f":"HLOOKUP(\"סיכום פרק 6: השפעת הליברליזם על תמורות בחברה היהודית - משימת סיכום - סיכום הסוגיה לכל הפרק\",grade_report!$3:$100,ROWS($A$4:A32),0)","v":{"$error":"#N/A"}},{"$f":"HLOOKUP(\"הפנמה 3: מעמד היהודים משלהי המאה ה-18 ועד תחילת המאה ה-20 - משימת הפנמה לכל הפרק\",grade_report!$3:$100,ROWS($A$4:Q32),0)","v":{"$error":"#N/A"}},{"$f":"HLOOKUP(\"העשרה 3: מעמד היהודים משלהי המאה ה-18 ועד תחילת המאה ה-20 - משימת העשרה לכל הפרק\",grade_report!$3:$100,ROWS($A$4:R32),0)","v":{"$error":"#N/A"}},null,{"$f":"HLOOKUP(\"שיעור לתלמיד 7: השפעת הנאורות על החברה היהודית - תת פרק חובה\",grade_report!$3:$100,ROWS($A$4:A32),0)","v":{"$error":"#N/A"}},{"$f":"HLOOKUP(\"סיכום פרק 7: השפעת הנאורות על החברה היהודית - תת פרק חובה - משימת סיכום\",grade_report!$3:$100,ROWS($A$4:A32),0)","v":{"$error":"#N/A"}},null,{"$f":"HLOOKUP(\"שיעור לתלמיד 8: ניאו אורתודוקסיה - חיוב המודרנה תוך שמירה קפדנית על מצוות הדת - שיעור לתלמיד\",grade_report!$3:$100,ROWS($A$4:D32),0)","v":{"$error":"#N/A"}},{"$f":"HLOOKUP(\"סיכום פרק 8: ניאו אורתודוקסיה - חיוב המודרנה תוך שמירה קפדנית על מצוות הדת - משימת סיכום\",grade_report!$3:$100,ROWS($A$4:D32),0)","v":{"$error":"#N/A"}},{"$f":"HLOOKUP(\"סיכום פרק 9: תנועות וזרמים יהודיים - משימת סיכום לכל הפרק\",grade_report!$3:$100,ROWS($A$4:E32),0)","v":{"$error":"#N/A"}},null,{"$f":"HLOOKUP(\"שיעור לתלמיד 9: מבשרי הציונות וחיבת ציון - שיעור לתלמיד\",grade_report!$3:$100,ROWS($A$4:H32),0)","v":{"$error":"#N/A"}},{"$f":"HLOOKUP(\"סיכום פרק 10: מבשרי הציונות וחיבת ציון - משימת סיכום\",grade_report!$3:$100,ROWS($A$4:H32),0)","v":{"$error":"#N/A"}},{"$f":"HLOOKUP(\"הפנמה 4: מבשרי הציונות וחיבת ציון - משימת הפנמה\",grade_report!$3:$100,ROWS($A$4:AC32),0)","v":{"$error":"#N/A"}},{"$f":"HLOOKUP(\"העשרה 4: מבשרי הציונות וחיבת ציון - משימת העשרה\",grade_report!$3:$100,ROWS($A$4:AD32),0)","v":{"$error":"#N/A"}},null,{"$f":"HLOOKUP(\"שיעור לתלמיד 10: התנועה הציונית והרצל - שיעור לתלמיד\",grade_report!$3:$100,ROWS($A$4:M32),0)","v":{"$error":"#N/A"}},{"$f":"HLOOKUP(\"סיכום פרק 11: התנועה הציונית והרצל - משימת סיכום - סוף ימיו של הרצל\",grade_report!$3:$100,ROWS($A$4:M32),0)","v":{"$error":"#N/A"}},{"$f":"HLOOKUP(\"הפנמה 5: התנועה הציונית והרצל - משימת הפנמה\",grade_report!$3:$100,ROWS($A$4:AH32),0)","v":{"$error":"#N/A"}},{"$f":"HLOOKUP(\"העשרה 5: התנועה הציונית והרצל - משימת העשרה\",grade_report!$3:$100,ROWS($A$4:AI32),0)","v":{"$error":"#N/A"}},null,{"$f":"HLOOKUP(\"שיעור לתלמיד 11: מפלגות, זרמים ומתנגדים - שיעור לתלמיד\",grade_report!$3:$100,ROWS($A$4:R32),0)","v":{"$error":"#N/A"}},{"$f":"HLOOKUP(\"סיכום פרק 12: מפלגות, זרמים ומתנגדים - משימת סיכום\",grade_report!$3:$100,ROWS($A$4:R32),0)","v":{"$error":"#N/A"}},{"$f":"HLOOKUP(\"הפנמה 6: מפלגות, זרמים ומתנגדים - משימת הפנמה\",grade_report!$3:$100,ROWS($A$4:AM32),0)","v":{"$error":"#N/A"}},{"$f":"HLOOKUP(\"העשרה 6: מפלגות, זרמים ומתנגדים - משימת העשרה\",grade_report!$3:$100,ROWS($A$4:AN32),0)","v":{"$error":"#N/A"}},null,{"$f":"HLOOKUP(\"סיכום קורס-ש' סגורות\",grade_report!$3:$100,ROWS($A$4:AP32),0)","v":{"$error":"#N/A"}},{"$f":"HLOOKUP(\"סיכום קורס-ש' פתוחות\",grade_report!$3:$100,ROWS($A$4:AQ32),0)","v":{"$error":"#N/A"}},{"$f":"HLOOKUP(\"תלמידאות\",grade_report!$3:$100,ROWS($A$4:AR32),0)","v":"Not Available"}]
[{"$f":"grade_report!C32","v":0},{"$f":"grade_report!B32","v":0},null,{"$f":"VLOOKUP(A30,grade_report!C:D,2,FALSE)","v":{"$error":"#N/A"}},{"$f":"HLOOKUP(\"שיעור לתלמיד 1: נאורוּת - שיעור לתלמיד\",grade_report!$3:$100,ROWS($A$4:A33),0)","v":0},{"$f":"HLOOKUP(\"סיכום פרק 1: נאורוּת - משימת סיכום\",grade_report!$3:$100,ROWS($A$4:A33),0)","v":0},{"$f":"HLOOKUP(\"הפנמה 1: נאורוּת - משימת הפנמה\",grade_report!$3:$100,ROWS($A$4:B33),0)","v":0},{"$f":"HLOOKUP(\"העשרה 1: נאורוּת - משימת העשרה\",grade_report!$3:$100,ROWS($A$4:C33),0)","v":0},null,{"$f":"HLOOKUP(\"שיעור לתלמיד 2: מלחמת העולם הראשונה - שיעור לתלמיד\",grade_report!$3:$100,ROWS($A$4:E33),0)","v":{"$error":"#N/A"}},{"$f":"HLOOKUP(\"סיכום פרק 2: מלחמת העולם הראשונה - משימת סיכום\",grade_report!$3:$100,ROWS($A$4:E33),0)","v":{"$error":"#N/A"}},{"$f":"HLOOKUP(\"הפנמה 2: מלחמת העולם הראשונה - משימת הפנמה\",grade_report!$3:$100,ROWS($A$4:F33),0)","v":{"$error":"#N/A"}},{"$f":"HLOOKUP(\"העשרה 2: מלחמת העולם הראשונה - משימת העשרה - רשות: מלחמת החפירות\",grade_report!$3:$100,ROWS($A$4:G33),0)","v":{"$error":"#N/A"}},null,{"$f":"HLOOKUP(\"שיעור לתלמיד 3: השינויים במעמד המשפטי של יהודי צרפת משלהי המאה ה-18 עד ראשית המאה ה-20 - תת פרק לבחירה\",grade_report!$3:$100,ROWS($A$4:J33),0)","v":{"$error":"#N/A"}},{"$f":"HLOOKUP(\"סיכום פרק 3: השינויים במעמד המשפטי של יהודי צרפת משלהי המאה ה-18 עד ראשית המאה ה-20 -משימת סיכום\",grade_report!$3:$100,ROWS($A$4:J33),0)","v":{"$error":"#N/A"}},{"$f":"HLOOKUP(\"שיעור לתלמיד 4: השינויים במעמד המשפטי של יהודי גרמניה משלהי המאה ה-18 עד ראשית המאה ה-20 - תת פרק לבחירה\",grade_report!$3:$100,ROWS($A$4:O33),0)","v":{"$error":"#N/A"}},{"$f":"HLOOKUP(\"סיכום פרק 4: השינויים במעמד המשפטי של יהודי גרמניה משלהי המאה ה-18 עד ראשית המאה ה-20 - תת פרק לבחירה -משימת סיכום\",grade_report!$3:$100,ROWS($A$4:O33),0)","v":{"$error":"#N/A"}},{"$f":"HLOOKUP(\"שיעור לתלמיד 5: השינויים במעמד המשפטי של היהודים בארצות האסלאם - תהליך האמנציפציה באלג'יריה - תת פרק חובה\",grade_report!$3:$100,ROWS($A$4:A33),0)","v":{"$error":"#N/A"}},{"$f":"HLOOKUP(\"סיכום פרק 5: השינויים במעמד המשפטי של היהודים בארצות האסלאם - תהליך האמנציפציה באלג'יריה - משימת סיכום\",grade_report!$3:$100,ROWS($A$4:A33),0)","v":{"$error":"#N/A"}},{"$f":"HLOOKUP(\"שיעור לתלמיד 6: השלכות השינויים במעמד היהודים על החברה היהודית - תת פרק חובה\",grade_report!$3:$100,ROWS($A$4:D33),0)","v":{"$error":"#N/A"}},{"$f":"HLOOKUP(\"סיכום פרק 6: השפעת הליברליזם על תמורות בחברה היהודית - משימת סיכום - סיכום הסוגיה לכל הפרק\",grade_report!$3:$100,ROWS($A$4:A33),0)","v":{"$error":"#N/A"}},{"$f":"HLOOKUP(\"הפנמה 3: מעמד היהודים משלהי המאה ה-18 ועד תחילת המאה ה-20 - משימת הפנמה לכל הפרק\",grade_report!$3:$100,ROWS($A$4:Q33),0)","v":{"$error":"#N/A"}},{"$f":"HLOOKUP(\"העשרה 3: מעמד היהודים משלהי המאה ה-18 ועד תחילת המאה ה-20 - משימת העשרה לכל הפרק\",grade_report!$3:$100,ROWS($A$4:R33),0)","v":{"$error":"#N/A"}},null,{"$f":"HLOOKUP(\"שיעור לתלמיד 7: השפעת הנאורות על החברה היהודית - תת פרק חובה\",grade_report!$3:$100,ROWS($A$4:A33),0)","v":{"$error":"#N/A"}},{"$f":"HLOOKUP(\"סיכום פרק 7: השפעת הנאורות על החברה היהודית - תת פרק חובה - משימת סיכום\",grade_report!$3:$100,ROWS($A$4:A33),0)","v":{"$error":"#N/A"}},null,{"$f":"HLOOKUP(\"שיעור לתלמיד 8: ניאו אורתודוקסיה - חיוב המודרנה תוך שמירה קפדנית על מצוות הדת - שיעור לתלמיד\",grade_report!$3:$100,ROWS($A$4:D33),0)","v":{"$error":"#N/A"}},{"$f":"HLOOKUP(\"סיכום פרק 8: ניאו אורתודוקסיה - חיוב המודרנה תוך שמירה קפדנית על מצוות הדת - משימת סיכום\",grade_report!$3:$100,ROWS($A$4:D33),0)","v":{"$error":"#N/A"}},{"$f":"HLOOKUP(\"סיכום פרק 9: תנועות וזרמים יהודיים - משימת סיכום לכל הפרק\",grade_report!$3:$100,ROWS($A$4:E33),0)","v":{"$error":"#N/A"}},null,{"$f":"HLOOKUP(\"שיעור לתלמיד 9: מבשרי הציונות וחיבת ציון - שיעור לתלמיד\",grade_report!$3:$100,ROWS($A$4:H33),0)","v":{"$error":"#N/A"}},{"$f":"HLOOKUP(\"סיכום פרק 10: מבשרי הציונות וחיבת ציון - משימת סיכום\",grade_report!$3:$100,ROWS($A$4:H33),0)","v":{"$error":"#N/A"}},{"$f":"HLOOKUP(\"הפנמה 4: מבשרי הציונות וחיבת ציון - משימת הפנמה\",grade_report!$3:$100,ROWS($A$4:AC33),0)","v":{"$error":"#N/A"}},{"$f":"HLOOKUP(\"העשרה 4: מבשרי הציונות וחיבת ציון - משימת העשרה\",grade_report!$3:$100,ROWS($A$4:AD33),0)","v":{"$error":"#N/A"}},null,{"$f":"HLOOKUP(\"שיעור לתלמיד 10: התנועה הציונית והרצל - שיעור לתלמיד\",grade_report!$3:$100,ROWS($A$4:M33),0)","v":{"$error":"#N/A"}},{"$f":"HLOOKUP(\"סיכום פרק 11: התנועה הציונית והרצל - משימת סיכום - סוף ימיו של הרצל\",grade_report!$3:$100,ROWS($A$4:M33),0)","v":{"$error":"#N/A"}},{"$f":"HLOOKUP(\"הפנמה 5: התנועה הציונית והרצל - משימת הפנמה\",grade_report!$3:$100,ROWS($A$4:AH33),0)","v":{"$error":"#N/A"}},{"$f":"HLOOKUP(\"העשרה 5: התנועה הציונית והרצל - משימת העשרה\",grade_report!$3:$100,ROWS($A$4:AI33),0)","v":{"$error":"#N/A"}},null,{"$f":"HLOOKUP(\"שיעור לתלמיד 11: מפלגות, זרמים ומתנגדים - שיעור לתלמיד\",grade_report!$3:$100,ROWS($A$4:R33),0)","v":{"$error":"#N/A"}},{"$f":"HLOOKUP(\"סיכום פרק 12: מפלגות, זרמים ומתנגדים - משימת סיכום\",grade_report!$3:$100,ROWS($A$4:R33),0)","v":{"$error":"#N/A"}},{"$f":"HLOOKUP(\"הפנמה 6: מפלגות, זרמים ומתנגדים - משימת הפנמה\",grade_report!$3:$100,ROWS($A$4:AM33),0)","v":{"$error":"#N/A"}},{"$f":"HLOOKUP(\"העשרה 6: מפלגות, זרמים ומתנגדים - משימת העשרה\",grade_report!$3:$100,ROWS($A$4:AN33),0)","v":{"$error":"#N/A"}},null,{"$f":"HLOOKUP(\"סיכום קורס-ש' סגורות\",grade_report!$3:$100,ROWS($A$4:AP33),0)","v":{"$error":"#N/A"}},{"$f":"HLOOKUP(\"סיכום קורס-ש' פתוחות\",grade_report!$3:$100,ROWS($A$4:AQ33),0)","v":{"$error":"#N/A"}},{"$f":"HLOOKUP(\"תלמידאות\",grade_report!$3:$100,ROWS($A$4:AR33),0)","v":0}]
[{"$f":"grade_report!C33","v":0},{"$f":"grade_report!B33","v":0},null,{"$f":"VLOOKUP(A31,grade_report!C:D,2,FALSE)","v":{"$error":"#N/A"}},{"$f":"HLOOKUP(\"שיעור לתלמיד 1: נאורוּת - שיעור לתלמיד\",grade_report!$3:$100,ROWS($A$4:A34),0)","v":0},{"$f":"HLOOKUP(\"סיכום פרק 1: נאורוּת - משימת סיכום\",grade_report!$3:$100,ROWS($A$4:A34),0)","v":0},{"$f":"HLOOKUP(\"הפנמה 1: נאורוּת - משימת הפנמה\",grade_report!$3:$100,ROWS($A$4:B34),0)","v":0},{"$f":"HLOOKUP(\"העשרה 1: נאורוּת - משימת העשרה\",grade_report!$3:$100,ROWS($A$4:C34),0)","v":0},null,{"$f":"HLOOKUP(\"שיעור לתלמיד 2: מלחמת העולם הראשונה - שיעור לתלמיד\",grade_report!$3:$100,ROWS($A$4:E34),0)","v":{"$error":"#N/A"}},{"$f":"HLOOKUP(\"סיכום פרק 2: מלחמת העולם הראשונה - משימת סיכום\",grade_report!$3:$100,ROWS($A$4:E34),0)","v":{"$error":"#N/A"}},{"$f":"HLOOKUP(\"הפנמה 2: מלחמת העולם הראשונה - משימת הפנמה\",grade_report!$3:$100,ROWS($A$4:F34),0)","v":{"$error":"#N/A"}},{"$f":"HLOOKUP(\"העשרה 2: מלחמת העולם הראשונה - משימת העשרה - רשות: מלחמת החפירות\",grade_report!$3:$100,ROWS($A$4:G34),0)","v":{"$error":"#N/A"}},null,{"$f":"HLOOKUP(\"שיעור לתלמיד 3: השינויים במעמד המשפטי של יהודי צרפת משלהי המאה ה-18 עד ראשית המאה ה-20 - תת פרק לבחירה\",grade_report!$3:$100,ROWS($A$4:J34),0)","v":{"$error":"#N/A"}},{"$f":"HLOOKUP(\"סיכום פרק 3: השינויים במעמד המשפטי של יהודי צרפת משלהי המאה ה-18 עד ראשית המאה ה-20 -משימת סיכום\",grade_report!$3:$100,ROWS($A$4:J34),0)","v":{"$error":"#N/A"}},{"$f":"HLOOKUP(\"שיעור לתלמיד 4: השינויים במעמד המשפטי של יהודי גרמניה משלהי המאה ה-18 עד ראשית המאה ה-20 - תת פרק לבחירה\",grade_report!$3:$100,ROWS($A$4:O34),0)","v":{"$error":"#N/A"}},{"$f":"HLOOKUP(\"סיכום פרק 4: השינויים במעמד המשפטי של יהודי גרמניה משלהי המאה ה-18 עד ראשית המאה ה-20 - תת פרק לבחירה -משימת סיכום\",grade_report!$3:$100,ROWS($A$4:O34),0)","v":{"$error":"#N/A"}},{"$f":"HLOOKUP(\"שיעור לתלמיד 5: השינויים במעמד המשפטי של היהודים בארצות האסלאם - תהליך האמנציפציה באלג'יריה - תת פרק חובה\",grade_report!$3:$100,ROWS($A$4:A34),0)","v":{"$error":"#N/A"}},{"$f":"HLOOKUP(\"סיכום פרק 5: השינויים במעמד המשפטי של היהודים בארצות האסלאם - תהליך האמנציפציה באלג'יריה - משימת סיכום\",grade_report!$3:$100,ROWS($A$4:A34),0)","v":{"$error":"#N/A"}},{"$f":"HLOOKUP(\"שיעור לתלמיד 6: השלכות השינויים במעמד היהודים על החברה היהודית - תת פרק חובה\",grade_report!$3:$100,ROWS($A$4:D34),0)","v":{"$error":"#N/A"}},{"$f":"HLOOKUP(\"סיכום פרק 6: השפעת הליברליזם על תמורות בחברה היהודית - משימת סיכום - סיכום הסוגיה לכל הפרק\",grade_report!$3:$100,ROWS($A$4:A34),0)","v":{"$error":"#N/A"}},{"$f":"HLOOKUP(\"הפנמה 3: מעמד היהודים משלהי המאה ה-18 ועד תחילת המאה ה-20 - משימת הפנמה לכל הפרק\",grade_report!$3:$100,ROWS($A$4:Q34),0)","v":{"$error":"#N/A"}},{"$f":"HLOOKUP(\"העשרה 3: מעמד היהודים משלהי המאה ה-18 ועד תחילת המאה ה-20 - משימת העשרה לכל הפרק\",grade_report!$3:$100,ROWS($A$4:R34),0)","v":{"$error":"#N/A"}},null,{"$f":"HLOOKUP(\"שיעור לתלמיד 7: השפעת הנאורות על החברה היהודית - תת פרק חובה\",grade_report!$3:$100,ROWS($A$4:A34),0)","v":{"$error":"#N/A"}},{"$f":"HLOOKUP(\"סיכום פרק 7: השפעת הנאורות על החברה היהודית - תת פרק חובה - משימת סיכום\",grade_report!$3:$100,ROWS($A$4:A34),0)","v":{"$error":"#N/A"}},null,{"$f":"HLOOKUP(\"שיעור לתלמיד 8: ניאו אורתודוקסיה - חיוב המודרנה תוך שמירה קפדנית על מצוות הדת - שיעור לתלמיד\",grade_report!$3:$100,ROWS($A$4:D34),0)","v":{"$error":"#N/A"}},{"$f":"HLOOKUP(\"סיכום פרק 8: ניאו אורתודוקסיה - חיוב המודרנה תוך שמירה קפדנית על מצוות הדת - משימת סיכום\",grade_report!$3:$100,ROWS($A$4:D34),0)","v":{"$error":"#N/A"}},{"$f":"HLOOKUP(\"סיכום פרק 9: תנועות וזרמים יהודיים - משימת סיכום לכל הפרק\",grade_report!$3:$100,ROWS($A$4:E34),0)","v":{"$error":"#N/A"}},null,{"$f":"HLOOKUP(\"שיעור לתלמיד 9: מבשרי הציונות וחיבת ציון - שיעור לתלמיד\",grade_report!$3:$100,ROWS($A$4:H34),0)","v":{"$error":"#N/A"}},{"$f":"HLOOKUP(\"סיכום פרק 10: מבשרי הציונות וחיבת ציון - משימת סיכום\",grade_report!$3:$100,ROWS($A$4:H34),0)","v":{"$error":"#N/A"}},{"$f":"HLOOKUP(\"הפנמה 4: מבשרי הציונות וחיבת ציון - משימת הפנמה\",grade_report!$3:$100,ROWS($A$4:AC34),0)","v":{"$error":"#N/A"}},{"$f":"HLOOKUP(\"העשרה 4: מבשרי הציונות וחיבת ציון - משימת העשרה\",grade_report!$3:$100,ROWS($A$4:AD34),0)","v":{"$error":"#N/A"}},null,{"$f":"HLOOKUP(\"שיעור לתלמיד 10: התנועה הציונית והרצל - שיעור לתלמיד\",grade_report!$3:$100,ROWS($A$4:M34),0)","v":{"$error":"#N/A"}},{"$f":"HLOOKUP(\"סיכום פרק 11: התנועה הציונית והרצל - משימת סיכום - סוף ימיו של הרצל\",grade_report!$3:$100,ROWS($A$4:M34),0)","v":{"$error":"#N/A"}},{"$f":"HLOOKUP(\"הפנמה 5: התנועה הציונית והרצל - משימת הפנמה\",grade_report!$3:$100,ROWS($A$4:AH34),0)","v":{"$error":"#N/A"}},{"$f":"HLOOKUP(\"העשרה 5: התנועה הציונית והרצל - משימת העשרה\",grade_report!$3:$100,ROWS($A$4:AI34),0)","v":{"$error":"#N/A"}},null,{"$f":"HLOOKUP(\"שיעור לתלמיד 11: מפלגות, זרמים ומתנגדים - שיעור לתלמיד\",grade_report!$3:$100,ROWS($A$4:R34),0)","v":{"$error":"#N/A"}},{"$f":"HLOOKUP(\"סיכום פרק 12: מפלגות, זרמים ומתנגדים - משימת סיכום\",grade_report!$3:$100,ROWS($A$4:R34),0)","v":{"$error":"#N/A"}},{"$f":"HLOOKUP(\"הפנמה 6: מפלגות, זרמים ומתנגדים - משימת הפנמה\",grade_report!$3:$100,ROWS($A$4:AM34),0)","v":{"$error":"#N/A"}},{"$f":"HLOOKUP(\"העשרה 6: מפלגות, זרמים ומתנגדים - משימת העשרה\",grade_report!$3:$100,ROWS($A$4:AN34),0)","v":{"$error":"#N/A"}},null,{"$f":"HLOOKUP(\"סיכום קורס-ש' סגורות\",grade_report!$3:$100,ROWS($A$4:AP34),0)","v":{"$error":"#N/A"}},{"$f":"HLOOKUP(\"סיכום קורס-ש' פתוחות\",grade_report!$3:$100,ROWS($A$4:AQ34),0)","v":{"$error":"#N/A"}},{"$f":"HLOOKUP(\"תלמידאות\",grade_report!$3:$100,ROWS($A$4:AR34),0)","v":0}]
[{"$f":"grade_report!C34","v":0},{"$f":"grade_report!B34","v":0},null,{"$f":"VLOOKUP(A32,grade_report!C:D,2,FALSE)","v":{"$error":"#N/A"}},{"$f":"HLOOKUP(\"שיעור לתלמיד 1: נאורוּת - שיעור לתלמיד\",grade_report!$3:$100,ROWS($A$4:A35),0)","v":0},{"$f":"HLOOKUP(\"סיכום פרק 1: נאורוּת - משימת סיכום\",grade_report!$3:$100,ROWS($A$4:A35),0)","v":0},{"$f":"HLOOKUP(\"הפנמה 1: נאורוּת - משימת הפנמה\",grade_report!$3:$100,ROWS($A$4:B35),0)","v":0},{"$f":"HLOOKUP(\"העשרה 1: נאורוּת - משימת העשרה\",grade_report!$3:$100,ROWS($A$4:C35),0)","v":0},null,{"$f":"HLOOKUP(\"שיעור לתלמיד 2: מלחמת העולם הראשונה - שיעור לתלמיד\",grade_report!$3:$100,ROWS($A$4:E35),0)","v":{"$error":"#N/A"}},{"$f":"HLOOKUP(\"סיכום פרק 2: מלחמת העולם הראשונה - משימת סיכום\",grade_report!$3:$100,ROWS($A$4:E35),0)","v":{"$error":"#N/A"}},{"$f":"HLOOKUP(\"הפנמה 2: מלחמת העולם הראשונה - משימת הפנמה\",grade_report!$3:$100,ROWS($A$4:F35),0)","v":{"$error":"#N/A"}},{"$f":"HLOOKUP(\"העשרה 2: מלחמת העולם הראשונה - משימת העשרה - רשות: מלחמת החפירות\",grade_report!$3:$100,ROWS($A$4:G35),0)","v":{"$error":"#N/A"}},null,{"$f":"HLOOKUP(\"שיעור לתלמיד 3: השינויים במעמד המשפטי של יהודי צרפת משלהי המאה ה-18 עד ראשית המאה ה-20 - תת פרק לבחירה\",grade_report!$3:$100,ROWS($A$4:J35),0)","v":{"$error":"#N/A"}},{"$f":"HLOOKUP(\"סיכום פרק 3: השינויים במעמד המשפטי של יהודי צרפת משלהי המאה ה-18 עד ראשית המאה ה-20 -משימת סיכום\",grade_report!$3:$100,ROWS($A$4:J35),0)","v":{"$error":"#N/A"}},{"$f":"HLOOKUP(\"שיעור לתלמיד 4: השינויים במעמד המשפטי של יהודי גרמניה משלהי המאה ה-18 עד ראשית המאה ה-20 - תת פרק לבחירה\",grade_report!$3:$100,ROWS($A$4:O35),0)","v":{"$error":"#N/A"}},{"$f":"HLOOKUP(\"סיכום פרק 4: השינויים במעמד המשפטי של יהודי גרמניה משלהי המאה ה-18 עד ראשית המאה ה-20 - תת פרק לבחירה -משימת סיכום\",grade_report!$3:$100,ROWS($A$4:O35),0)","v":{"$error":"#N/A"}},{"$f":"HLOOKUP(\"שיעור לתלמיד 5: השינויים במעמד המשפטי של היהודים בארצות האסלאם - תהליך האמנציפציה באלג'יריה - תת פרק חובה\",grade_report!$3:$100,ROWS($A$4:A35),0)","v":{"$error":"#N/A"}},{"$f":"HLOOKUP(\"סיכום פרק 5: השינויים במעמד המשפטי של היהודים בארצות האסלאם - תהליך האמנציפציה באלג'יריה - משימת סיכום\",grade_report!$3:$100,ROWS($A$4:A35),0)","v":{"$error":"#N/A"}},{"$f":"HLOOKUP(\"שיעור לתלמיד 6: השלכות השינויים במעמד היהודים על החברה היהודית - תת פרק חובה\",grade_report!$3:$100,ROWS($A$4:D35),0)","v":{"$error":"#N/A"}},{"$f":"HLOOKUP(\"סיכום פרק 6: השפעת הליברליזם על תמורות בחברה היהודית - משימת סיכום - סיכום הסוגיה לכל הפרק\",grade_report!$3:$100,ROWS($A$4:A35),0)","v":{"$error":"#N/A"}},{"$f":"HLOOKUP(\"הפנמה 3: מעמד היהודים משלהי המאה ה-18 ועד תחילת המאה ה-20 - משימת הפנמה לכל הפרק\",grade_report!$3:$100,ROWS($A$4:Q35),0)","v":{"$error":"#N/A"}},{"$f":"HLOOKUP(\"העשרה 3: מעמד היהודים משלהי המאה ה-18 ועד תחילת המאה ה-20 - משימת העשרה לכל הפרק\",grade_report!$3:$100,ROWS($A$4:R35),0)","v":{"$error":"#N/A"}},null,{"$f":"HLOOKUP(\"שיעור לתלמיד 7: השפעת הנאורות על החברה היהודית - תת פרק חובה\",grade_report!$3:$100,ROWS($A$4:A35),0)","v":{"$error":"#N/A"}},{"$f":"HLOOKUP(\"סיכום פרק 7: השפעת הנאורות על החברה היהודית - תת פרק חובה - משימת סיכום\",grade_report!$3:$100,ROWS($A$4:A35),0)","v":{"$error":"#N/A"}},null,{"$f":"HLOOKUP(\"שיעור לתלמיד 8: ניאו אורתודוקסיה - חיוב המודרנה תוך שמירה קפדנית על מצוות הדת - שיעור לתלמיד\",grade_report!$3:$100,ROWS($A$4:D35),0)","v":{"$error":"#N/A"}},{"$f":"HLOOKUP(\"סיכום פרק 8: ניאו אורתודוקסיה - חיוב המודרנה תוך שמירה קפדנית על מצוות הדת - משימת סיכום\",grade_report!$3:$100,ROWS($A$4:D35),0)","v":{"$error":"#N/A"}},{"$f":"HLOOKUP(\"סיכום פרק 9: תנועות וזרמים יהודיים - משימת סיכום לכל הפרק\",grade_report!$3:$100,ROWS($A$4:E35),0)","v":{"$error":"#N/A"}},null,{"$f":"HLOOKUP(\"שיעור לתלמיד 9: מבשרי הציונות וחיבת ציון - שיעור לתלמיד\",grade_report!$3:$100,ROWS($A$4:H35),0)","v":{"$error":"#N/A"}},{"$f":"HLOOKUP(\"סיכום פרק 10: מבשרי הציונות וחיבת ציון - משימת סיכום\",grade_report!$3:$100,ROWS($A$4:H35),0)","v":{"$error":"#N/A"}},{"$f":"HLOOKUP(\"הפנמה 4: מבשרי הציונות וחיבת ציון - משימת הפנמה\",grade_report!$3:$100,ROWS($A$4:AC35),0)","v":{"$error":"#N/A"}},{"$f":"HLOOKUP(\"העשרה 4: מבשרי הציונות וחיבת ציון - משימת העשרה\",grade_report!$3:$100,ROWS($A$4:AD35),0)","v":{"$error":"#N/A"}},null,{"$f":"HLOOKUP(\"שיעור לתלמיד 10: התנועה הציונית והרצל - שיעור לתלמיד\",grade_report!$3:$100,ROWS($A$4:M35),0)","v":{"$error":"#N/A"}},{"$f":"HLOOKUP(\"סיכום פרק 11: התנועה הציונית והרצל - משימת סיכום - סוף ימיו של הרצל\",grade_report!$3:$100,ROWS($A$4:M35),0)","v":{"$error":"#N/A"}},{"$f":"HLOOKUP(\"הפנמה 5: התנועה הציונית והרצל - משימת הפנמה\",grade_report!$3:$100,ROWS($A$4:AH35),0)","v":{"$error":"#N/A"}},{"$f":"HLOOKUP(\"העשרה 5: התנועה הציונית והרצל - משימת העשרה\",grade_report!$3:$100,ROWS($A$4:AI35),0)","v":{"$error":"#N/A"}},null,{"$f":"HLOOKUP(\"שיעור לתלמיד 11: מפלגות, זרמים ומתנגדים - שיעור לתלמיד\",grade_report!$3:$100,ROWS($A$4:R35),0)","v":{"$error":"#N/A"}},{"$f":"HLOOKUP(\"סיכום פרק 12: מפלגות, זרמים ומתנגדים - משימת סיכום\",grade_report!$3:$100,ROWS($A$4:R35),0)","v":{"$error":"#N/A"}},{"$f":"HLOOKUP(\"הפנמה 6: מפלגות, זרמים ומתנגדים - משימת הפנמה\",grade_report!$3:$100,ROWS($A$4:AM35),0)","v":{"$error":"#N/A"}},{"$f":"HLOOKUP(\"העשרה 6: מפלגות, זרמים ומתנגדים - משימת העשרה\",grade_report!$3:$100,ROWS($A$4:AN35),0)","v":{"$error":"#N/A"}},null,{"$f":"HLOOKUP(\"סיכום קורס-ש' סגורות\",grade_report!$3:$100,ROWS($A$4:AP35),0)","v":{"$error":"#N/A"}},{"$f":"HLOOKUP(\"סיכום קורס-ש' פתוחות\",grade_report!$3:$100,ROWS($A$4:AQ35),0)","v":{"$error":"#N/A"}},{"$f":"HLOOKUP(\"תלמידאות\",grade_report!$3:$100,ROWS($A$4:AR35),0)","v":0}]
[{"$f":"grade_report!C35","v":0},{"$f":"grade_report!B35","v":0},null,{"$f":"VLOOKUP(A33,grade_report!C:D,2,FALSE)","v":{"$error":"#N/A"}},{"$f":"HLOOKUP(\"שיעור לתלמיד 1: נאורוּת - שיעור לתלמיד\",grade_report!$3:$100,ROWS($A$4:A36),0)","v":0},{"$f":"HLOOKUP(\"סיכום פרק 1: נאורוּת - משימת סיכום\",grade_report!$3:$100,ROWS($A$4:A36),0)","v":0},{"$f":"HLOOKUP(\"הפנמה 1: נאורוּת - משימת הפנמה\",grade_report!$3:$100,ROWS($A$4:B36),0)","v":0},{"$f":"HLOOKUP(\"העשרה 1: נאורוּת - משימת העשרה\",grade_report!$3:$100,ROWS($A$4:C36),0)","v":0},null,{"$f":"HLOOKUP(\"שיעור לתלמיד 2: מלחמת העולם הראשונה - שיעור לתלמיד\",grade_report!$3:$100,ROWS($A$4:E36),0)","v":{"$error":"#N/A"}},{"$f":"HLOOKUP(\"סיכום פרק 2: מלחמת העולם הראשונה - משימת סיכום\",grade_report!$3:$100,ROWS($A$4:E36),0)","v":{"$error":"#N/A"}},{"$f":"HLOOKUP(\"הפנמה 2: מלחמת העולם הראשונה - משימת הפנמה\",grade_report!$3:$100,ROWS($A$4:F36),0)","v":{"$error":"#N/A"}},{"$f":"HLOOKUP(\"העשרה 2: מלחמת העולם הראשונה - משימת העשרה - רשות: מלחמת החפירות\",grade_report!$3:$100,ROWS($A$4:G36),0)","v":{"$error":"#N/A"}},null,{"$f":"HLOOKUP(\"שיעור לתלמיד 3: השינויים במעמד המשפטי של יהודי צרפת משלהי המאה ה-18 עד ראשית המאה ה-20 - תת פרק לבחירה\",grade_report!$3:$100,ROWS($A$4:J36),0)","v":{"$error":"#N/A"}},{"$f":"HLOOKUP(\"סיכום פרק 3: השינויים במעמד המשפטי של יהודי צרפת משלהי המאה ה-18 עד ראשית המאה ה-20 -משימת סיכום\",grade_report!$3:$100,ROWS($A$4:J36),0)","v":{"$error":"#N/A"}},{"$f":"HLOOKUP(\"שיעור לתלמיד 4: השינויים במעמד המשפטי של יהודי גרמניה משלהי המאה ה-18 עד ראשית המאה ה-20 - תת פרק לבחירה\",grade_report!$3:$100,ROWS($A$4:O36),0)","v":{"$error":"#N/A"}},{"$f":"HLOOKUP(\"סיכום פרק 4: השינויים במעמד המשפטי של יהודי גרמניה משלהי המאה ה-18 עד ראשית המאה ה-20 - תת פרק לבחירה -משימת סיכום\",grade_report!$3:$100,ROWS($A$4:O36),0)","v":{"$error":"#N/A"}},{"$f":"HLOOKUP(\"שיעור לתלמיד 5: השינויים במעמד המשפטי של היהודים בארצות האסלאם - תהליך האמנציפציה באלג'יריה - תת פרק חובה\",grade_report!$3:$100,ROWS($A$4:A36),0)","v":{"$error":"#N/A"}},{"$f":"HLOOKUP(\"סיכום פרק 5: השינויים במעמד המשפטי של היהודים בארצות האסלאם - תהליך האמנציפציה באלג'יריה - משימת סיכום\",grade_report!$3:$100,ROWS($A$4:A36),0)","v":{"$error":"#N/A"}},{"$f":"HLOOKUP(\"שיעור לתלמיד 6: השלכות השינויים במעמד היהודים על החברה היהודית - תת פרק חובה\",grade_report!$3:$100,ROWS($A$4:D36),0)","v":{"$error":"#N/A"}},{"$f":"HLOOKUP(\"סיכום פרק 6: השפעת הליברליזם על תמורות בחברה היהודית - משימת סיכום - סיכום הסוגיה לכל הפרק\",grade_report!$3:$100,ROWS($A$4:A36),0)","v":{"$error":"#N/A"}},{"$f":"HLOOKUP(\"הפנמה 3: מעמד היהודים משלהי המאה ה-18 ועד תחילת המאה ה-20 - משימת הפנמה לכל הפרק\",grade_report!$3:$100,ROWS($A$4:Q36),0)","v":{"$error":"#N/A"}},{"$f":"HLOOKUP(\"העשרה 3: מעמד היהודים משלהי המאה ה-18 ועד תחילת המאה ה-20 - משימת העשרה לכל הפרק\",grade_report!$3:$100,ROWS($A$4:R36),0)","v":{"$error":"#N/A"}},null,{"$f":"HLOOKUP(\"שיעור לתלמיד 7: השפעת הנאורות על החברה היהודית - תת פרק חובה\",grade_report!$3:$100,ROWS($A$4:A36),0)","v":{"$error":"#N/A"}},{"$f":"HLOOKUP(\"סיכום פרק 7: השפעת הנאורות על החברה היהודית - תת פרק חובה - משימת סיכום\",grade_report!$3:$100,ROWS($A$4:A36),0)","v":{"$error":"#N/A"}},null,{"$f":"HLOOKUP(\"שיעור לתלמיד 8: ניאו אורתודוקסיה - חיוב המודרנה תוך שמירה קפדנית על מצוות הדת - שיעור לתלמיד\",grade_report!$3:$100,ROWS($A$4:D36),0)","v":{"$error":"#N/A"}},{"$f":"HLOOKUP(\"סיכום פרק 8: ניאו אורתודוקסיה - חיוב המודרנה תוך שמירה קפדנית על מצוות הדת - משימת סיכום\",grade_report!$3:$100,ROWS($A$4:D36),0)","v":{"$error":"#N/A"}},{"$f":"HLOOKUP(\"סיכום פרק 9: תנועות וזרמים יהודיים - משימת סיכום לכל הפרק\",grade_report!$3:$100,ROWS($A$4:E36),0)","v":{"$error":"#N/A"}},null,{"$f":"HLOOKUP(\"שיעור לתלמיד 9: מבשרי הציונות וחיבת ציון - שיעור לתלמיד\",grade_report!$3:$100,ROWS($A$4:H36),0)","v":{"$error":"#N/A"}},{"$f":"HLOOKUP(\"סיכום פרק 10: מבשרי הציונות וחיבת ציון - משימת סיכום\",grade_report!$3:$100,ROWS($A$4:H36),0)","v":{"$error":"#N/A"}},{"$f":"HLOOKUP(\"הפנמה 4: מבשרי הציונות וחיבת ציון - משימת הפנמה\",grade_report!$3:$100,ROWS($A$4:AC36),0)","v":{"$error":"#N/A"}},{"$f":"HLOOKUP(\"העשרה 4: מבשרי הציונות וחיבת ציון - משימת העשרה\",grade_report!$3:$100,ROWS($A$4:AD36),0)","v":{"$error":"#N/A"}},null,{"$f":"HLOOKUP(\"שיעור לתלמיד 10: התנועה הציונית והרצל - שיעור לתלמיד\",grade_report!$3:$100,ROWS($A$4:M36),0)","v":{"$error":"#N/A"}},{"$f":"HLOOKUP(\"סיכום פרק 11: התנועה הציונית והרצל - משימת סיכום - סוף ימיו של הרצל\",grade_report!$3:$100,ROWS($A$4:M36),0)","v":{"$error":"#N/A"}},{"$f":"HLOOKUP(\"הפנמה 5: התנועה הציונית והרצל - משימת הפנמה\",grade_report!$3:$100,ROWS($A$4:AH36),0)","v":{"$error":"#N/A"}},{"$f":"HLOOKUP(\"העשרה 5: התנועה הציונית והרצל - משימת העשרה\",grade_report!$3:$100,ROWS($A$4:AI36),0)","v":{"$error":"#N/A"}},null,{"$f":"HLOOKUP(\"שיעור לתלמיד 11: מפלגות, זרמים ומתנגדים - שיעור לתלמיד\",grade_report!$3:$100,ROWS($A$4:R36),0)","v":{"$error":"#N/A"}},{"$f":"HLOOKUP(\"סיכום פרק 12: מפלגות, זרמים ומתנגדים - משימת סיכום\",grade_report!$3:$100,ROWS($A$4:R36),0)","v":{"$error":"#N/A"}},{"$f":"HLOOKUP(\"הפנמה 6: מפלגות, זרמים ומתנגדים - משימת הפנמה\",grade_report!$3:$100,ROWS($A$4:AM36),0)","v":{"$error":"#N/A"}},{"$f":"HLOOKUP(\"העשרה 6: מפלגות, זרמים ומתנגדים - משימת העשרה\",grade_report!$3:$100,ROWS($A$4:AN36),0)","v":{"$error":"#N/A"}},null,{"$f":"HLOOKUP(\"סיכום קורס-ש' סגורות\",grade_report!$3:$100,ROWS($A$4:AP36),0)","v":{"$error":"#N/A"}},{"$f":"HLOOKUP(\"סיכום קורס-ש' פתוחות\",grade_report!$3:$100,ROWS($A$4:AQ36),0)","v":{"$error":"#N/A"}},{"$f":"HLOOKUP(\"תלמידאות\",grade_report!$3:$100,ROWS($A$4:AR36),0)","v":0}]
[{"$f":"grade_report!C36","v":0},{"$f":"grade_report!B36","v":0},null,{"$f":"VLOOKUP(A34,grade_report!C:D,2,FALSE)","v":{"$error":"#N/A"}},{"$f":"HLOOKUP(\"שיעור לתלמיד 1: נאורוּת - שיעור לתלמיד\",grade_report!$3:$100,ROWS($A$4:A37),0)","v":0},{"$f":"HLOOKUP(\"סיכום פרק 1: נאורוּת - משימת סיכום\",grade_report!$3:$100,ROWS($A$4:A37),0)","v":0},{"$f":"HLOOKUP(\"הפנמה 1: נאורוּת - משימת הפנמה\",grade_report!$3:$100,ROWS($A$4:B37),0)","v":0},{"$f":"HLOOKUP(\"העשרה 1: נאורוּת - משימת העשרה\",grade_report!$3:$100,ROWS($A$4:C37),0)","v":0},null,{"$f":"HLOOKUP(\"שיעור לתלמיד 2: מלחמת העולם הראשונה - שיעור לתלמיד\",grade_report!$3:$100,ROWS($A$4:E37),0)","v":{"$error":"#N/A"}},{"$f":"HLOOKUP(\"סיכום פרק 2: מלחמת העולם הראשונה - משימת סיכום\",grade_report!$3:$100,ROWS($A$4:E37),0)","v":{"$error":"#N/A"}},{"$f":"HLOOKUP(\"הפנמה 2: מלחמת העולם הראשונה - משימת הפנמה\",grade_report!$3:$100,ROWS($A$4:F37),0)","v":{"$error":"#N/A"}},{"$f":"HLOOKUP(\"העשרה 2: מלחמת העולם הראשונה - משימת העשרה - רשות: מלחמת החפירות\",grade_report!$3:$100,ROWS($A$4:G37),0)","v":{"$error":"#N/A"}},null,{"$f":"HLOOKUP(\"שיעור לתלמיד 3: השינויים במעמד המשפטי של יהודי צרפת משלהי המאה ה-18 עד ראשית המאה ה-20 - תת פרק לבחירה\",grade_report!$3:$100,ROWS($A$4:J37),0)","v":{"$error":"#N/A"}},{"$f":"HLOOKUP(\"סיכום פרק 3: השינויים במעמד המשפטי של יהודי צרפת משלהי המאה ה-18 עד ראשית המאה ה-20 -משימת סיכום\",grade_report!$3:$100,ROWS($A$4:J37),0)","v":{"$error":"#N/A"}},{"$f":"HLOOKUP(\"שיעור לתלמיד 4: השינויים במעמד המשפטי של יהודי גרמניה משלהי המאה ה-18 עד ראשית המאה ה-20 - תת פרק לבחירה\",grade_report!$3:$100,ROWS($A$4:O37),0)","v":{"$error":"#N/A"}},{"$f":"HLOOKUP(\"סיכום פרק 4: השינויים במעמד המשפטי של יהודי גרמניה משלהי המאה ה-18 עד ראשית המאה ה-20 - תת פרק לבחירה -משימת סיכום\",grade_report!$3:$100,ROWS($A$4:O37),0)","v":{"$error":"#N/A"}},{"$f":"HLOOKUP(\"שיעור לתלמיד 5: השינויים במעמד המשפטי של היהודים בארצות האסלאם - תהליך האמנציפציה באלג'יריה - תת פרק חובה\",grade_report!$3:$100,ROWS($A$4:A37),0)","v":{"$error":"#N/A"}},{"$f":"HLOOKUP(\"סיכום פרק 5: השינויים במעמד המשפטי של היהודים בארצות האסלאם - תהליך האמנציפציה באלג'יריה - משימת סיכום\",grade_report!$3:$100,ROWS($A$4:A37),0)","v":{"$error":"#N/A"}},{"$f":"HLOOKUP(\"שיעור לתלמיד 6: השלכות השינויים במעמד היהודים על החברה היהודית - תת פרק חובה\",grade_report!$3:$100,ROWS($A$4:D37),0)","v":{"$error":"#N/A"}},{"$f":"HLOOKUP(\"סיכום פרק 6: השפעת הליברליזם על תמורות בחברה היהודית - משימת סיכום - סיכום הסוגיה לכל הפרק\",grade_report!$3:$100,ROWS($A$4:A37),0)","v":{"$error":"#N/A"}},{"$f":"HLOOKUP(\"הפנמה 3: מעמד היהודים משלהי המאה ה-18 ועד תחילת המאה ה-20 - משימת הפנמה לכל הפרק\",grade_report!$3:$100,ROWS($A$4:Q37),0)","v":{"$error":"#N/A"}},{"$f":"HLOOKUP(\"העשרה 3: מעמד היהודים משלהי המאה ה-18 ועד תחילת המאה ה-20 - משימת העשרה לכל הפרק\",grade_report!$3:$100,ROWS($A$4:R37),0)","v":{"$error":"#N/A"}},null,{"$f":"HLOOKUP(\"שיעור לתלמיד 7: השפעת הנאורות על החברה היהודית - תת פרק חובה\",grade_report!$3:$100,ROWS($A$4:A37),0)","v":{"$error":"#N/A"}},{"$f":"HLOOKUP(\"סיכום פרק 7: השפעת הנאורות על החברה היהודית - תת פרק חובה - משימת סיכום\",grade_report!$3:$100,ROWS($A$4:A37),0)","v":{"$error":"#N/A"}},null,{"$f":"HLOOKUP(\"שיעור לתלמיד 8: ניאו אורתודוקסיה - חיוב המודרנה תוך שמירה קפדנית על מצוות הדת - שיעור לתלמיד\",grade_report!$3:$100,ROWS($A$4:D37),0)","v":{"$error":"#N/A"}},{"$f":"HLOOKUP(\"סיכום פרק 8: ניאו אורתודוקסיה - חיוב המודרנה תוך שמירה קפדנית על מצוות הדת - משימת סיכום\",grade_report!$3:$100,ROWS($A$4:D37),0)","v":{"$error":"#N/A"}},{"$f":"HLOOKUP(\"סיכום פרק 9: תנועות וזרמים יהודיים - משימת סיכום לכל הפרק\",grade_report!$3:$100,ROWS($A$4:E37),0)","v":{"$error":"#N/A"}},null,{"$f":"HLOOKUP(\"שיעור לתלמיד 9: מבשרי הציונות וחיבת ציון - שיעור לתלמיד\",grade_report!$3:$100,ROWS($A$4:H37),0)","v":{"$error":"#N/A"}},{"$f":"HLOOKUP(\"סיכום פרק 10: מבשרי הציונות וחיבת ציון - משימת סיכום\",grade_report!$3:$100,ROWS($A$4:H37),0)","v":{"$error":"#N/A"}},{"$f":"HLOOKUP(\"הפנמה 4: מבשרי הציונות וחיבת ציון - משימת הפנמה\",grade_report!$3:$100,ROWS($A$4:AC37),0)","v":{"$error":"#N/A"}},{"$f":"HLOOKUP(\"העשרה 4: מבשרי הציונות וחיבת ציון - משימת העשרה\",grade_report!$3:$100,ROWS($A$4:AD37),0)","v":{"$error":"#N/A"}},null,{"$f":"HLOOKUP(\"שיעור לתלמיד 10: התנועה הציונית והרצל - שיעור לתלמיד\",grade_report!$3:$100,ROWS($A$4:M37),0)","v":{"$error":"#N/A"}},{"$f":"HLOOKUP(\"סיכום פרק 11: התנועה הציונית והרצל - משימת סיכום - סוף ימיו של הרצל\",grade_report!$3:$100,ROWS($A$4:M37),0)","v":{"$error":"#N/A"}},{"$f":"HLOOKUP(\"הפנמה 5: התנועה הציונית והרצל - משימת הפנמה\",grade_report!$3:$100,ROWS($A$4:AH37),0)","v":{"$error":"#N/A"}},{"$f":"HLOOKUP(\"העשרה 5: התנועה הציונית והרצל - משימת העשרה\",grade_report!$3:$100,ROWS($A$4:AI37),0)","v":{"$error":"#N/A"}},null,{"$f":"HLOOKUP(\"שיעור לתלמיד 11: מפלגות, זרמים ומתנגדים - שיעור לתלמיד\",grade_report!$3:$100,ROWS($A$4:R37),0)","v":{"$error":"#N/A"}},{"$f":"HLOOKUP(\"סיכום פרק 12: מפלגות, זרמים ומתנגדים - משימת סיכום\",grade_report!$3:$100,ROWS($A$4:R37),0)","v":{"$error":"#N/A"}},{"$f":"HLOOKUP(\"הפנמה 6: מפלגות, זרמים ומתנגדים - משימת הפנמה\",grade_report!$3:$100,ROWS($A$4:AM37),0)","v":{"$error":"#N/A"}},{"$f":"HLOOKUP(\"העשרה 6: מפלגות, זרמים ומתנגדים - משימת העשרה\",grade_report!$3:$100,ROWS($A$4:AN37),0)","v":{"$error":"#N/A"}},null,{"$f":"HLOOKUP(\"סיכום קורס-ש' סגורות\",grade_report!$3:$100,ROWS($A$4:AP37),0)","v":{"$error":"#N/A"}},{"$f":"HLOOKUP(\"סיכום קורס-ש' פתוחות\",grade_report!$3:$100,ROWS($A$4:AQ37),0)","v":{"$error":"#N/A"}},{"$f":"HLOOKUP(\"תלמידאות\",grade_report!$3:$100,ROWS($A$4:AR37),0)","v":0}]
[{"$f":"grade_report!C37","v":0},{"$f":"grade_report!B37","v":0},null,{"$f":"VLOOKUP(A35,grade_report!C:D,2,FALSE)","v":{"$error":"#N/A"}},{"$f":"HLOOKUP(\"שיעור לתלמיד 1: נאורוּת - שיעור לתלמיד\",grade_report!$3:$100,ROWS($A$4:A38),0)","v":0},{"$f":"HLOOKUP(\"סיכום פרק 1: נאורוּת - משימת סיכום\",grade_report!$3:$100,ROWS($A$4:A38),0)","v":0},{"$f":"HLOOKUP(\"הפנמה 1: נאורוּת - משימת הפנמה\",grade_report!$3:$100,ROWS($A$4:B38),0)","v":0},{"$f":"HLOOKUP(\"העשרה 1: נאורוּת - משימת העשרה\",grade_report!$3:$100,ROWS($A$4:C38),0)","v":0},null,{"$f":"HLOOKUP(\"שיעור לתלמיד 2: מלחמת העולם הראשונה - שיעור לתלמיד\",grade_report!$3:$100,ROWS($A$4:E38),0)","v":{"$error":"#N/A"}},{"$f":"HLOOKUP(\"סיכום פרק 2: מלחמת העולם הראשונה - משימת סיכום\",grade_report!$3:$100,ROWS($A$4:E38),0)","v":{"$error":"#N/A"}},{"$f":"HLOOKUP(\"הפנמה 2: מלחמת העולם הראשונה - משימת הפנמה\",grade_report!$3:$100,ROWS($A$4:F38),0)","v":{"$error":"#N/A"}},{"$f":"HLOOKUP(\"העשרה 2: מלחמת העולם הראשונה - משימת העשרה - רשות: מלחמת החפירות\",grade_report!$3:$100,ROWS($A$4:G38),0)","v":{"$error":"#N/A"}},null,{"$f":"HLOOKUP(\"שיעור לתלמיד 3: השינויים במעמד המשפטי של יהודי צרפת משלהי המאה ה-18 עד ראשית המאה ה-20 - תת פרק לבחירה\",grade_report!$3:$100,ROWS($A$4:J38),0)","v":{"$error":"#N/A"}},{"$f":"HLOOKUP(\"סיכום פרק 3: השינויים במעמד המשפטי של יהודי צרפת משלהי המאה ה-18 עד ראשית המאה ה-20 -משימת סיכום\",grade_report!$3:$100,ROWS($A$4:J38),0)","v":{"$error":"#N/A"}},{"$f":"HLOOKUP(\"שיעור לתלמיד 4: השינויים במעמד המשפטי של יהודי גרמניה משלהי המאה ה-18 עד ראשית המאה ה-20 - תת פרק לבחירה\",grade_report!$3:$100,ROWS($A$4:O38),0)","v":{"$error":"#N/A"}},{"$f":"HLOOKUP(\"סיכום פרק 4: השינויים במעמד המשפטי של יהודי גרמניה משלהי המאה ה-18 עד ראשית המאה ה-20 - תת פרק לבחירה -משימת סיכום\",grade_report!$3:$100,ROWS($A$4:O38),0)","v":{"$error":"#N/A"}},{"$f":"HLOOKUP(\"שיעור לתלמיד 5: השינויים במעמד המשפטי של היהודים בארצות האסלאם - תהליך האמנציפציה באלג'יריה - תת פרק חובה\",grade_report!$3:$100,ROWS($A$4:A38),0)","v":{"$error":"#N/A"}},{"$f":"HLOOKUP(\"סיכום פרק 5: השינויים במעמד המשפטי של היהודים בארצות האסלאם - תהליך האמנציפציה באלג'יריה - משימת סיכום\",grade_report!$3:$100,ROWS($A$4:A38),0)","v":{"$error":"#N/A"}},{"$f":"HLOOKUP(\"שיעור לתלמיד 6: השלכות השינויים במעמד היהודים על החברה היהודית - תת פרק חובה\",grade_report!$3:$100,ROWS($A$4:D38),0)","v":{"$error":"#N/A"}},{"$f":"HLOOKUP(\"סיכום פרק 6: השפעת הליברליזם על תמורות בחברה היהודית - משימת סיכום - סיכום הסוגיה לכל הפרק\",grade_report!$3:$100,ROWS($A$4:A38),0)","v":{"$error":"#N/A"}},{"$f":"HLOOKUP(\"הפנמה 3: מעמד היהודים משלהי המאה ה-18 ועד תחילת המאה ה-20 - משימת הפנמה לכל הפרק\",grade_report!$3:$100,ROWS($A$4:Q38),0)","v":{"$error":"#N/A"}},{"$f":"HLOOKUP(\"העשרה 3: מעמד היהודים משלהי המאה ה-18 ועד תחילת המאה ה-20 - משימת העשרה לכל הפרק\",grade_report!$3:$100,ROWS($A$4:R38),0)","v":{"$error":"#N/A"}},null,{"$f":"HLOOKUP(\"שיעור לתלמיד 7: השפעת הנאורות על החברה היהודית - תת פרק חובה\",grade_report!$3:$100,ROWS($A$4:A38),0)","v":{"$error":"#N/A"}},{"$f":"HLOOKUP(\"סיכום פרק 7: השפעת הנאורות על החברה היהודית - תת פרק חובה - משימת סיכום\",grade_report!$3:$100,ROWS($A$4:A38),0)","v":{"$error":"#N/A"}},null,{"$f":"HLOOKUP(\"שיעור לתלמיד 8: ניאו אורתודוקסיה - חיוב המודרנה תוך שמירה קפדנית על מצוות הדת - שיעור לתלמיד\",grade_report!$3:$100,ROWS($A$4:D38),0)","v":{"$error":"#N/A"}},{"$f":"HLOOKUP(\"סיכום פרק 8: ניאו אורתודוקסיה - חיוב המודרנה תוך שמירה קפדנית על מצוות הדת - משימת סיכום\",grade_report!$3:$100,ROWS($A$4:D38),0)","v":{"$error":"#N/A"}},{"$f":"HLOOKUP(\"סיכום פרק 9: תנועות וזרמים יהודיים - משימת סיכום לכל הפרק\",grade_report!$3:$100,ROWS($A$4:E38),0)","v":{"$error":"#N/A"}},null,{"$f":"HLOOKUP(\"שיעור לתלמיד 9: מבשרי הציונות וחיבת ציון - שיעור לתלמיד\",grade_report!$3:$100,ROWS($A$4:H38),0)","v":{"$error":"#N/A"}},{"$f":"HLOOKUP(\"סיכום פרק 10: מבשרי הציונות וחיבת ציון - משימת סיכום\",grade_report!$3:$100,ROWS($A$4:H38),0)","v":{"$error":"#N/A"}},{"$f":"HLOOKUP(\"הפנמה 4: מבשרי הציונות וחיבת ציון - משימת הפנמה\",grade_report!$3:$100,ROWS($A$4:AC38),0)","v":{"$error":"#N/A"}},{"$f":"HLOOKUP(\"העשרה 4: מבשרי הציונות וחיבת ציון - משימת העשרה\",grade_report!$3:$100,ROWS($A$4:AD38),0)","v":{"$error":"#N/A"}},null,{"$f":"HLOOKUP(\"שיעור לתלמיד 10: התנועה הציונית והרצל - שיעור לתלמיד\",grade_report!$3:$100,ROWS($A$4:M38),0)","v":{"$error":"#N/A"}},{"$f":"HLOOKUP(\"סיכום פרק 11: התנועה הציונית והרצל - משימת סיכום - סוף ימיו של הרצל\",grade_report!$3:$100,ROWS($A$4:M38),0)","v":{"$error":"#N/A"}},{"$f":"HLOOKUP(\"הפנמה 5: התנועה הציונית והרצל - משימת הפנמה\",grade_report!$3:$100,ROWS($A$4:AH38),0)","v":{"$error":"#N/A"}},{"$f":"HLOOKUP(\"העשרה 5: התנועה הציונית והרצל - משימת העשרה\",grade_report!$3:$100,ROWS($A$4:AI38),0)","v":{"$error":"#N/A"}},null,{"$f":"HLOOKUP(\"שיעור לתלמיד 11: מפלגות, זרמים ומתנגדים - שיעור לתלמיד\",grade_report!$3:$100,ROWS($A$4:R38),0)","v":{"$error":"#N/A"}},{"$f":"HLOOKUP(\"סיכום פרק 12: מפלגות, זרמים ומתנגדים - משימת סיכום\",grade_report!$3:$100,ROWS($A$4:R38),0)","v":{"$error":"#N/A"}},{"$f":"HLOOKUP(\"הפנמה 6: מפלגות, זרמים ומתנגדים - משימת הפנמה\",grade_report!$3:$100,ROWS($A$4:AM38),0)","v":{"$error":"#N/A"}},{"$f":"HLOOKUP(\"העשרה 6: מפלגות, זרמים ומתנגדים - משימת העשרה\",grade_report!$3:$100,ROWS($A$4:AN38),0)","v":{"$error":"#N/A"}},null,{"$f":"HLOOKUP(\"סיכום קורס-ש' סגורות\",grade_report!$3:$100,ROWS($A$4:AP38),0)","v":{"$error":"#N/A"}},{"$f":"HLOOKUP(\"סיכום קורס-ש' פתוחות\",grade_report!$3:$100,ROWS($A$4:AQ38),0)","v":{"$error":"#N/A"}},{"$f":"HLOOKUP(\"תלמידאות\",grade_report!$3:$100,ROWS($A$4:AR38),0)","v":0}]
[{"$f":"grade_report!C38","v":0},{"$f":"grade_report!B38","v":0},null,{"$f":"VLOOKUP(A36,grade_report!C:D,2,FALSE)","v":{"$error":"#N/A"}},{"$f":"HLOOKUP(\"שיעור לתלמיד 1: נאורוּת - שיעור לתלמיד\",grade_report!$3:$100,ROWS($A$4:A39),0)","v":0},{"$f":"HLOOKUP(\"סיכום פרק 1: נאורוּת - משימת סיכום\",grade_report!$3:$100,ROWS($A$4:A39),0)","v":0},{"$f":"HLOOKUP(\"הפנמה 1: נאורוּת - משימת הפנמה\",grade_report!$3:$100,ROWS($A$4:B39),0)","v":0},{"$f":"HLOOKUP(\"העשרה 1: נאורוּת - משימת העשרה\",grade_report!$3:$100,ROWS($A$4:C39),0)","v":0},null,{"$f":"HLOOKUP(\"שיעור לתלמיד 2: מלחמת העולם הראשונה - שיעור לתלמיד\",grade_report!$3:$100,ROWS($A$4:E39),0)","v":{"$error":"#N/A"}},{"$f":"HLOOKUP(\"סיכום פרק 2: מלחמת העולם הראשונה - משימת סיכום\",grade_report!$3:$100,ROWS($A$4:E39),0)","v":{"$error":"#N/A"}},{"$f":"HLOOKUP(\"הפנמה 2: מלחמת העולם הראשונה - משימת הפנמה\",grade_report!$3:$100,ROWS($A$4:F39),0)","v":{"$error":"#N/A"}},{"$f":"HLOOKUP(\"העשרה 2: מלחמת העולם הראשונה - משימת העשרה - רשות: מלחמת החפירות\",grade_report!$3:$100,ROWS($A$4:G39),0)","v":{"$error":"#N/A"}},null,{"$f":"HLOOKUP(\"שיעור לתלמיד 3: השינויים במעמד המשפטי של יהודי צרפת משלהי המאה ה-18 עד ראשית המאה ה-20 - תת פרק לבחירה\",grade_report!$3:$100,ROWS($A$4:J39),0)","v":{"$error":"#N/A"}},{"$f":"HLOOKUP(\"סיכום פרק 3: השינויים במעמד המשפטי של יהודי צרפת משלהי המאה ה-18 עד ראשית המאה ה-20 -משימת סיכום\",grade_report!$3:$100,ROWS($A$4:J39),0)","v":{"$error":"#N/A"}},{"$f":"HLOOKUP(\"שיעור לתלמיד 4: השינויים במעמד המשפטי של יהודי גרמניה משלהי המאה ה-18 עד ראשית המאה ה-20 - תת פרק לבחירה\",grade_report!$3:$100,ROWS($A$4:O39),0)","v":{"$error":"#N/A"}},{"$f":"HLOOKUP(\"סיכום פרק 4: השינויים במעמד המשפטי של יהודי גרמניה משלהי המאה ה-18 עד ראשית המאה ה-20 - תת פרק לבחירה -משימת סיכום\",grade_report!$3:$100,ROWS($A$4:O39),0)","v":{"$error":"#N/A"}},{"$f":"HLOOKUP(\"שיעור לתלמיד 5: השינויים במעמד המשפטי של היהודים בארצות האסלאם - תהליך האמנציפציה באלג'יריה - תת פרק חובה\",grade_report!$3:$100,ROWS($A$4:A39),0)","v":{"$error":"#N/A"}},{"$f":"HLOOKUP(\"סיכום פרק 5: השינויים במעמד המשפטי של היהודים בארצות האסלאם - תהליך האמנציפציה באלג'יריה - משימת סיכום\",grade_report!$3:$100,ROWS($A$4:A39),0)","v":{"$error":"#N/A"}},{"$f":"HLOOKUP(\"שיעור לתלמיד 6: השלכות השינויים במעמד היהודים על החברה היהודית - תת פרק חובה\",grade_report!$3:$100,ROWS($A$4:D39),0)","v":{"$error":"#N/A"}},{"$f":"HLOOKUP(\"סיכום פרק 6: השפעת הליברליזם על תמורות בחברה היהודית - משימת סיכום - סיכום הסוגיה לכל הפרק\",grade_report!$3:$100,ROWS($A$4:A39),0)","v":{"$error":"#N/A"}},{"$f":"HLOOKUP(\"הפנמה 3: מעמד היהודים משלהי המאה ה-18 ועד תחילת המאה ה-20 - משימת הפנמה לכל הפרק\",grade_report!$3:$100,ROWS($A$4:Q39),0)","v":{"$error":"#N/A"}},{"$f":"HLOOKUP(\"העשרה 3: מעמד היהודים משלהי המאה ה-18 ועד תחילת המאה ה-20 - משימת העשרה לכל הפרק\",grade_report!$3:$100,ROWS($A$4:R39),0)","v":{"$error":"#N/A"}},null,{"$f":"HLOOKUP(\"שיעור לתלמיד 7: השפעת הנאורות על החברה היהודית - תת פרק חובה\",grade_report!$3:$100,ROWS($A$4:A39),0)","v":{"$error":"#N/A"}},{"$f":"HLOOKUP(\"סיכום פרק 7: השפעת הנאורות על החברה היהודית - תת פרק חובה - משימת סיכום\",grade_report!$3:$100,ROWS($A$4:A39),0)","v":{"$error":"#N/A"}},null,{"$f":"HLOOKUP(\"שיעור לתלמיד 8: ניאו אורתודוקסיה - חיוב המודרנה תוך שמירה קפדנית על מצוות הדת - שיעור לתלמיד\",grade_report!$3:$100,ROWS($A$4:D39),0)","v":{"$error":"#N/A"}},{"$f":"HLOOKUP(\"סיכום פרק 8: ניאו אורתודוקסיה - חיוב המודרנה תוך שמירה קפדנית על מצוות הדת - משימת סיכום\",grade_report!$3:$100,ROWS($A$4:D39),0)","v":{"$error":"#N/A"}},{"$f":"HLOOKUP(\"סיכום פרק 9: תנועות וזרמים יהודיים - משימת סיכום לכל הפרק\",grade_report!$3:$100,ROWS($A$4:E39),0)","v":{"$error":"#N/A"}},null,{"$f":"HLOOKUP(\"שיעור לתלמיד 9: מבשרי הציונות וחיבת ציון - שיעור לתלמיד\",grade_report!$3:$100,ROWS($A$4:H39),0)","v":{"$error":"#N/A"}},{"$f":"HLOOKUP(\"סיכום פרק 10: מבשרי הציונות וחיבת ציון - משימת סיכום\",grade_report!$3:$100,ROWS($A$4:H39),0)","v":{"$error":"#N/A"}},{"$f":"HLOOKUP(\"הפנמה 4: מבשרי הציונות וחיבת ציון - משימת הפנמה\",grade_report!$3:$100,ROWS($A$4:AC39),0)","v":{"$error":"#N/A"}},{"$f":"HLOOKUP(\"העשרה 4: מבשרי הציונות וחיבת ציון - משימת העשרה\",grade_report!$3:$100,ROWS($A$4:AD39),0)","v":{"$error":"#N/A"}},null,{"$f":"HLOOKUP(\"שיעור לתלמיד 10: התנועה הציונית והרצל - שיעור לתלמיד\",grade_report!$3:$100,ROWS($A$4:M39),0)","v":{"$error":"#N/A"}},{"$f":"HLOOKUP(\"סיכום פרק 11: התנועה הציונית והרצל - משימת סיכום - סוף ימיו של הרצל\",grade_report!$3:$100,ROWS($A$4:M39),0)","v":{"$error":"#N/A"}},{"$f":"HLOOKUP(\"הפנמה 5: התנועה הציונית והרצל - משימת הפנמה\",grade_report!$3:$100,ROWS($A$4:AH39),0)","v":{"$error":"#N/A"}},{"$f":"HLOOKUP(\"העשרה 5: התנועה הציונית והרצל - משימת העשרה\",grade_report!$3:$100,ROWS($A$4:AI39),0)","v":{"$error":"#N/A"}},null,{"$f":"HLOOKUP(\"שיעור לתלמיד 11: מפלגות, זרמים ומתנגדים - שיעור לתלמיד\",grade_report!$3:$100,ROWS($A$4:R39),0)","v":{"$error":"#N/A"}},{"$f":"HLOOKUP(\"סיכום פרק 12: מפלגות, זרמים ומתנגדים - משימת סיכום\",grade_report!$3:$100,ROWS($A$4:R39),0)","v":{"$error":"#N/A"}},{"$f":"HLOOKUP(\"הפנמה 6: מפלגות, זרמים ומתנגדים - משימת הפנמה\",grade_report!$3:$100,ROWS($A$4:AM39),0)","v":{"$error":"#N/A"}},{"$f":"HLOOKUP(\"העשרה 6: מפלגות, זרמים ומתנגדים - משימת העשרה\",grade_report!$3:$100,ROWS($A$4:AN39),0)","v":{"$error":"#N/A"}},null,{"$f":"HLOOKUP(\"סיכום קורס-ש' סגורות\",grade_report!$3:$100,ROWS($A$4:AP39),0)","v":{"$error":"#N/A"}},{"$f":"HLOOKUP(\"סיכום קורס-ש' פתוחות\",grade_report!$3:$100,ROWS($A$4:AQ39),0)","v":{"$error":"#N/A"}},{"$f":"HLOOKUP(\"תלמידאות\",grade_report!$3:$100,ROWS($A$4:AR39),0)","v":0}]
[{"$f":"grade_report!C39","v":0},{"$f":"grade_report!B39","v":0},null,{"$f":"VLOOKUP(A37,grade_report!C:D,2,FALSE)","v":{"$error":"#N/A"}},{"$f":"HLOOKUP(\"שיעור לתלמיד 1: נאורוּת - שיעור לתלמיד\",grade_report!$3:$100,ROWS($A$4:A40),0)","v":0},{"$f":"HLOOKUP(\"סיכום פרק 1: נאורוּת - משימת סיכום\",grade_report!$3:$100,ROWS($A$4:A40),0)","v":0},{"$f":"HLOOKUP(\"הפנמה 1: נאורוּת - משימת הפנמה\",grade_report!$3:$100,ROWS($A$4:B40),0)","v":0},{"$f":"HLOOKUP(\"העשרה 1: נאורוּת - משימת העשרה\",grade_report!$3:$100,ROWS($A$4:C40),0)","v":0},null,{"$f":"HLOOKUP(\"שיעור לתלמיד 2: מלחמת העולם הראשונה - שיעור לתלמיד\",grade_report!$3:$100,ROWS($A$4:E40),0)","v":{"$error":"#N/A"}},{"$f":"HLOOKUP(\"סיכום פרק 2: מלחמת העולם הראשונה - משימת סיכום\",grade_report!$3:$100,ROWS($A$4:E40),0)","v":{"$error":"#N/A"}},{"$f":"HLOOKUP(\"הפנמה 2: מלחמת העולם הראשונה - משימת הפנמה\",grade_report!$3:$100,ROWS($A$4:F40),0)","v":{"$error":"#N/A"}},{"$f":"HLOOKUP(\"העשרה 2: מלחמת העולם הראשונה - משימת העשרה - רשות: מלחמת החפירות\",grade_report!$3:$100,ROWS($A$4:G40),0)","v":{"$error":"#N/A"}},null,{"$f":"HLOOKUP(\"שיעור לתלמיד 3: השינויים במעמד המשפטי של יהודי צרפת משלהי המאה ה-18 עד ראשית המאה ה-20 - תת פרק לבחירה\",grade_report!$3:$100,ROWS($A$4:J40),0)","v":{"$error":"#N/A"}},{"$f":"HLOOKUP(\"סיכום פרק 3: השינויים במעמד המשפטי של יהודי צרפת משלהי המאה ה-18 עד ראשית המאה ה-20 -משימת סיכום\",grade_report!$3:$100,ROWS($A$4:J40),0)","v":{"$error":"#N/A"}},{"$f":"HLOOKUP(\"שיעור לתלמיד 4: השינויים במעמד המשפטי של יהודי גרמניה משלהי המאה ה-18 עד ראשית המאה ה-20 - תת פרק לבחירה\",grade_report!$3:$100,ROWS($A$4:O40),0)","v":{"$error":"#N/A"}},{"$f":"HLOOKUP(\"סיכום פרק 4: השינויים במעמד המשפטי של יהודי גרמניה משלהי המאה ה-18 עד ראשית המאה ה-20 - תת פרק לבחירה -משימת סיכום\",grade_report!$3:$100,ROWS($A$4:O40),0)","v":{"$error":"#N/A"}},{"$f":"HLOOKUP(\"שיעור לתלמיד 5: השינויים במעמד המשפטי של היהודים בארצות האסלאם - תהליך האמנציפציה באלג'יריה - תת פרק חובה\",grade_report!$3:$100,ROWS($A$4:A40),0)","v":{"$error":"#N/A"}},{"$f":"HLOOKUP(\"סיכום פרק 5: השינויים במעמד המשפטי של היהודים בארצות האסלאם - תהליך האמנציפציה באלג'יריה - משימת סיכום\",grade_report!$3:$100,ROWS($A$4:A40),0)","v":{"$error":"#N/A"}},{"$f":"HLOOKUP(\"שיעור לתלמיד 6: השלכות השינויים במעמד היהודים על החברה היהודית - תת פרק חובה\",grade_report!$3:$100,ROWS($A$4:D40),0)","v":{"$error":"#N/A"}},{"$f":"HLOOKUP(\"סיכום פרק 6: השפעת הליברליזם על תמורות בחברה היהודית - משימת סיכום - סיכום הסוגיה לכל הפרק\",grade_report!$3:$100,ROWS($A$4:A40),0)","v":{"$error":"#N/A"}},{"$f":"HLOOKUP(\"הפנמה 3: מעמד היהודים משלהי המאה ה-18 ועד תחילת המאה ה-20 - משימת הפנמה לכל הפרק\",grade_report!$3:$100,ROWS($A$4:Q40),0)","v":{"$error":"#N/A"}},{"$f":"HLOOKUP(\"העשרה 3: מעמד היהודים משלהי המאה ה-18 ועד תחילת המאה ה-20 - משימת העשרה לכל הפרק\",grade_report!$3:$100,ROWS($A$4:R40),0)","v":{"$error":"#N/A"}},null,{"$f":"HLOOKUP(\"שיעור לתלמיד 7: השפעת הנאורות על החברה היהודית - תת פרק חובה\",grade_report!$3:$100,ROWS($A$4:A40),0)","v":{"$error":"#N/A"}},{"$f":"HLOOKUP(\"סיכום פרק 7: השפעת הנאורות על החברה היהודית - תת פרק חובה - משימת סיכום\",grade_report!$3:$100,ROWS($A$4:A40),0)","v":{"$error":"#N/A"}},null,{"$f":"HLOOKUP(\"שיעור לתלמיד 8: ניאו אורתודוקסיה - חיוב המודרנה תוך שמירה קפדנית על מצוות הדת - שיעור לתלמיד\",grade_report!$3:$100,ROWS($A$4:D40),0)","v":{"$error":"#N/A"}},{"$f":"HLOOKUP(\"סיכום פרק 8: ניאו אורתודוקסיה - חיוב המודרנה תוך שמירה קפדנית על מצוות הדת - משימת סיכום\",grade_report!$3:$100,ROWS($A$4:D40),0)","v":{"$error":"#N/A"}},{"$f":"HLOOKUP(\"סיכום פרק 9: תנועות וזרמים יהודיים - משימת סיכום לכל הפרק\",grade_report!$3:$100,ROWS($A$4:E40),0)","v":{"$error":"#N/A"}},null,{"$f":"HLOOKUP(\"שיעור לתלמיד 9: מבשרי הציונות וחיבת ציון - שיעור לתלמיד\",grade_report!$3:$100,ROWS($A$4:H40),0)","v":{"$error":"#N/A"}},{"$f":"HLOOKUP(\"סיכום פרק 10: מבשרי הציונות וחיבת ציון - משימת סיכום\",grade_report!$3:$100,ROWS($A$4:H40),0)","v":{"$error":"#N/A"}},{"$f":"HLOOKUP(\"הפנמה 4: מבשרי הציונות וחיבת ציון - משימת הפנמה\",grade_report!$3:$100,ROWS($A$4:AC40),0)","v":{"$error":"#N/A"}},{"$f":"HLOOKUP(\"העשרה 4: מבשרי הציונות וחיבת ציון - משימת העשרה\",grade_report!$3:$100,ROWS($A$4:AD40),0)","v":{"$error":"#N/A"}},null,{"$f":"HLOOKUP(\"שיעור לתלמיד 10: התנועה הציונית והרצל - שיעור לתלמיד\",grade_report!$3:$100,ROWS($A$4:M40),0)","v":{"$error":"#N/A"}},{"$f":"HLOOKUP(\"סיכום פרק 11: התנועה הציונית והרצל - משימת סיכום - סוף ימיו של הרצל\",grade_report!$3:$100,ROWS($A$4:M40),0)","v":{"$error":"#N/A"}},{"$f":"HLOOKUP(\"הפנמה 5: התנועה הציונית והרצל - משימת הפנמה\",grade_report!$3:$100,ROWS($A$4:AH40),0)","v":{"$error":"#N/A"}},{"$f":"HLOOKUP(\"העשרה 5: התנועה הציונית והרצל - משימת העשרה\",grade_report!$3:$100,ROWS($A$4:AI40),0)","v":{"$error":"#N/A"}},null,{"$f":"HLOOKUP(\"שיעור לתלמיד 11: מפלגות, זרמים ומתנגדים - שיעור לתלמיד\",grade_report!$3:$100,ROWS($A$4:R40),0)","v":{"$error":"#N/A"}},{"$f":"HLOOKUP(\"סיכום פרק 12: מפלגות, זרמים ומתנגדים - משימת סיכום\",grade_report!$3:$100,ROWS($A$4:R40),0)","v":{"$error":"#N/A"}},{"$f":"HLOOKUP(\"הפנמה 6: מפלגות, זרמים ומתנגדים - משימת הפנמה\",grade_report!$3:$100,ROWS($A$4:AM40),0)","v":{"$error":"#N/A"}},{"$f":"HLOOKUP(\"העשרה 6: מפלגות, זרמים ומתנגדים - משימת העשרה\",grade_report!$3:$100,ROWS($A$4:AN40),0)","v":{"$error":"#N/A"}},null,{"$f":"HLOOKUP(\"סיכום קורס-ש' סגורות\",grade_report!$3:$100,ROWS($A$4:AP40),0)","v":{"$error":"#N/A"}},{"$f":"HLOOKUP(\"סיכום קורס-ש' פתוחות\",grade_report!$3:$100,ROWS($A$4:AQ40),0)","v":{"$error":"#N/A"}},{"$f":"HLOOKUP(\"תלמידאות\",grade_report!$3:$100,ROWS($A$4:AR40),0)","v":0}]
[{"$f":"grade_report!C40","v":0},{"$f":"grade_report!B40","v":0},null,{"$f":"VLOOKUP(A38,grade_report!C:D,2,FALSE)","v":{"$error":"#N/A"}},{"$f":"HLOOKUP(\"שיעור לתלמיד 1: נאורוּת - שיעור לתלמיד\",grade_report!$3:$100,ROWS($A$4:A41),0)","v":0},{"$f":"HLOOKUP(\"סיכום פרק 1: נאורוּת - משימת סיכום\",grade_report!$3:$100,ROWS($A$4:A41),0)","v":0},{"$f":"HLOOKUP(\"הפנמה 1: נאורוּת - משימת הפנמה\",grade_report!$3:$100,ROWS($A$4:B41),0)","v":0},{"$f":"HLOOKUP(\"העשרה 1: נאורוּת - משימת העשרה\",grade_report!$3:$100,ROWS($A$4:C41),0)","v":0},null,{"$f":"HLOOKUP(\"שיעור לתלמיד 2: מלחמת העולם הראשונה - שיעור לתלמיד\",grade_report!$3:$100,ROWS($A$4:E41),0)","v":{"$error":"#N/A"}},{"$f":"HLOOKUP(\"סיכום פרק 2: מלחמת העולם הראשונה - משימת סיכום\",grade_report!$3:$100,ROWS($A$4:E41),0)","v":{"$error":"#N/A"}},{"$f":"HLOOKUP(\"הפנמה 2: מלחמת העולם הראשונה - משימת הפנמה\",grade_report!$3:$100,ROWS($A$4:F41),0)","v":{"$error":"#N/A"}},{"$f":"HLOOKUP(\"העשרה 2: מלחמת העולם הראשונה - משימת העשרה - רשות: מלחמת החפירות\",grade_report!$3:$100,ROWS($A$4:G41),0)","v":{"$error":"#N/A"}},null,{"$f":"HLOOKUP(\"שיעור לתלמיד 3: השינויים במעמד המשפטי של יהודי צרפת משלהי המאה ה-18 עד ראשית המאה ה-20 - תת פרק לבחירה\",grade_report!$3:$100,ROWS($A$4:J41),0)","v":{"$error":"#N/A"}},{"$f":"HLOOKUP(\"סיכום פרק 3: השינויים במעמד המשפטי של יהודי צרפת משלהי המאה ה-18 עד ראשית המאה ה-20 -משימת סיכום\",grade_report!$3:$100,ROWS($A$4:J41),0)","v":{"$error":"#N/A"}},{"$f":"HLOOKUP(\"שיעור לתלמיד 4: השינויים במעמד המשפטי של יהודי גרמניה משלהי המאה ה-18 עד ראשית המאה ה-20 - תת פרק לבחירה\",grade_report!$3:$100,ROWS($A$4:O41),0)","v":{"$error":"#N/A"}},{"$f":"HLOOKUP(\"סיכום פרק 4: השינויים במעמד המשפטי של יהודי גרמניה משלהי המאה ה-18 עד ראשית המאה ה-20 - תת פרק לבחירה -משימת סיכום\",grade_report!$3:$100,ROWS($A$4:O41),0)","v":{"$error":"#N/A"}},{"$f":"HLOOKUP(\"שיעור לתלמיד 5: השינויים במעמד המשפטי של היהודים בארצות האסלאם - תהליך האמנציפציה באלג'יריה - תת פרק חובה\",grade_report!$3:$100,ROWS($A$4:A41),0)","v":{"$error":"#N/A"}},{"$f":"HLOOKUP(\"סיכום פרק 5: השינויים במעמד המשפטי של היהודים בארצות האסלאם - תהליך האמנציפציה באלג'יריה - משימת סיכום\",grade_report!$3:$100,ROWS($A$4:A41),0)","v":{"$error":"#N/A"}},{"$f":"HLOOKUP(\"שיעור לתלמיד 6: השלכות השינויים במעמד היהודים על החברה היהודית - תת פרק חובה\",grade_report!$3:$100,ROWS($A$4:D41),0)","v":{"$error":"#N/A"}},{"$f":"HLOOKUP(\"סיכום פרק 6: השפעת הליברליזם על תמורות בחברה היהודית - משימת סיכום - סיכום הסוגיה לכל הפרק\",grade_report!$3:$100,ROWS($A$4:A41),0)","v":{"$error":"#N/A"}},{"$f":"HLOOKUP(\"הפנמה 3: מעמד היהודים משלהי המאה ה-18 ועד תחילת המאה ה-20 - משימת הפנמה לכל הפרק\",grade_report!$3:$100,ROWS($A$4:Q41),0)","v":{"$error":"#N/A"}},{"$f":"HLOOKUP(\"העשרה 3: מעמד היהודים משלהי המאה ה-18 ועד תחילת המאה ה-20 - משימת העשרה לכל הפרק\",grade_report!$3:$100,ROWS($A$4:R41),0)","v":{"$error":"#N/A"}},null,{"$f":"HLOOKUP(\"שיעור לתלמיד 7: השפעת הנאורות על החברה היהודית - תת פרק חובה\",grade_report!$3:$100,ROWS($A$4:A41),0)","v":{"$error":"#N/A"}},{"$f":"HLOOKUP(\"סיכום פרק 7: השפעת הנאורות על החברה היהודית - תת פרק חובה - משימת סיכום\",grade_report!$3:$100,ROWS($A$4:A41),0)","v":{"$error":"#N/A"}},null,{"$f":"HLOOKUP(\"שיעור לתלמיד 8: ניאו אורתודוקסיה - חיוב המודרנה תוך שמירה קפדנית על מצוות הדת - שיעור לתלמיד\",grade_report!$3:$100,ROWS($A$4:D41),0)","v":{"$error":"#N/A"}},{"$f":"HLOOKUP(\"סיכום פרק 8: ניאו אורתודוקסיה - חיוב המודרנה תוך שמירה קפדנית על מצוות הדת - משימת סיכום\",grade_report!$3:$100,ROWS($A$4:D41),0)","v":{"$error":"#N/A"}},{"$f":"HLOOKUP(\"סיכום פרק 9: תנועות וזרמים יהודיים - משימת סיכום לכל הפרק\",grade_report!$3:$100,ROWS($A$4:E41),0)","v":{"$error":"#N/A"}},null,{"$f":"HLOOKUP(\"שיעור לתלמיד 9: מבשרי הציונות וחיבת ציון - שיעור לתלמיד\",grade_report!$3:$100,ROWS($A$4:H41),0)","v":{"$error":"#N/A"}},{"$f":"HLOOKUP(\"סיכום פרק 10: מבשרי הציונות וחיבת ציון - משימת סיכום\",grade_report!$3:$100,ROWS($A$4:H41),0)","v":{"$error":"#N/A"}},{"$f":"HLOOKUP(\"הפנמה 4: מבשרי הציונות וחיבת ציון - משימת הפנמה\",grade_report!$3:$100,ROWS($A$4:AC41),0)","v":{"$error":"#N/A"}},{"$f":"HLOOKUP(\"העשרה 4: מבשרי הציונות וחיבת ציון - משימת העשרה\",grade_report!$3:$100,ROWS($A$4:AD41),0)","v":{"$error":"#N/A"}},null,{"$f":"HLOOKUP(\"שיעור לתלמיד 10: התנועה הציונית והרצל - שיעור לתלמיד\",grade_report!$3:$100,ROWS($A$4:M41),0)","v":{"$error":"#N/A"}},{"$f":"HLOOKUP(\"סיכום פרק 11: התנועה הציונית והרצל - משימת סיכום - סוף ימיו של הרצל\",grade_report!$3:$100,ROWS($A$4:M41),0)","v":{"$error":"#N/A"}},{"$f":"HLOOKUP(\"הפנמה 5: התנועה הציונית והרצל - משימת הפנמה\",grade_report!$3:$100,ROWS($A$4:AH41),0)","v":{"$error":"#N/A"}},{"$f":"HLOOKUP(\"העשרה 5: התנועה הציונית והרצל - משימת העשרה\",grade_report!$3:$100,ROWS($A$4:AI41),0)","v":{"$error":"#N/A"}},null,{"$f":"HLOOKUP(\"שיעור לתלמיד 11: מפלגות, זרמים ומתנגדים - שיעור לתלמיד\",grade_report!$3:$100,ROWS($A$4:R41),0)","v":{"$error":"#N/A"}},{"$f":"HLOOKUP(\"סיכום פרק 12: מפלגות, זרמים ומתנגדים - משימת סיכום\",grade_report!$3:$100,ROWS($A$4:R41),0)","v":{"$error":"#N/A"}},{"$f":"HLOOKUP(\"הפנמה 6: מפלגות, זרמים ומתנגדים - משימת הפנמה\",grade_report!$3:$100,ROWS($A$4:AM41),0)","v":{"$error":"#N/A"}},{"$f":"HLOOKUP(\"העשרה 6: מפלגות, זרמים ומתנגדים - משימת העשרה\",grade_report!$3:$100,ROWS($A$4:AN41),0)","v":{"$error":"#N/A"}},null,{"$f":"HLOOKUP(\"סיכום קורס-ש' סגורות\",grade_report!$3:$100,ROWS($A$4:AP41),0)","v":{"$error":"#N/A"}},{"$f":"HLOOKUP(\"סיכום קורס-ש' פתוחות\",grade_report!$3:$100,ROWS($A$4:AQ41),0)","v":{"$error":"#N/A"}},{"$f":"HLOOKUP(\"תלמידאות\",grade_report!$3:$100,ROWS($A$4:AR41),0)","v":0}]
[{"$f":"grade_report!C41","v":0},{"$f":"grade_report!B41","v":0},null,{"$f":"VLOOKUP(A39,grade_report!C:D,2,FALSE)","v":{"$error":"#N/A"}},{"$f":"HLOOKUP(\"שיעור לתלמיד 1: נאורוּת - שיעור לתלמיד\",grade_report!$3:$100,ROWS($A$4:A42),0)","v":0},{"$f":"HLOOKUP(\"סיכום פרק 1: נאורוּת - משימת סיכום\",grade_report!$3:$100,ROWS($A$4:A42),0)","v":0},{"$f":"HLOOKUP(\"הפנמה 1: נאורוּת - משימת הפנמה\",grade_report!$3:$100,ROWS($A$4:B42),0)","v":0},{"$f":"HLOOKUP(\"העשרה 1: נאורוּת - משימת העשרה\",grade_report!$3:$100,ROWS($A$4:C42),0)","v":0},null,{"$f":"HLOOKUP(\"שיעור לתלמיד 2: מלחמת העולם הראשונה - שיעור לתלמיד\",grade_report!$3:$100,ROWS($A$4:E42),0)","v":{"$error":"#N/A"}},{"$f":"HLOOKUP(\"סיכום פרק 2: מלחמת העולם הראשונה - משימת סיכום\",grade_report!$3:$100,ROWS($A$4:E42),0)","v":{"$error":"#N/A"}},{"$f":"HLOOKUP(\"הפנמה 2: מלחמת העולם הראשונה - משימת הפנמה\",grade_report!$3:$100,ROWS($A$4:F42),0)","v":{"$error":"#N/A"}},{"$f":"HLOOKUP(\"העשרה 2: מלחמת העולם הראשונה - משימת העשרה - רשות: מלחמת החפירות\",grade_report!$3:$100,ROWS($A$4:G42),0)","v":{"$error":"#N/A"}},null,{"$f":"HLOOKUP(\"שיעור לתלמיד 3: השינויים במעמד המשפטי של יהודי צרפת משלהי המאה ה-18 עד ראשית המאה ה-20 - תת פרק לבחירה\",grade_report!$3:$100,ROWS($A$4:J42),0)","v":{"$error":"#N/A"}},{"$f":"HLOOKUP(\"סיכום פרק 3: השינויים במעמד המשפטי של יהודי צרפת משלהי המאה ה-18 עד ראשית המאה ה-20 -משימת סיכום\",grade_report!$3:$100,ROWS($A$4:J42),0)","v":{"$error":"#N/A"}},{"$f":"HLOOKUP(\"שיעור לתלמיד 4: השינויים במעמד המשפטי של יהודי גרמניה משלהי המאה ה-18 עד ראשית המאה ה-20 - תת פרק לבחירה\",grade_report!$3:$100,ROWS($A$4:O42),0)","v":{"$error":"#N/A"}},{"$f":"HLOOKUP(\"סיכום פרק 4: השינויים במעמד המשפטי של יהודי גרמניה משלהי המאה ה-18 עד ראשית המאה ה-20 - תת פרק לבחירה -משימת סיכום\",grade_report!$3:$100,ROWS($A$4:O42),0)","v":{"$error":"#N/A"}},{"$f":"HLOOKUP(\"שיעור לתלמיד 5: השינויים במעמד המשפטי של היהודים בארצות האסלאם - תהליך האמנציפציה באלג'יריה - תת פרק חובה\",grade_report!$3:$100,ROWS($A$4:A42),0)","v":{"$error":"#N/A"}},{"$f":"HLOOKUP(\"סיכום פרק 5: השינויים במעמד המשפטי של היהודים בארצות האסלאם - תהליך האמנציפציה באלג'יריה - משימת סיכום\",grade_report!$3:$100,ROWS($A$4:A42),0)","v":{"$error":"#N/A"}},{"$f":"HLOOKUP(\"שיעור לתלמיד 6: השלכות השינויים במעמד היהודים על החברה היהודית - תת פרק חובה\",grade_report!$3:$100,ROWS($A$4:D42),0)","v":{"$error":"#N/A"}},{"$f":"HLOOKUP(\"סיכום פרק 6: השפעת הליברליזם על תמורות בחברה היהודית - משימת סיכום - סיכום הסוגיה לכל הפרק\",grade_report!$3:$100,ROWS($A$4:A42),0)","v":{"$error":"#N/A"}},{"$f":"HLOOKUP(\"הפנמה 3: מעמד היהודים משלהי המאה ה-18 ועד תחילת המאה ה-20 - משימת הפנמה לכל הפרק\",grade_report!$3:$100,ROWS($A$4:Q42),0)","v":{"$error":"#N/A"}},{"$f":"HLOOKUP(\"העשרה 3: מעמד היהודים משלהי המאה ה-18 ועד תחילת המאה ה-20 - משימת העשרה לכל הפרק\",grade_report!$3:$100,ROWS($A$4:R42),0)","v":{"$error":"#N/A"}},null,{"$f":"HLOOKUP(\"שיעור לתלמיד 7: השפעת הנאורות על החברה היהודית - תת פרק חובה\",grade_report!$3:$100,ROWS($A$4:A42),0)","v":{"$error":"#N/A"}},{"$f":"HLOOKUP(\"סיכום פרק 7: השפעת הנאורות על החברה היהודית - תת פרק חובה - משימת סיכום\",grade_report!$3:$100,ROWS($A$4:A42),0)","v":{"$error":"#N/A"}},null,{"$f":"HLOOKUP(\"שיעור לתלמיד 8: ניאו אורתודוקסיה - חיוב המודרנה תוך שמירה קפדנית על מצוות הדת - שיעור לתלמיד\",grade_report!$3:$100,ROWS($A$4:D42),0)","v":{"$error":"#N/A"}},{"$f":"HLOOKUP(\"סיכום פרק 8: ניאו אורתודוקסיה - חיוב המודרנה תוך שמירה קפדנית על מצוות הדת - משימת סיכום\",grade_report!$3:$100,ROWS($A$4:D42),0)","v":{"$error":"#N/A"}},{"$f":"HLOOKUP(\"סיכום פרק 9: תנועות וזרמים יהודיים - משימת סיכום לכל הפרק\",grade_report!$3:$100,ROWS($A$4:E42),0)","v":{"$error":"#N/A"}},null,{"$f":"HLOOKUP(\"שיעור לתלמיד 9: מבשרי הציונות וחיבת ציון - שיעור לתלמיד\",grade_report!$3:$100,ROWS($A$4:H42),0)","v":{"$error":"#N/A"}},{"$f":"HLOOKUP(\"סיכום פרק 10: מבשרי הציונות וחיבת ציון - משימת סיכום\",grade_report!$3:$100,ROWS($A$4:H42),0)","v":{"$error":"#N/A"}},{"$f":"HLOOKUP(\"הפנמה 4: מבשרי הציונות וחיבת ציון - משימת הפנמה\",grade_report!$3:$100,ROWS($A$4:AC42),0)","v":{"$error":"#N/A"}},{"$f":"HLOOKUP(\"העשרה 4: מבשרי הציונות וחיבת ציון - משימת העשרה\",grade_report!$3:$100,ROWS($A$4:AD42),0)","v":{"$error":"#N/A"}},null,{"$f":"HLOOKUP(\"שיעור לתלמיד 10: התנועה הציונית והרצל - שיעור לתלמיד\",grade_report!$3:$100,ROWS($A$4:M42),0)","v":{"$error":"#N/A"}},{"$f":"HLOOKUP(\"סיכום פרק 11: התנועה הציונית והרצל - משימת סיכום - סוף ימיו של הרצל\",grade_report!$3:$100,ROWS($A$4:M42),0)","v":{"$error":"#N/A"}},{"$f":"HLOOKUP(\"הפנמה 5: התנועה הציונית והרצל - משימת הפנמה\",grade_report!$3:$100,ROWS($A$4:AH42),0)","v":{"$error":"#N/A"}},{"$f":"HLOOKUP(\"העשרה 5: התנועה הציונית והרצל - משימת העשרה\",grade_report!$3:$100,ROWS($A$4:AI42),0)","v":{"$error":"#N/A"}},null,{"$f":"HLOOKUP(\"שיעור לתלמיד 11: מפלגות, זרמים ומתנגדים - שיעור לתלמיד\",grade_report!$3:$100,ROWS($A$4:R42),0)","v":{"$error":"#N/A"}},{"$f":"HLOOKUP(\"סיכום פרק 12: מפלגות, זרמים ומתנגדים - משימת סיכום\",grade_report!$3:$100,ROWS($A$4:R42),0)","v":{"$error":"#N/A"}},{"$f":"HLOOKUP(\"הפנמה 6: מפלגות, זרמים ומתנגדים - משימת הפנמה\",grade_report!$3:$100,ROWS($A$4:AM42),0)","v":{"$error":"#N/A"}},{"$f":"HLOOKUP(\"העשרה 6: מפלגות, זרמים ומתנגדים - משימת העשרה\",grade_report!$3:$100,ROWS($A$4:AN42),0)","v":{"$error":"#N/A"}},null,{"$f":"HLOOKUP(\"סיכום קורס-ש' סגורות\",grade_report!$3:$100,ROWS($A$4:AP42),0)","v":{"$error":"#N/A"}},{"$f":"HLOOKUP(\"סיכום קורס-ש' פתוחות\",grade_report!$3:$100,ROWS($A$4:AQ42),0)","v":{"$error":"#N/A"}},{"$f":"HLOOKUP(\"תלמידאות\",grade_report!$3:$100,ROWS($A$4:AR42),0)","v":0}]
[{"$f":"grade_report!C42","v":0},{"$f":"grade_report!B42","v":0},null,{"$f":"VLOOKUP(A40,grade_report!C:D,2,FALSE)","v":{"$error":"#N/A"}},{"$f":"HLOOKUP(\"שיעור לתלמיד 1: נאורוּת - שיעור לתלמיד\",grade_report!$3:$100,ROWS($A$4:A43),0)","v":0},{"$f":"HLOOKUP(\"סיכום פרק 1: נאורוּת - משימת סיכום\",grade_report!$3:$100,ROWS($A$4:A43),0)","v":0},{"$f":"HLOOKUP(\"הפנמה 1: נאורוּת - משימת הפנמה\",grade_report!$3:$100,ROWS($A$4:B43),0)","v":0},{"$f":"HLOOKUP(\"העשרה 1: נאורוּת - משימת העשרה\",grade_report!$3:$100,ROWS($A$4:C43),0)","v":0},null,{"$f":"HLOOKUP(\"שיעור לתלמיד 2: מלחמת העולם הראשונה - שיעור לתלמיד\",grade_report!$3:$100,ROWS($A$4:E43),0)","v":{"$error":"#N/A"}},{"$f":"HLOOKUP(\"סיכום פרק 2: מלחמת העולם הראשונה - משימת סיכום\",grade_report!$3:$100,ROWS($A$4:E43),0)","v":{"$error":"#N/A"}},{"$f":"HLOOKUP(\"הפנמה 2: מלחמת העולם הראשונה - משימת הפנמה\",grade_report!$3:$100,ROWS($A$4:F43),0)","v":{"$error":"#N/A"}},{"$f":"HLOOKUP(\"העשרה 2: מלחמת העולם הראשונה - משימת העשרה - רשות: מלחמת החפירות\",grade_report!$3:$100,ROWS($A$4:G43),0)","v":{"$error":"#N/A"}},null,{"$f":"HLOOKUP(\"שיעור לתלמיד 3: השינויים במעמד המשפטי של יהודי צרפת משלהי המאה ה-18 עד ראשית המאה ה-20 - תת פרק לבחירה\",grade_report!$3:$100,ROWS($A$4:J43),0)","v":{"$error":"#N/A"}},{"$f":"HLOOKUP(\"סיכום פרק 3: השינויים במעמד המשפטי של יהודי צרפת משלהי המאה ה-18 עד ראשית המאה ה-20 -משימת סיכום\",grade_report!$3:$100,ROWS($A$4:J43),0)","v":{"$error":"#N/A"}},{"$f":"HLOOKUP(\"שיעור לתלמיד 4: השינויים במעמד המשפטי של יהודי גרמניה משלהי המאה ה-18 עד ראשית המאה ה-20 - תת פרק לבחירה\",grade_report!$3:$100,ROWS($A$4:O43),0)","v":{"$error":"#N/A"}},{"$f":"HLOOKUP(\"סיכום פרק 4: השינויים במעמד המשפטי של יהודי גרמניה משלהי המאה ה-18 עד ראשית המאה ה-20 - תת פרק לבחירה -משימת סיכום\",grade_report!$3:$100,ROWS($A$4:O43),0)","v":{"$error":"#N/A"}},{"$f":"HLOOKUP(\"שיעור לתלמיד 5: השינויים במעמד המשפטי של היהודים בארצות האסלאם - תהליך האמנציפציה באלג'יריה - תת פרק חובה\",grade_report!$3:$100,ROWS($A$4:A43),0)","v":{"$error":"#N/A"}},{"$f":"HLOOKUP(\"סיכום פרק 5: השינויים במעמד המשפטי של היהודים בארצות האסלאם - תהליך האמנציפציה באלג'יריה - משימת סיכום\",grade_report!$3:$100,ROWS($A$4:A43),0)","v":{"$error":"#N/A"}},{"$f":"HLOOKUP(\"שיעור לתלמיד 6: השלכות השינויים במעמד היהודים על החברה היהודית - תת פרק חובה\",grade_report!$3:$100,ROWS($A$4:D43),0)","v":{"$error":"#N/A"}},{"$f":"HLOOKUP(\"סיכום פרק 6: השפעת הליברליזם על תמורות בחברה היהודית - משימת סיכום - סיכום הסוגיה לכל הפרק\",grade_report!$3:$100,ROWS($A$4:A43),0)","v":{"$error":"#N/A"}},{"$f":"HLOOKUP(\"הפנמה 3: מעמד היהודים משלהי המאה ה-18 ועד תחילת המאה ה-20 - משימת הפנמה לכל הפרק\",grade_report!$3:$100,ROWS($A$4:Q43),0)","v":{"$error":"#N/A"}},{"$f":"HLOOKUP(\"העשרה 3: מעמד היהודים משלהי המאה ה-18 ועד תחילת המאה ה-20 - משימת העשרה לכל הפרק\",grade_report!$3:$100,ROWS($A$4:R43),0)","v":{"$error":"#N/A"}},null,{"$f":"HLOOKUP(\"שיעור לתלמיד 7: השפעת הנאורות על החברה היהודית - תת פרק חובה\",grade_report!$3:$100,ROWS($A$4:A43),0)","v":{"$error":"#N/A"}},{"$f":"HLOOKUP(\"סיכום פרק 7: השפעת הנאורות על החברה היהודית - תת פרק חובה - משימת סיכום\",grade_report!$3:$100,ROWS($A$4:A43),0)","v":{"$error":"#N/A"}},null,{"$f":"HLOOKUP(\"שיעור לתלמיד 8: ניאו אורתודוקסיה - חיוב המודרנה תוך שמירה קפדנית על מצוות הדת - שיעור לתלמיד\",grade_report!$3:$100,ROWS($A$4:D43),0)","v":{"$error":"#N/A"}},{"$f":"HLOOKUP(\"סיכום פרק 8: ניאו אורתודוקסיה - חיוב המודרנה תוך שמירה קפדנית על מצוות הדת - משימת סיכום\",grade_report!$3:$100,ROWS($A$4:D43),0)","v":{"$error":"#N/A"}},{"$f":"HLOOKUP(\"סיכום פרק 9: תנועות וזרמים יהודיים - משימת סיכום לכל הפרק\",grade_report!$3:$100,ROWS($A$4:E43),0)","v":{"$error":"#N/A"}},null,{"$f":"HLOOKUP(\"שיעור לתלמיד 9: מבשרי הציונות וחיבת ציון - שיעור לתלמיד\",grade_report!$3:$100,ROWS($A$4:H43),0)","v":{"$error":"#N/A"}},{"$f":"HLOOKUP(\"סיכום פרק 10: מבשרי הציונות וחיבת ציון - משימת סיכום\",grade_report!$3:$100,ROWS($A$4:H43),0)","v":{"$error":"#N/A"}},{"$f":"HLOOKUP(\"הפנמה 4: מבשרי הציונות וחיבת ציון - משימת הפנמה\",grade_report!$3:$100,ROWS($A$4:AC43),0)","v":{"$error":"#N/A"}},{"$f":"HLOOKUP(\"העשרה 4: מבשרי הציונות וחיבת ציון - משימת העשרה\",grade_report!$3:$100,ROWS($A$4:AD43),0)","v":{"$error":"#N/A"}},null,{"$f":"HLOOKUP(\"שיעור לתלמיד 10: התנועה הציונית והרצל - שיעור לתלמיד\",grade_report!$3:$100,ROWS($A$4:M43),0)","v":{"$error":"#N/A"}},{"$f":"HLOOKUP(\"סיכום פרק 11: התנועה הציונית והרצל - משימת סיכום - סוף ימיו של הרצל\",grade_report!$3:$100,ROWS($A$4:M43),0)","v":{"$error":"#N/A"}},{"$f":"HLOOKUP(\"הפנמה 5: התנועה הציונית והרצל - משימת הפנמה\",grade_report!$3:$100,ROWS($A$4:AH43),0)","v":{"$error":"#N/A"}},{"$f":"HLOOKUP(\"העשרה 5: התנועה הציונית והרצל - משימת העשרה\",grade_report!$3:$100,ROWS($A$4:AI43),0)","v":{"$error":"#N/A"}},null,{"$f":"HLOOKUP(\"שיעור לתלמיד 11: מפלגות, זרמים ומתנגדים - שיעור לתלמיד\",grade_report!$3:$100,ROWS($A$4:R43),0)","v":{"$error":"#N/A"}},{"$f":"HLOOKUP(\"סיכום פרק 12: מפלגות, זרמים ומתנגדים - משימת סיכום\",grade_report!$3:$100,ROWS($A$4:R43),0)","v":{"$error":"#N/A"}},{"$f":"HLOOKUP(\"הפנמה 6: מפלגות, זרמים ומתנגדים - משימת הפנמה\",grade_report!$3:$100,ROWS($A$4:AM43),0)","v":{"$error":"#N/A"}},{"$f":"HLOOKUP(\"העשרה 6: מפלגות, זרמים ומתנגדים - משימת העשרה\",grade_report!$3:$100,ROWS($A$4:AN43),0)","v":{"$error":"#N/A"}},null,{"$f":"HLOOKUP(\"סיכום קורס-ש' סגורות\",grade_report!$3:$100,ROWS($A$4:AP43),0)","v":{"$error":"#N/A"}},{"$f":"HLOOKUP(\"סיכום קורס-ש' פתוחות\",grade_report!$3:$100,ROWS($A$4:AQ43),0)","v":{"$error":"#N/A"}},{"$f":"HLOOKUP(\"תלמידאות\",grade_report!$3:$100,ROWS($A$4:AR43),0)","v":0}]
[{"$f":"grade_report!C43","v":0},{"$f":"grade_report!B43","v":0},null,{"$f":"VLOOKUP(A41,grade_report!C:D,2,FALSE)","v":{"$error":"#N/A"}},{"$f":"HLOOKUP(\"שיעור לתלמיד 1: נאורוּת - שיעור לתלמיד\",grade_report!$3:$100,ROWS($A$4:A44),0)","v":0},{"$f":"HLOOKUP(\"סיכום פרק 1: נאורוּת - משימת סיכום\",grade_report!$3:$100,ROWS($A$4:A44),0)","v":0},{"$f":"HLOOKUP(\"הפנמה 1: נאורוּת - משימת הפנמה\",grade_report!$3:$100,ROWS($A$4:B44),0)","v":0},{"$f":"HLOOKUP(\"העשרה 1: נאורוּת - משימת העשרה\",grade_report!$3:$100,ROWS($A$4:C44),0)","v":0},null,{"$f":"HLOOKUP(\"שיעור לתלמיד 2: מלחמת העולם הראשונה - שיעור לתלמיד\",grade_report!$3:$100,ROWS($A$4:E44),0)","v":{"$error":"#N/A"}},{"$f":"HLOOKUP(\"סיכום פרק 2: מלחמת העולם הראשונה - משימת סיכום\",grade_report!$3:$100,ROWS($A$4:E44),0)","v":{"$error":"#N/A"}},{"$f":"HLOOKUP(\"הפנמה 2: מלחמת העולם הראשונה - משימת הפנמה\",grade_report!$3:$100,ROWS($A$4:F44),0)","v":{"$error":"#N/A"}},{"$f":"HLOOKUP(\"העשרה 2: מלחמת העולם הראשונה - משימת העשרה - רשות: מלחמת החפירות\",grade_report!$3:$100,ROWS($A$4:G44),0)","v":{"$error":"#N/A"}},null,{"$f":"HLOOKUP(\"שיעור לתלמיד 3: השינויים במעמד המשפטי של יהודי צרפת משלהי המאה ה-18 עד ראשית המאה ה-20 - תת פרק לבחירה\",grade_report!$3:$100,ROWS($A$4:J44),0)","v":{"$error":"#N/A"}},{"$f":"HLOOKUP(\"סיכום פרק 3: השינויים במעמד המשפטי של יהודי צרפת משלהי המאה ה-18 עד ראשית המאה ה-20 -משימת סיכום\",grade_report!$3:$100,ROWS($A$4:J44),0)","v":{"$error":"#N/A"}},{"$f":"HLOOKUP(\"שיעור לתלמיד 4: השינויים במעמד המשפטי של יהודי גרמניה משלהי המאה ה-18 עד ראשית המאה ה-20 - תת פרק לבחירה\",grade_report!$3:$100,ROWS($A$4:O44),0)","v":{"$error":"#N/A"}},{"$f":"HLOOKUP(\"סיכום פרק 4: השינויים במעמד המשפטי של יהודי גרמניה משלהי המאה ה-18 עד ראשית המאה ה-20 - תת פרק לבחירה -משימת סיכום\",grade_report!$3:$100,ROWS($A$4:O44),0)","v":{"$error":"#N/A"}},{"$f":"HLOOKUP(\"שיעור לתלמיד 5: השינויים במעמד המשפטי של היהודים בארצות האסלאם - תהליך האמנציפציה באלג'יריה - תת פרק חובה\",grade_report!$3:$100,ROWS($A$4:A44),0)","v":{"$error":"#N/A"}},{"$f":"HLOOKUP(\"סיכום פרק 5: השינויים במעמד המשפטי של היהודים בארצות האסלאם - תהליך האמנציפציה באלג'יריה - משימת סיכום\",grade_report!$3:$100,ROWS($A$4:A44),0)","v":{"$error":"#N/A"}},{"$f":"HLOOKUP(\"שיעור לתלמיד 6: השלכות השינויים במעמד היהודים על החברה היהודית - תת פרק חובה\",grade_report!$3:$100,ROWS($A$4:D44),0)","v":{"$error":"#N/A"}},{"$f":"HLOOKUP(\"סיכום פרק 6: השפעת הליברליזם על תמורות בחברה היהודית - משימת סיכום - סיכום הסוגיה לכל הפרק\",grade_report!$3:$100,ROWS($A$4:A44),0)","v":{"$error":"#N/A"}},{"$f":"HLOOKUP(\"הפנמה 3: מעמד היהודים משלהי המאה ה-18 ועד תחילת המאה ה-20 - משימת הפנמה לכל הפרק\",grade_report!$3:$100,ROWS($A$4:Q44),0)","v":{"$error":"#N/A"}},{"$f":"HLOOKUP(\"העשרה 3: מעמד היהודים משלהי המאה ה-18 ועד תחילת המאה ה-20 - משימת העשרה לכל הפרק\",grade_report!$3:$100,ROWS($A$4:R44),0)","v":{"$error":"#N/A"}},null,{"$f":"HLOOKUP(\"שיעור לתלמיד 7: השפעת הנאורות על החברה היהודית - תת פרק חובה\",grade_report!$3:$100,ROWS($A$4:A44),0)","v":{"$error":"#N/A"}},{"$f":"HLOOKUP(\"סיכום פרק 7: השפעת הנאורות על החברה היהודית - תת פרק חובה - משימת סיכום\",grade_report!$3:$100,ROWS($A$4:A44),0)","v":{"$error":"#N/A"}},null,{"$f":"HLOOKUP(\"שיעור לתלמיד 8: ניאו אורתודוקסיה - חיוב המודרנה תוך שמירה קפדנית על מצוות הדת - שיעור לתלמיד\",grade_report!$3:$100,ROWS($A$4:D44),0)","v":{"$error":"#N/A"}},{"$f":"HLOOKUP(\"סיכום פרק 8: ניאו אורתודוקסיה - חיוב המודרנה תוך שמירה קפדנית על מצוות הדת - משימת סיכום\",grade_report!$3:$100,ROWS($A$4:D44),0)","v":{"$error":"#N/A"}},{"$f":"HLOOKUP(\"סיכום פרק 9: תנועות וזרמים יהודיים - משימת סיכום לכל הפרק\",grade_report!$3:$100,ROWS($A$4:E44),0)","v":{"$error":"#N/A"}},null,{"$f":"HLOOKUP(\"שיעור לתלמיד 9: מבשרי הציונות וחיבת ציון - שיעור לתלמיד\",grade_report!$3:$100,ROWS($A$4:H44),0)","v":{"$error":"#N/A"}},{"$f":"HLOOKUP(\"סיכום פרק 10: מבשרי הציונות וחיבת ציון - משימת סיכום\",grade_report!$3:$100,ROWS($A$4:H44),0)","v":{"$error":"#N/A"}},{"$f":"HLOOKUP(\"הפנמה 4: מבשרי הציונות וחיבת ציון - משימת הפנמה\",grade_report!$3:$100,ROWS($A$4:AC44),0)","v":{"$error":"#N/A"}},{"$f":"HLOOKUP(\"העשרה 4: מבשרי הציונות וחיבת ציון - משימת העשרה\",grade_report!$3:$100,ROWS($A$4:AD44),0)","v":{"$error":"#N/A"}},null,{"$f":"HLOOKUP(\"שיעור לתלמיד 10: התנועה הציונית והרצל - שיעור לתלמיד\",grade_report!$3:$100,ROWS($A$4:M44),0)","v":{"$error":"#N/A"}},{"$f":"HLOOKUP(\"סיכום פרק 11: התנועה הציונית והרצל - משימת סיכום - סוף ימיו של הרצל\",grade_report!$3:$100,ROWS($A$4:M44),0)","v":{"$error":"#N/A"}},{"$f":"HLOOKUP(\"הפנמה 5: התנועה הציונית והרצל - משימת הפנמה\",grade_report!$3:$100,ROWS($A$4:AH44),0)","v":{"$error":"#N/A"}},{"$f":"HLOOKUP(\"העשרה 5: התנועה הציונית והרצל - משימת העשרה\",grade_report!$3:$100,ROWS($A$4:AI44),0)","v":{"$error":"#N/A"}},null,{"$f":"HLOOKUP(\"שיעור לתלמיד 11: מפלגות, זרמים ומתנגדים - שיעור לתלמיד\",grade_report!$3:$100,ROWS($A$4:R44),0)","v":{"$error":"#N/A"}},{"$f":"HLOOKUP(\"סיכום פרק 12: מפלגות, זרמים ומתנגדים - משימת סיכום\",grade_report!$3:$100,ROWS($A$4:R44),0)","v":{"$error":"#N/A"}},{"$f":"HLOOKUP(\"הפנמה 6: מפלגות, זרמים ומתנגדים - משימת הפנמה\",grade_report!$3:$100,ROWS($A$4:AM44),0)","v":{"$error":"#N/A"}},{"$f":"HLOOKUP(\"העשרה 6: מפלגות, זרמים ומתנגדים - משימת העשרה\",grade_report!$3:$100,ROWS($A$4:AN44),0)","v":{"$error":"#N/A"}},null,{"$f":"HLOOKUP(\"סיכום קורס-ש' סגורות\",grade_report!$3:$100,ROWS($A$4:AP44),0)","v":{"$error":"#N/A"}},{"$f":"HLOOKUP(\"סיכום קורס-ש' פתוחות\",grade_report!$3:$100,ROWS($A$4:AQ44),0)","v":{"$error":"#N/A"}},{"$f":"HLOOKUP(\"תלמידאות\",grade_report!$3:$100,ROWS($A$4:AR44),0)","v":0}]
[{"$f":"grade_report!C44","v":0},{"$f":"grade_report!B44","v":0},null,{"$f":"VLOOKUP(A42,grade_report!C:D,2,FALSE)","v":{"$error":"#N/A"}},{"$f":"HLOOKUP(\"שיעור לתלמיד 1: נאורוּת - שיעור לתלמיד\",grade_report!$3:$100,ROWS($A$4:A45),0)","v":0},{"$f":"HLOOKUP(\"סיכום פרק 1: נאורוּת - משימת סיכום\",grade_report!$3:$100,ROWS($A$4:A45),0)","v":0},{"$f":"HLOOKUP(\"הפנמה 1: נאורוּת - משימת הפנמה\",grade_report!$3:$100,ROWS($A$4:B45),0)","v":0},{"$f":"HLOOKUP(\"העשרה 1: נאורוּת - משימת העשרה\",grade_report!$3:$100,ROWS($A$4:C45),0)","v":0},null,{"$f":"HLOOKUP(\"שיעור לתלמיד 2: מלחמת העולם הראשונה - שיעור לתלמיד\",grade_report!$3:$100,ROWS($A$4:E45),0)","v":{"$error":"#N/A"}},{"$f":"HLOOKUP(\"סיכום פרק 2: מלחמת העולם הראשונה - משימת סיכום\",grade_report!$3:$100,ROWS($A$4:E45),0)","v":{"$error":"#N/A"}},{"$f":"HLOOKUP(\"הפנמה 2: מלחמת העולם הראשונה - משימת הפנמה\",grade_report!$3:$100,ROWS($A$4:F45),0)","v":{"$error":"#N/A"}},{"$f":"HLOOKUP(\"העשרה 2: מלחמת העולם הראשונה - משימת העשרה - רשות: מלחמת החפירות\",grade_report!$3:$100,ROWS($A$4:G45),0)","v":{"$error":"#N/A"}},null,{"$f":"HLOOKUP(\"שיעור לתלמיד 3: השינויים במעמד המשפטי של יהודי צרפת משלהי המאה ה-18 עד ראשית המאה ה-20 - תת פרק לבחירה\",grade_report!$3:$100,ROWS($A$4:J45),0)","v":{"$error":"#N/A"}},{"$f":"HLOOKUP(\"סיכום פרק 3: השינויים במעמד המשפטי של יהודי צרפת משלהי המאה ה-18 עד ראשית המאה ה-20 -משימת סיכום\",grade_report!$3:$100,ROWS($A$4:J45),0)","v":{"$error":"#N/A"}},{"$f":"HLOOKUP(\"שיעור לתלמיד 4: השינויים במעמד המשפטי של יהודי גרמניה משלהי המאה ה-18 עד ראשית המאה ה-20 - תת פרק לבחירה\",grade_report!$3:$100,ROWS($A$4:O45),0)","v":{"$error":"#N/A"}},{"$f":"HLOOKUP(\"סיכום פרק 4: השינויים במעמד המשפטי של יהודי גרמניה משלהי המאה ה-18 עד ראשית המאה ה-20 - תת פרק לבחירה -משימת סיכום\",grade_report!$3:$100,ROWS($A$4:O45),0)","v":{"$error":"#N/A"}},{"$f":"HLOOKUP(\"שיעור לתלמיד 5: השינויים במעמד המשפטי של היהודים בארצות האסלאם - תהליך האמנציפציה באלג'יריה - תת פרק חובה\",grade_report!$3:$100,ROWS($A$4:A45),0)","v":{"$error":"#N/A"}},{"$f":"HLOOKUP(\"סיכום פרק 5: השינויים במעמד המשפטי של היהודים בארצות האסלאם - תהליך האמנציפציה באלג'יריה - משימת סיכום\",grade_report!$3:$100,ROWS($A$4:A45),0)","v":{"$error":"#N/A"}},{"$f":"HLOOKUP(\"שיעור לתלמיד 6: השלכות השינויים במעמד היהודים על החברה היהודית - תת פרק חובה\",grade_report!$3:$100,ROWS($A$4:D45),0)","v":{"$error":"#N/A"}},{"$f":"HLOOKUP(\"סיכום פרק 6: השפעת הליברליזם על תמורות בחברה היהודית - משימת סיכום - סיכום הסוגיה לכל הפרק\",grade_report!$3:$100,ROWS($A$4:A45),0)","v":{"$error":"#N/A"}},{"$f":"HLOOKUP(\"הפנמה 3: מעמד היהודים משלהי המאה ה-18 ועד תחילת המאה ה-20 - משימת הפנמה לכל הפרק\",grade_report!$3:$100,ROWS($A$4:Q45),0)","v":{"$error":"#N/A"}},{"$f":"HLOOKUP(\"העשרה 3: מעמד היהודים משלהי המאה ה-18 ועד תחילת המאה ה-20 - משימת העשרה לכל הפרק\",grade_report!$3:$100,ROWS($A$4:R45),0)","v":{"$error":"#N/A"}},null,{"$f":"HLOOKUP(\"שיעור לתלמיד 7: השפעת הנאורות על החברה היהודית - תת פרק חובה\",grade_report!$3:$100,ROWS($A$4:A45),0)","v":{"$error":"#N/A"}},{"$f":"HLOOKUP(\"סיכום פרק 7: השפעת הנאורות על החברה היהודית - תת פרק חובה - משימת סיכום\",grade_report!$3:$100,ROWS($A$4:A45),0)","v":{"$error":"#N/A"}},null,{"$f":"HLOOKUP(\"שיעור לתלמיד 8: ניאו אורתודוקסיה - חיוב המודרנה תוך שמירה קפדנית על מצוות הדת - שיעור לתלמיד\",grade_report!$3:$100,ROWS($A$4:D45),0)","v":{"$error":"#N/A"}},{"$f":"HLOOKUP(\"סיכום פרק 8: ניאו אורתודוקסיה - חיוב המודרנה תוך שמירה קפדנית על מצוות הדת - משימת סיכום\",grade_report!$3:$100,ROWS($A$4:D45),0)","v":{"$error":"#N/A"}},{"$f":"HLOOKUP(\"סיכום פרק 9: תנועות וזרמים יהודיים - משימת סיכום לכל הפרק\",grade_report!$3:$100,ROWS($A$4:E45),0)","v":{"$error":"#N/A"}},null,{"$f":"HLOOKUP(\"שיעור לתלמיד 9: מבשרי הציונות וחיבת ציון - שיעור לתלמיד\",grade_report!$3:$100,ROWS($A$4:H45),0)","v":{"$error":"#N/A"}},{"$f":"HLOOKUP(\"סיכום פרק 10: מבשרי הציונות וחיבת ציון - משימת סיכום\",grade_report!$3:$100,ROWS($A$4:H45),0)","v":{"$error":"#N/A"}},{"$f":"HLOOKUP(\"הפנמה 4: מבשרי הציונות וחיבת ציון - משימת הפנמה\",grade_report!$3:$100,ROWS($A$4:AC45),0)","v":{"$error":"#N/A"}},{"$f":"HLOOKUP(\"העשרה 4: מבשרי הציונות וחיבת ציון - משימת העשרה\",grade_report!$3:$100,ROWS($A$4:AD45),0)","v":{"$error":"#N/A"}},null,{"$f":"HLOOKUP(\"שיעור לתלמיד 10: התנועה הציונית והרצל - שיעור לתלמיד\",grade_report!$3:$100,ROWS($A$4:M45),0)","v":{"$error":"#N/A"}},{"$f":"HLOOKUP(\"סיכום פרק 11: התנועה הציונית והרצל - משימת סיכום - סוף ימיו של הרצל\",grade_report!$3:$100,ROWS($A$4:M45),0)","v":{"$error":"#N/A"}},{"$f":"HLOOKUP(\"הפנמה 5: התנועה הציונית והרצל - משימת הפנמה\",grade_report!$3:$100,ROWS($A$4:AH45),0)","v":{"$error":"#N/A"}},{"$f":"HLOOKUP(\"העשרה 5: התנועה הציונית והרצל - משימת העשרה\",grade_report!$3:$100,ROWS($A$4:AI45),0)","v":{"$error":"#N/A"}},null,{"$f":"HLOOKUP(\"שיעור לתלמיד 11: מפלגות, זרמים ומתנגדים - שיעור לתלמיד\",grade_report!$3:$100,ROWS($A$4:R45),0)","v":{"$error":"#N/A"}},{"$f":"HLOOKUP(\"סיכום פרק 12: מפלגות, זרמים ומתנגדים - משימת סיכום\",grade_report!$3:$100,ROWS($A$4:R45),0)","v":{"$error":"#N/A"}},{"$f":"HLOOKUP(\"הפנמה 6: מפלגות, זרמים ומתנגדים - משימת הפנמה\",grade_report!$3:$100,ROWS($A$4:AM45),0)","v":{"$error":"#N/A"}},{"$f":"HLOOKUP(\"העשרה 6: מפלגות, זרמים ומתנגדים - משימת העשרה\",grade_report!$3:$100,ROWS($A$4:AN45),0)","v":{"$error":"#N/A"}},null,{"$f":"HLOOKUP(\"סיכום קורס-ש' סגורות\",grade_report!$3:$100,ROWS($A$4:AP45),0)","v":{"$error":"#N/A"}},{"$f":"HLOOKUP(\"סיכום קורס-ש' פתוחות\",grade_report!$3:$100,ROWS($A$4:AQ45),0)","v":{"$error":"#N/A"}},{"$f":"HLOOKUP(\"תלמידאות\",grade_report!$3:$100,ROWS($A$4:AR45),0)","v":0}]
[{"$f":"grade_report!C45","v":0},{"$f":"grade_report!B45","v":0},null,{"$f":"VLOOKUP(A43,grade_report!C:D,2,FALSE)","v":{"$error":"#N/A"}},{"$f":"HLOOKUP(\"שיעור לתלמיד 1: נאורוּת - שיעור לתלמיד\",grade_report!$3:$100,ROWS($A$4:A46),0)","v":0},{"$f":"HLOOKUP(\"סיכום פרק 1: נאורוּת - משימת סיכום\",grade_report!$3:$100,ROWS($A$4:A46),0)","v":0},{"$f":"HLOOKUP(\"הפנמה 1: נאורוּת - משימת הפנמה\",grade_report!$3:$100,ROWS($A$4:B46),0)","v":0},{"$f":"HLOOKUP(\"העשרה 1: נאורוּת - משימת העשרה\",grade_report!$3:$100,ROWS($A$4:C46),0)","v":0},null,{"$f":"HLOOKUP(\"שיעור לתלמיד 2: מלחמת העולם הראשונה - שיעור לתלמיד\",grade_report!$3:$100,ROWS($A$4:E46),0)","v":{"$error":"#N/A"}},{"$f":"HLOOKUP(\"סיכום פרק 2: מלחמת העולם הראשונה - משימת סיכום\",grade_report!$3:$100,ROWS($A$4:E46),0)","v":{"$error":"#N/A"}},{"$f":"HLOOKUP(\"הפנמה 2: מלחמת העולם הראשונה - משימת הפנמה\",grade_report!$3:$100,ROWS($A$4:F46),0)","v":{"$error":"#N/A"}},{"$f":"HLOOKUP(\"העשרה 2: מלחמת העולם הראשונה - משימת העשרה - רשות: מלחמת החפירות\",grade_report!$3:$100,ROWS($A$4:G46),0)","v":{"$error":"#N/A"}},null,{"$f":"HLOOKUP(\"שיעור לתלמיד 3: השינויים במעמד המשפטי של יהודי צרפת משלהי המאה ה-18 עד ראשית המאה ה-20 - תת פרק לבחירה\",grade_report!$3:$100,ROWS($A$4:J46),0)","v":{"$error":"#N/A"}},{"$f":"HLOOKUP(\"סיכום פרק 3: השינויים במעמד המשפטי של יהודי צרפת משלהי המאה ה-18 עד ראשית המאה ה-20 -משימת סיכום\",grade_report!$3:$100,ROWS($A$4:J46),0)","v":{"$error":"#N/A"}},{"$f":"HLOOKUP(\"שיעור לתלמיד 4: השינויים במעמד המשפטי של יהודי גרמניה משלהי המאה ה-18 עד ראשית המאה ה-20 - תת פרק לבחירה\",grade_report!$3:$100,ROWS($A$4:O46),0)","v":{"$error":"#N/A"}},{"$f":"HLOOKUP(\"סיכום פרק 4: השינויים במעמד המשפטי של יהודי גרמניה משלהי המאה ה-18 עד ראשית המאה ה-20 - תת פרק לבחירה -משימת סיכום\",grade_report!$3:$100,ROWS($A$4:O46),0)","v":{"$error":"#N/A"}},{"$f":"HLOOKUP(\"שיעור לתלמיד 5: השינויים במעמד המשפטי של היהודים בארצות האסלאם - תהליך האמנציפציה באלג'יריה - תת פרק חובה\",grade_report!$3:$100,ROWS($A$4:A46),0)","v":{"$error":"#N/A"}},{"$f":"HLOOKUP(\"סיכום פרק 5: השינויים במעמד המשפטי של היהודים בארצות האסלאם - תהליך האמנציפציה באלג'יריה - משימת סיכום\",grade_report!$3:$100,ROWS($A$4:A46),0)","v":{"$error":"#N/A"}},{"$f":"HLOOKUP(\"שיעור לתלמיד 6: השלכות השינויים במעמד היהודים על החברה היהודית - תת פרק חובה\",grade_report!$3:$100,ROWS($A$4:D46),0)","v":{"$error":"#N/A"}},{"$f":"HLOOKUP(\"סיכום פרק 6: השפעת הליברליזם על תמורות בחברה היהודית - משימת סיכום - סיכום הסוגיה לכל הפרק\",grade_report!$3:$100,ROWS($A$4:A46),0)","v":{"$error":"#N/A"}},{"$f":"HLOOKUP(\"הפנמה 3: מעמד היהודים משלהי המאה ה-18 ועד תחילת המאה ה-20 - משימת הפנמה לכל הפרק\",grade_report!$3:$100,ROWS($A$4:Q46),0)","v":{"$error":"#N/A"}},{"$f":"HLOOKUP(\"העשרה 3: מעמד היהודים משלהי המאה ה-18 ועד תחילת המאה ה-20 - משימת העשרה לכל הפרק\",grade_report!$3:$100,ROWS($A$4:R46),0)","v":{"$error":"#N/A"}},null,{"$f":"HLOOKUP(\"שיעור לתלמיד 7: השפעת הנאורות על החברה היהודית - תת פרק חובה\",grade_report!$3:$100,ROWS($A$4:A46),0)","v":{"$error":"#N/A"}},{"$f":"HLOOKUP(\"סיכום פרק 7: השפעת הנאורות על החברה היהודית - תת פרק חובה - משימת סיכום\",grade_report!$3:$100,ROWS($A$4:A46),0)","v":{"$error":"#N/A"}},null,{"$f":"HLOOKUP(\"שיעור לתלמיד 8: ניאו אורתודוקסיה - חיוב המודרנה תוך שמירה קפדנית על מצוות הדת - שיעור לתלמיד\",grade_report!$3:$100,ROWS($A$4:D46),0)","v":{"$error":"#N/A"}},{"$f":"HLOOKUP(\"סיכום פרק 8: ניאו אורתודוקסיה - חיוב המודרנה תוך שמירה קפדנית על מצוות הדת - משימת סיכום\",grade_report!$3:$100,ROWS($A$4:D46),0)","v":{"$error":"#N/A"}},{"$f":"HLOOKUP(\"סיכום פרק 9: תנועות וזרמים יהודיים - משימת סיכום לכל הפרק\",grade_report!$3:$100,ROWS($A$4:E46),0)","v":{"$error":"#N/A"}},null,{"$f":"HLOOKUP(\"שיעור לתלמיד 9: מבשרי הציונות וחיבת ציון - שיעור לתלמיד\",grade_report!$3:$100,ROWS($A$4:H46),0)","v":{"$error":"#N/A"}},{"$f":"HLOOKUP(\"סיכום פרק 10: מבשרי הציונות וחיבת ציון - משימת סיכום\",grade_report!$3:$100,ROWS($A$4:H46),0)","v":{"$error":"#N/A"}},{"$f":"HLOOKUP(\"הפנמה 4: מבשרי הציונות וחיבת ציון - משימת הפנמה\",grade_report!$3:$100,ROWS($A$4:AC46),0)","v":{"$error":"#N/A"}},{"$f":"HLOOKUP(\"העשרה 4: מבשרי הציונות וחיבת ציון - משימת העשרה\",grade_report!$3:$100,ROWS($A$4:AD46),0)","v":{"$error":"#N/A"}},null,{"$f":"HLOOKUP(\"שיעור לתלמיד 10: התנועה הציונית והרצל - שיעור לתלמיד\",grade_report!$3:$100,ROWS($A$4:M46),0)","v":{"$error":"#N/A"}},{"$f":"HLOOKUP(\"סיכום פרק 11: התנועה הציונית והרצל - משימת סיכום - סוף ימיו של הרצל\",grade_report!$3:$100,ROWS($A$4:M46),0)","v":{"$error":"#N/A"}},{"$f":"HLOOKUP(\"הפנמה 5: התנועה הציונית והרצל - משימת הפנמה\",grade_report!$3:$100,ROWS($A$4:AH46),0)","v":{"$error":"#N/A"}},{"$f":"HLOOKUP(\"העשרה 5: התנועה הציונית והרצל - משימת העשרה\",grade_report!$3:$100,ROWS($A$4:AI46),0)","v":{"$error":"#N/A"}},null,{"$f":"HLOOKUP(\"שיעור לתלמיד 11: מפלגות, זרמים ומתנגדים - שיעור לתלמיד\",grade_report!$3:$100,ROWS($A$4:R46),0)","v":{"$error":"#N/A"}},{"$f":"HLOOKUP(\"סיכום פרק 12: מפלגות, זרמים ומתנגדים - משימת סיכום\",grade_report!$3:$100,ROWS($A$4:R46),0)","v":{"$error":"#N/A"}},{"$f":"HLOOKUP(\"הפנמה 6: מפלגות, זרמים ומתנגדים - משימת הפנמה\",grade_report!$3:$100,ROWS($A$4:AM46),0)","v":{"$error":"#N/A"}},{"$f":"HLOOKUP(\"העשרה 6: מפלגות, זרמים ומתנגדים - משימת העשרה\",grade_report!$3:$100,ROWS($A$4:AN46),0)","v":{"$error":"#N/A"}},null,{"$f":"HLOOKUP(\"סיכום קורס-ש' סגורות\",grade_report!$3:$100,ROWS($A$4:AP46),0)","v":{"$error":"#N/A"}},{"$f":"HLOOKUP(\"סיכום קורס-ש' פתוחות\",grade_report!$3:$100,ROWS($A$4:AQ46),0)","v":{"$error":"#N/A"}},{"$f":"HLOOKUP(\"תלמידאות\",grade_report!$3:$100,ROWS($A$4:AR46),0)","v":0}]
[{"$f":"grade_report!C46","v":0},{"$f":"grade_report!B46","v":0},null,{"$f":"VLOOKUP(A44,grade_report!C:D,2,FALSE)","v":{"$error":"#N/A"}},{"$f":"HLOOKUP(\"שיעור לתלמיד 1: נאורוּת - שיעור לתלמיד\",grade_report!$3:$100,ROWS($A$4:A47),0)","v":0},{"$f":"HLOOKUP(\"סיכום פרק 1: נאורוּת - משימת סיכום\",grade_report!$3:$100,ROWS($A$4:A47),0)","v":0},{"$f":"HLOOKUP(\"הפנמה 1: נאורוּת - משימת הפנמה\",grade_report!$3:$100,ROWS($A$4:B47),0)","v":0},{"$f":"HLOOKUP(\"העשרה 1: נאורוּת - משימת העשרה\",grade_report!$3:$100,ROWS($A$4:C47),0)","v":0},null,{"$f":"HLOOKUP(\"שיעור לתלמיד 2: מלחמת העולם הראשונה - שיעור לתלמיד\",grade_report!$3:$100,ROWS($A$4:E47),0)","v":{"$error":"#N/A"}},{"$f":"HLOOKUP(\"סיכום פרק 2: מלחמת העולם הראשונה - משימת סיכום\",grade_report!$3:$100,ROWS($A$4:E47),0)","v":{"$error":"#N/A"}},{"$f":"HLOOKUP(\"הפנמה 2: מלחמת העולם הראשונה - משימת הפנמה\",grade_report!$3:$100,ROWS($A$4:F47),0)","v":{"$error":"#N/A"}},{"$f":"HLOOKUP(\"העשרה 2: מלחמת העולם הראשונה - משימת העשרה - רשות: מלחמת החפירות\",grade_report!$3:$100,ROWS($A$4:G47),0)","v":{"$error":"#N/A"}},null,{"$f":"HLOOKUP(\"שיעור לתלמיד 3: השינויים במעמד המשפטי של יהודי צרפת משלהי המאה ה-18 עד ראשית המאה ה-20 - תת פרק לבחירה\",grade_report!$3:$100,ROWS($A$4:J47),0)","v":{"$error":"#N/A"}},{"$f":"HLOOKUP(\"סיכום פרק 3: השינויים במעמד המשפטי של יהודי צרפת משלהי המאה ה-18 עד ראשית המאה ה-20 -משימת סיכום\",grade_report!$3:$100,ROWS($A$4:J47),0)","v":{"$error":"#N/A"}},{"$f":"HLOOKUP(\"שיעור לתלמיד 4: השינויים במעמד המשפטי של יהודי גרמניה משלהי המאה ה-18 עד ראשית המאה ה-20 - תת פרק לבחירה\",grade_report!$3:$100,ROWS($A$4:O47),0)","v":{"$error":"#N/A"}},{"$f":"HLOOKUP(\"סיכום פרק 4: השינויים במעמד המשפטי של יהודי גרמניה משלהי המאה ה-18 עד ראשית המאה ה-20 - תת פרק לבחירה -משימת סיכום\",grade_report!$3:$100,ROWS($A$4:O47),0)","v":{"$error":"#N/A"}},{"$f":"HLOOKUP(\"שיעור לתלמיד 5: השינויים במעמד המשפטי של היהודים בארצות האסלאם - תהליך האמנציפציה באלג'יריה - תת פרק חובה\",grade_report!$3:$100,ROWS($A$4:A47),0)","v":{"$error":"#N/A"}},{"$f":"HLOOKUP(\"סיכום פרק 5: השינויים במעמד המשפטי של היהודים בארצות האסלאם - תהליך האמנציפציה באלג'יריה - משימת סיכום\",grade_report!$3:$100,ROWS($A$4:A47),0)","v":{"$error":"#N/A"}},{"$f":"HLOOKUP(\"שיעור לתלמיד 6: השלכות השינויים במעמד היהודים על החברה היהודית - תת פרק חובה\",grade_report!$3:$100,ROWS($A$4:D47),0)","v":{"$error":"#N/A"}},{"$f":"HLOOKUP(\"סיכום פרק 6: השפעת הליברליזם על תמורות בחברה היהודית - משימת סיכום - סיכום הסוגיה לכל הפרק\",grade_report!$3:$100,ROWS($A$4:A47),0)","v":{"$error":"#N/A"}},{"$f":"HLOOKUP(\"הפנמה 3: מעמד היהודים משלהי המאה ה-18 ועד תחילת המאה ה-20 - משימת הפנמה לכל הפרק\",grade_report!$3:$100,ROWS($A$4:Q47),0)","v":{"$error":"#N/A"}},{"$f":"HLOOKUP(\"העשרה 3: מעמד היהודים משלהי המאה ה-18 ועד תחילת המאה ה-20 - משימת העשרה לכל הפרק\",grade_report!$3:$100,ROWS($A$4:R47),0)","v":{"$error":"#N/A"}},null,{"$f":"HLOOKUP(\"שיעור לתלמיד 7: השפעת הנאורות על החברה היהודית - תת פרק חובה\",grade_report!$3:$100,ROWS($A$4:A47),0)","v":{"$error":"#N/A"}},{"$f":"HLOOKUP(\"סיכום פרק 7: השפעת הנאורות על החברה היהודית - תת פרק חובה - משימת סיכום\",grade_report!$3:$100,ROWS($A$4:A47),0)","v":{"$error":"#N/A"}},null,{"$f":"HLOOKUP(\"שיעור לתלמיד 8: ניאו אורתודוקסיה - חיוב המודרנה תוך שמירה קפדנית על מצוות הדת - שיעור לתלמיד\",grade_report!$3:$100,ROWS($A$4:D47),0)","v":{"$error":"#N/A"}},{"$f":"HLOOKUP(\"סיכום פרק 8: ניאו אורתודוקסיה - חיוב המודרנה תוך שמירה קפדנית על מצוות הדת - משימת סיכום\",grade_report!$3:$100,ROWS($A$4:D47),0)","v":{"$error":"#N/A"}},{"$f":"HLOOKUP(\"סיכום פרק 9: תנועות וזרמים יהודיים - משימת סיכום לכל הפרק\",grade_report!$3:$100,ROWS($A$4:E47),0)","v":{"$error":"#N/A"}},null,{"$f":"HLOOKUP(\"שיעור לתלמיד 9: מבשרי הציונות וחיבת ציון - שיעור לתלמיד\",grade_report!$3:$100,ROWS($A$4:H47),0)","v":{"$error":"#N/A"}},{"$f":"HLOOKUP(\"סיכום פרק 10: מבשרי הציונות וחיבת ציון - משימת סיכום\",grade_report!$3:$100,ROWS($A$4:H47),0)","v":{"$error":"#N/A"}},{"$f":"HLOOKUP(\"הפנמה 4: מבשרי הציונות וחיבת ציון - משימת הפנמה\",grade_report!$3:$100,ROWS($A$4:AC47),0)","v":{"$error":"#N/A"}},{"$f":"HLOOKUP(\"העשרה 4: מבשרי הציונות וחיבת ציון - משימת העשרה\",grade_report!$3:$100,ROWS($A$4:AD47),0)","v":{"$error":"#N/A"}},null,{"$f":"HLOOKUP(\"שיעור לתלמיד 10: התנועה הציונית והרצל - שיעור לתלמיד\",grade_report!$3:$100,ROWS($A$4:M47),0)","v":{"$error":"#N/A"}},{"$f":"HLOOKUP(\"סיכום פרק 11: התנועה הציונית והרצל - משימת סיכום - סוף ימיו של הרצל\",grade_report!$3:$100,ROWS($A$4:M47),0)","v":{"$error":"#N/A"}},{"$f":"HLOOKUP(\"הפנמה 5: התנועה הציונית והרצל - משימת הפנמה\",grade_report!$3:$100,ROWS($A$4:AH47),0)","v":{"$error":"#N/A"}},{"$f":"HLOOKUP(\"העשרה 5: התנועה הציונית והרצל - משימת העשרה\",grade_report!$3:$100,ROWS($A$4:AI47),0)","v":{"$error":"#N/A"}},null,{"$f":"HLOOKUP(\"שיעור לתלמיד 11: מפלגות, זרמים ומתנגדים - שיעור לתלמיד\",grade_report!$3:$100,ROWS($A$4:R47),0)","v":{"$error":"#N/A"}},{"$f":"HLOOKUP(\"סיכום פרק 12: מפלגות, זרמים ומתנגדים - משימת סיכום\",grade_report!$3:$100,ROWS($A$4:R47),0)","v":{"$error":"#N/A"}},{"$f":"HLOOKUP(\"הפנמה 6: מפלגות, זרמים ומתנגדים - משימת הפנמה\",grade_report!$3:$100,ROWS($A$4:AM47),0)","v":{"$error":"#N/A"}},{"$f":"HLOOKUP(\"העשרה 6: מפלגות, זרמים ומתנגדים - משימת העשרה\",grade_report!$3:$100,ROWS($A$4:AN47),0)","v":{"$error":"#N/A"}},null,{"$f":"HLOOKUP(\"סיכום קורס-ש' סגורות\",grade_report!$3:$100,ROWS($A$4:AP47),0)","v":{"$error":"#N/A"}},{"$f":"HLOOKUP(\"סיכום קורס-ש' פתוחות\",grade_report!$3:$100,ROWS($A$4:AQ47),0)","v":{"$error":"#N/A"}},{"$f":"HLOOKUP(\"תלמידאות\",grade_report!$3:$100,ROWS($A$4:AR47),0)","v":0}]
[{"$f":"grade_report!C47","v":0},{"$f":"grade_report!B47","v":0},null,{"$f":"VLOOKUP(A45,grade_report!C:D,2,FALSE)","v":{"$error":"#N/A"}},{"$f":"HLOOKUP(\"שיעור לתלמיד 1: נאורוּת - שיעור לתלמיד\",grade_report!$3:$100,ROWS($A$4:A48),0)","v":0},{"$f":"HLOOKUP(\"סיכום פרק 1: נאורוּת - משימת סיכום\",grade_report!$3:$100,ROWS($A$4:A48),0)","v":0},{"$f":"HLOOKUP(\"הפנמה 1: נאורוּת - משימת הפנמה\",grade_report!$3:$100,ROWS($A$4:B48),0)","v":0},{"$f":"HLOOKUP(\"העשרה 1: נאורוּת - משימת העשרה\",grade_report!$3:$100,ROWS($A$4:C48),0)","v":0},null,{"$f":"HLOOKUP(\"שיעור לתלמיד 2: מלחמת העולם הראשונה - שיעור לתלמיד\",grade_report!$3:$100,ROWS($A$4:E48),0)","v":{"$error":"#N/A"}},{"$f":"HLOOKUP(\"סיכום פרק 2: מלחמת העולם הראשונה - משימת סיכום\",grade_report!$3:$100,ROWS($A$4:E48),0)","v":{"$error":"#N/A"}},{"$f":"HLOOKUP(\"הפנמה 2: מלחמת העולם הראשונה - משימת הפנמה\",grade_report!$3:$100,ROWS($A$4:F48),0)","v":{"$error":"#N/A"}},{"$f":"HLOOKUP(\"העשרה 2: מלחמת העולם הראשונה - משימת העשרה - רשות: מלחמת החפירות\",grade_report!$3:$100,ROWS($A$4:G48),0)","v":{"$error":"#N/A"}},null,{"$f":"HLOOKUP(\"שיעור לתלמיד 3: השינויים במעמד המשפטי של יהודי צרפת משלהי המאה ה-18 עד ראשית המאה ה-20 - תת פרק לבחירה\",grade_report!$3:$100,ROWS($A$4:J48),0)","v":{"$error":"#N/A"}},{"$f":"HLOOKUP(\"סיכום פרק 3: השינויים במעמד המשפטי של יהודי צרפת משלהי המאה ה-18 עד ראשית המאה ה-20 -משימת סיכום\",grade_report!$3:$100,ROWS($A$4:J48),0)","v":{"$error":"#N/A"}},{"$f":"HLOOKUP(\"שיעור לתלמיד 4: השינויים במעמד המשפטי של יהודי גרמניה משלהי המאה ה-18 עד ראשית המאה ה-20 - תת פרק לבחירה\",grade_report!$3:$100,ROWS($A$4:O48),0)","v":{"$error":"#N/A"}},{"$f":"HLOOKUP(\"סיכום פרק 4: השינויים במעמד המשפטי של יהודי גרמניה משלהי המאה ה-18 עד ראשית המאה ה-20 - תת פרק לבחירה -משימת סיכום\",grade_report!$3:$100,ROWS($A$4:O48),0)","v":{"$error":"#N/A"}},{"$f":"HLOOKUP(\"שיעור לתלמיד 5: השינויים במעמד המשפטי של היהודים בארצות האסלאם - תהליך האמנציפציה באלג'יריה - תת פרק חובה\",grade_report!$3:$100,ROWS($A$4:A48),0)","v":{"$error":"#N/A"}},{"$f":"HLOOKUP(\"סיכום פרק 5: השינויים במעמד המשפטי של היהודים בארצות האסלאם - תהליך האמנציפציה באלג'יריה - משימת סיכום\",grade_report!$3:$100,ROWS($A$4:A48),0)","v":{"$error":"#N/A"}},{"$f":"HLOOKUP(\"שיעור לתלמיד 6: השלכות השינויים במעמד היהודים על החברה היהודית - תת פרק חובה\",grade_report!$3:$100,ROWS($A$4:D48),0)","v":{"$error":"#N/A"}},{"$f":"HLOOKUP(\"סיכום פרק 6: השפעת הליברליזם על תמורות בחברה היהודית - משימת סיכום - סיכום הסוגיה לכל הפרק\",grade_report!$3:$100,ROWS($A$4:A48),0)","v":{"$error":"#N/A"}},{"$f":"HLOOKUP(\"הפנמה 3: מעמד היהודים משלהי המאה ה-18 ועד תחילת המאה ה-20 - משימת הפנמה לכל הפרק\",grade_report!$3:$100,ROWS($A$4:Q48),0)","v":{"$error":"#N/A"}},{"$f":"HLOOKUP(\"העשרה 3: מעמד היהודים משלהי המאה ה-18 ועד תחילת המאה ה-20 - משימת העשרה לכל הפרק\",grade_report!$3:$100,ROWS($A$4:R48),0)","v":{"$error":"#N/A"}},null,{"$f":"HLOOKUP(\"שיעור לתלמיד 7: השפעת הנאורות על החברה היהודית - תת פרק חובה\",grade_report!$3:$100,ROWS($A$4:A48),0)","v":{"$error":"#N/A"}},{"$f":"HLOOKUP(\"סיכום פרק 7: השפעת הנאורות על החברה היהודית - תת פרק חובה - משימת סיכום\",grade_report!$3:$100,ROWS($A$4:A48),0)","v":{"$error":"#N/A"}},null,{"$f":"HLOOKUP(\"שיעור לתלמיד 8: ניאו אורתודוקסיה - חיוב המודרנה תוך שמירה קפדנית על מצוות הדת - שיעור לתלמיד\",grade_report!$3:$100,ROWS($A$4:D48),0)","v":{"$error":"#N/A"}},{"$f":"HLOOKUP(\"סיכום פרק 8: ניאו אורתודוקסיה - חיוב המודרנה תוך שמירה קפדנית על מצוות הדת - משימת סיכום\",grade_report!$3:$100,ROWS($A$4:D48),0)","v":{"$error":"#N/A"}},{"$f":"HLOOKUP(\"סיכום פרק 9: תנועות וזרמים יהודיים - משימת סיכום לכל הפרק\",grade_report!$3:$100,ROWS($A$4:E48),0)","v":{"$error":"#N/A"}},null,{"$f":"HLOOKUP(\"שיעור לתלמיד 9: מבשרי הציונות וחיבת ציון - שיעור לתלמיד\",grade_report!$3:$100,ROWS($A$4:H48),0)","v":{"$error":"#N/A"}},{"$f":"HLOOKUP(\"סיכום פרק 10: מבשרי הציונות וחיבת ציון - משימת סיכום\",grade_report!$3:$100,ROWS($A$4:H48),0)","v":{"$error":"#N/A"}},{"$f":"HLOOKUP(\"הפנמה 4: מבשרי הציונות וחיבת ציון - משימת הפנמה\",grade_report!$3:$100,ROWS($A$4:AC48),0)","v":{"$error":"#N/A"}},{"$f":"HLOOKUP(\"העשרה 4: מבשרי הציונות וחיבת ציון - משימת העשרה\",grade_report!$3:$100,ROWS($A$4:AD48),0)","v":{"$error":"#N/A"}},null,{"$f":"HLOOKUP(\"שיעור לתלמיד 10: התנועה הציונית והרצל - שיעור לתלמיד\",grade_report!$3:$100,ROWS($A$4:M48),0)","v":{"$error":"#N/A"}},{"$f":"HLOOKUP(\"סיכום פרק 11: התנועה הציונית והרצל - משימת סיכום - סוף ימיו של הרצל\",grade_report!$3:$100,ROWS($A$4:M48),0)","v":{"$error":"#N/A"}},{"$f":"HLOOKUP(\"הפנמה 5: התנועה הציונית והרצל - משימת הפנמה\",grade_report!$3:$100,ROWS($A$4:AH48),0)","v":{"$error":"#N/A"}},{"$f":"HLOOKUP(\"העשרה 5: התנועה הציונית והרצל - משימת העשרה\",grade_report!$3:$100,ROWS($A$4:AI48),0)","v":{"$error":"#N/A"}},null,{"$f":"HLOOKUP(\"שיעור לתלמיד 11: מפלגות, זרמים ומתנגדים - שיעור לתלמיד\",grade_report!$3:$100,ROWS($A$4:R48),0)","v":{"$error":"#N/A"}},{"$f":"HLOOKUP(\"סיכום פרק 12: מפלגות, זרמים ומתנגדים - משימת סיכום\",grade_report!$3:$100,ROWS($A$4:R48),0)","v":{"$error":"#N/A"}},{"$f":"HLOOKUP(\"הפנמה 6: מפלגות, זרמים ומתנגדים - משימת הפנמה\",grade_report!$3:$100,ROWS($A$4:AM48),0)","v":{"$error":"#N/A"}},{"$f":"HLOOKUP(\"העשרה 6: מפלגות, זרמים ומתנגדים - משימת העשרה\",grade_report!$3:$100,ROWS($A$4:AN48),0)","v":{"$error":"#N/A"}},null,{"$f":"HLOOKUP(\"סיכום קורס-ש' סגורות\",grade_report!$3:$100,ROWS($A$4:AP48),0)","v":{"$error":"#N/A"}},{"$f":"HLOOKUP(\"סיכום קורס-ש' פתוחות\",grade_report!$3:$100,ROWS($A$4:AQ48),0)","v":{"$error":"#N/A"}},{"$f":"HLOOKUP(\"תלמידאות\",grade_report!$3:$100,ROWS($A$4:AR48),0)","v":0}]
[{"$f":"grade_report!C48","v":0},{"$f":"grade_report!B48","v":0},null,{"$f":"VLOOKUP(A46,grade_report!C:D,2,FALSE)","v":{"$error":"#N/A"}},{"$f":"HLOOKUP(\"שיעור לתלמיד 1: נאורוּת - שיעור לתלמיד\",grade_report!$3:$100,ROWS($A$4:A49),0)","v":0},{"$f":"HLOOKUP(\"סיכום פרק 1: נאורוּת - משימת סיכום\",grade_report!$3:$100,ROWS($A$4:A49),0)","v":0},{"$f":"HLOOKUP(\"הפנמה 1: נאורוּת - משימת הפנמה\",grade_report!$3:$100,ROWS($A$4:B49),0)","v":0},{"$f":"HLOOKUP(\"העשרה 1: נאורוּת - משימת העשרה\",grade_report!$3:$100,ROWS($A$4:C49),0)","v":0},null,{"$f":"HLOOKUP(\"שיעור לתלמיד 2: מלחמת העולם הראשונה - שיעור לתלמיד\",grade_report!$3:$100,ROWS($A$4:E49),0)","v":{"$error":"#N/A"}},{"$f":"HLOOKUP(\"סיכום פרק 2: מלחמת העולם הראשונה - משימת סיכום\",grade_report!$3:$100,ROWS($A$4:E49),0)","v":{"$error":"#N/A"}},{"$f":"HLOOKUP(\"הפנמה 2: מלחמת העולם הראשונה - משימת הפנמה\",grade_report!$3:$100,ROWS($A$4:F49),0)","v":{"$error":"#N/A"}},{"$f":"HLOOKUP(\"העשרה 2: מלחמת העולם הראשונה - משימת העשרה - רשות: מלחמת החפירות\",grade_report!$3:$100,ROWS($A$4:G49),0)","v":{"$error":"#N/A"}},null,{"$f":"HLOOKUP(\"שיעור לתלמיד 3: השינויים במעמד המשפטי של יהודי צרפת משלהי המאה ה-18 עד ראשית המאה ה-20 - תת פרק לבחירה\",grade_report!$3:$100,ROWS($A$4:J49),0)","v":{"$error":"#N/A"}},{"$f":"HLOOKUP(\"סיכום פרק 3: השינויים במעמד המשפטי של יהודי צרפת משלהי המאה ה-18 עד ראשית המאה ה-20 -משימת סיכום\",grade_report!$3:$100,ROWS($A$4:J49),0)","v":{"$error":"#N/A"}},{"$f":"HLOOKUP(\"שיעור לתלמיד 4: השינויים במעמד המשפטי של יהודי גרמניה משלהי המאה ה-18 עד ראשית המאה ה-20 - תת פרק לבחירה\",grade_report!$3:$100,ROWS($A$4:O49),0)","v":{"$error":"#N/A"}},{"$f":"HLOOKUP(\"סיכום פרק 4: השינויים במעמד המשפטי של יהודי גרמניה משלהי המאה ה-18 עד ראשית המאה ה-20 - תת פרק לבחירה -משימת סיכום\",grade_report!$3:$100,ROWS($A$4:O49),0)","v":{"$error":"#N/A"}},{"$f":"HLOOKUP(\"שיעור לתלמיד 5: השינויים במעמד המשפטי של היהודים בארצות האסלאם - תהליך האמנציפציה באלג'יריה - תת פרק חובה\",grade_report!$3:$100,ROWS($A$4:A49),0)","v":{"$error":"#N/A"}},{"$f":"HLOOKUP(\"סיכום פרק 5: השינויים במעמד המשפטי של היהודים בארצות האסלאם - תהליך האמנציפציה באלג'יריה - משימת סיכום\",grade_report!$3:$100,ROWS($A$4:A49),0)","v":{"$error":"#N/A"}},{"$f":"HLOOKUP(\"שיעור לתלמיד 6: השלכות השינויים במעמד היהודים על החברה היהודית - תת פרק חובה\",grade_report!$3:$100,ROWS($A$4:D49),0)","v":{"$error":"#N/A"}},{"$f":"HLOOKUP(\"סיכום פרק 6: השפעת הליברליזם על תמורות בחברה היהודית - משימת סיכום - סיכום הסוגיה לכל הפרק\",grade_report!$3:$100,ROWS($A$4:A49),0)","v":{"$error":"#N/A"}},{"$f":"HLOOKUP(\"הפנמה 3: מעמד היהודים משלהי המאה ה-18 ועד תחילת המאה ה-20 - משימת הפנמה לכל הפרק\",grade_report!$3:$100,ROWS($A$4:Q49),0)","v":{"$error":"#N/A"}},{"$f":"HLOOKUP(\"העשרה 3: מעמד היהודים משלהי המאה ה-18 ועד תחילת המאה ה-20 - משימת העשרה לכל הפרק\",grade_report!$3:$100,ROWS($A$4:R49),0)","v":{"$error":"#N/A"}},null,{"$f":"HLOOKUP(\"שיעור לתלמיד 7: השפעת הנאורות על החברה היהודית - תת פרק חובה\",grade_report!$3:$100,ROWS($A$4:A49),0)","v":{"$error":"#N/A"}},{"$f":"HLOOKUP(\"סיכום פרק 7: השפעת הנאורות על החברה היהודית - תת פרק חובה - משימת סיכום\",grade_report!$3:$100,ROWS($A$4:A49),0)","v":{"$error":"#N/A"}},null,{"$f":"HLOOKUP(\"שיעור לתלמיד 8: ניאו אורתודוקסיה - חיוב המודרנה תוך שמירה קפדנית על מצוות הדת - שיעור לתלמיד\",grade_report!$3:$100,ROWS($A$4:D49),0)","v":{"$error":"#N/A"}},{"$f":"HLOOKUP(\"סיכום פרק 8: ניאו אורתודוקסיה - חיוב המודרנה תוך שמירה קפדנית על מצוות הדת - משימת סיכום\",grade_report!$3:$100,ROWS($A$4:D49),0)","v":{"$error":"#N/A"}},{"$f":"HLOOKUP(\"סיכום פרק 9: תנועות וזרמים יהודיים - משימת סיכום לכל הפרק\",grade_report!$3:$100,ROWS($A$4:E49),0)","v":{"$error":"#N/A"}},null,{"$f":"HLOOKUP(\"שיעור לתלמיד 9: מבשרי הציונות וחיבת ציון - שיעור לתלמיד\",grade_report!$3:$100,ROWS($A$4:H49),0)","v":{"$error":"#N/A"}},{"$f":"HLOOKUP(\"סיכום פרק 10: מבשרי הציונות וחיבת ציון - משימת סיכום\",grade_report!$3:$100,ROWS($A$4:H49),0)","v":{"$error":"#N/A"}},{"$f":"HLOOKUP(\"הפנמה 4: מבשרי הציונות וחיבת ציון - משימת הפנמה\",grade_report!$3:$100,ROWS($A$4:AC49),0)","v":{"$error":"#N/A"}},{"$f":"HLOOKUP(\"העשרה 4: מבשרי הציונות וחיבת ציון - משימת העשרה\",grade_report!$3:$100,ROWS($A$4:AD49),0)","v":{"$error":"#N/A"}},null,{"$f":"HLOOKUP(\"שיעור לתלמיד 10: התנועה הציונית והרצל - שיעור לתלמיד\",grade_report!$3:$100,ROWS($A$4:M49),0)","v":{"$error":"#N/A"}},{"$f":"HLOOKUP(\"סיכום פרק 11: התנועה הציונית והרצל - משימת סיכום - סוף ימיו של הרצל\",grade_report!$3:$100,ROWS($A$4:M49),0)","v":{"$error":"#N/A"}},{"$f":"HLOOKUP(\"הפנמה 5: התנועה הציונית והרצל - משימת הפנמה\",grade_report!$3:$100,ROWS($A$4:AH49),0)","v":{"$error":"#N/A"}},{"$f":"HLOOKUP(\"העשרה 5: התנועה הציונית והרצל - משימת העשרה\",grade_report!$3:$100,ROWS($A$4:AI49),0)","v":{"$error":"#N/A"}},null,{"$f":"HLOOKUP(\"שיעור לתלמיד 11: מפלגות, זרמים ומתנגדים - שיעור לתלמיד\",grade_report!$3:$100,ROWS($A$4:R49),0)","v":{"$error":"#N/A"}},{"$f":"HLOOKUP(\"סיכום פרק 12: מפלגות, זרמים ומתנגדים - משימת סיכום\",grade_report!$3:$100,ROWS($A$4:R49),0)","v":{"$error":"#N/A"}},{"$f":"HLOOKUP(\"הפנמה 6: מפלגות, זרמים ומתנגדים - משימת הפנמה\",grade_report!$3:$100,ROWS($A$4:AM49),0)","v":{"$error":"#N/A"}},{"$f":"HLOOKUP(\"העשרה 6: מפלגות, זרמים ומתנגדים - משימת העשרה\",grade_report!$3:$100,ROWS($A$4:AN49),0)","v":{"$error":"#N/A"}},null,{"$f":"HLOOKUP(\"סיכום קורס-ש' סגורות\",grade_report!$3:$100,ROWS($A$4:AP49),0)","v":{"$error":"#N/A"}},{"$f":"HLOOKUP(\"סיכום קורס-ש' פתוחות\",grade_report!$3:$100,ROWS($A$4:AQ49),0)","v":{"$error":"#N/A"}},{"$f":"HLOOKUP(\"תלמידאות\",grade_report!$3:$100,ROWS($A$4:AR49),0)","v":0}]
[{"$f":"grade_report!C49","v":0},{"$f":"grade_report!B49","v":0},null,{"$f":"VLOOKUP(A47,grade_report!C:D,2,FALSE)","v":{"$error":"#N/A"}},{"$f":"HLOOKUP(\"שיעור לתלמיד 1: נאורוּת - שיעור לתלמיד\",grade_report!$3:$100,ROWS($A$4:A50),0)","v":0},{"$f":"HLOOKUP(\"סיכום פרק 1: נאורוּת - משימת סיכום\",grade_report!$3:$100,ROWS($A$4:A50),0)","v":0},{"$f":"HLOOKUP(\"הפנמה 1: נאורוּת - משימת הפנמה\",grade_report!$3:$100,ROWS($A$4:B50),0)","v":0},{"$f":"HLOOKUP(\"העשרה 1: נאורוּת - משימת העשרה\",grade_report!$3:$100,ROWS($A$4:C50),0)","v":0},null,{"$f":"HLOOKUP(\"שיעור לתלמיד 2: מלחמת העולם הראשונה - שיעור לתלמיד\",grade_report!$3:$100,ROWS($A$4:E50),0)","v":{"$error":"#N/A"}},{"$f":"HLOOKUP(\"סיכום פרק 2: מלחמת העולם הראשונה - משימת סיכום\",grade_report!$3:$100,ROWS($A$4:E50),0)","v":{"$error":"#N/A"}},{"$f":"HLOOKUP(\"הפנמה 2: מלחמת העולם הראשונה - משימת הפנמה\",grade_report!$3:$100,ROWS($A$4:F50),0)","v":{"$error":"#N/A"}},{"$f":"HLOOKUP(\"העשרה 2: מלחמת העולם הראשונה - משימת העשרה - רשות: מלחמת החפירות\",grade_report!$3:$100,ROWS($A$4:G50),0)","v":{"$error":"#N/A"}},null,{"$f":"HLOOKUP(\"שיעור לתלמיד 3: השינויים במעמד המשפטי של יהודי צרפת משלהי המאה ה-18 עד ראשית המאה ה-20 - תת פרק לבחירה\",grade_report!$3:$100,ROWS($A$4:J50),0)","v":{"$error":"#N/A"}},{"$f":"HLOOKUP(\"סיכום פרק 3: השינויים במעמד המשפטי של יהודי צרפת משלהי המאה ה-18 עד ראשית המאה ה-20 -משימת סיכום\",grade_report!$3:$100,ROWS($A$4:J50),0)","v":{"$error":"#N/A"}},{"$f":"HLOOKUP(\"שיעור לתלמיד 4: השינויים במעמד המשפטי של יהודי גרמניה משלהי המאה ה-18 עד ראשית המאה ה-20 - תת פרק לבחירה\",grade_report!$3:$100,ROWS($A$4:O50),0)","v":{"$error":"#N/A"}},{"$f":"HLOOKUP(\"סיכום פרק 4: השינויים במעמד המשפטי של יהודי גרמניה משלהי המאה ה-18 עד ראשית המאה ה-20 - תת פרק לבחירה -משימת סיכום\",grade_report!$3:$100,ROWS($A$4:O50),0)","v":{"$error":"#N/A"}},{"$f":"HLOOKUP(\"שיעור לתלמיד 5: השינויים במעמד המשפטי של היהודים בארצות האסלאם - תהליך האמנציפציה באלג'יריה - תת פרק חובה\",grade_report!$3:$100,ROWS($A$4:A50),0)","v":{"$error":"#N/A"}},{"$f":"HLOOKUP(\"סיכום פרק 5: השינויים במעמד המשפטי של היהודים בארצות האסלאם - תהליך האמנציפציה באלג'יריה - משימת סיכום\",grade_report!$3:$100,ROWS($A$4:A50),0)","v":{"$error":"#N/A"}},{"$f":"HLOOKUP(\"שיעור לתלמיד 6: השלכות השינויים במעמד היהודים על החברה היהודית - תת פרק חובה\",grade_report!$3:$100,ROWS($A$4:D50),0)","v":{"$error":"#N/A"}},{"$f":"HLOOKUP(\"סיכום פרק 6: השפעת הליברליזם על תמורות בחברה היהודית - משימת סיכום - סיכום הסוגיה לכל הפרק\",grade_report!$3:$100,ROWS($A$4:A50),0)","v":{"$error":"#N/A"}},{"$f":"HLOOKUP(\"הפנמה 3: מעמד היהודים משלהי המאה ה-18 ועד תחילת המאה ה-20 - משימת הפנמה לכל הפרק\",grade_report!$3:$100,ROWS($A$4:Q50),0)","v":{"$error":"#N/A"}},{"$f":"HLOOKUP(\"העשרה 3: מעמד היהודים משלהי המאה ה-18 ועד תחילת המאה ה-20 - משימת העשרה לכל הפרק\",grade_report!$3:$100,ROWS($A$4:R50),0)","v":{"$error":"#N/A"}},null,{"$f":"HLOOKUP(\"שיעור לתלמיד 7: השפעת הנאורות על החברה היהודית - תת פרק חובה\",grade_report!$3:$100,ROWS($A$4:A50),0)","v":{"$error":"#N/A"}},{"$f":"HLOOKUP(\"סיכום פרק 7: השפעת הנאורות על החברה היהודית - תת פרק חובה - משימת סיכום\",grade_report!$3:$100,ROWS($A$4:A50),0)","v":{"$error":"#N/A"}},null,{"$f":"HLOOKUP(\"שיעור לתלמיד 8: ניאו אורתודוקסיה - חיוב המודרנה תוך שמירה קפדנית על מצוות הדת - שיעור לתלמיד\",grade_report!$3:$100,ROWS($A$4:D50),0)","v":{"$error":"#N/A"}},{"$f":"HLOOKUP(\"סיכום פרק 8: ניאו אורתודוקסיה - חיוב המודרנה תוך שמירה קפדנית על מצוות הדת - משימת סיכום\",grade_report!$3:$100,ROWS($A$4:D50),0)","v":{"$error":"#N/A"}},{"$f":"HLOOKUP(\"סיכום פרק 9: תנועות וזרמים יהודיים - משימת סיכום לכל הפרק\",grade_report!$3:$100,ROWS($A$4:E50),0)","v":{"$error":"#N/A"}},null,{"$f":"HLOOKUP(\"שיעור לתלמיד 9: מבשרי הציונות וחיבת ציון - שיעור לתלמיד\",grade_report!$3:$100,ROWS($A$4:H50),0)","v":{"$error":"#N/A"}},{"$f":"HLOOKUP(\"סיכום פרק 10: מבשרי הציונות וחיבת ציון - משימת סיכום\",grade_report!$3:$100,ROWS($A$4:H50),0)","v":{"$error":"#N/A"}},{"$f":"HLOOKUP(\"הפנמה 4: מבשרי הציונות וחיבת ציון - משימת הפנמה\",grade_report!$3:$100,ROWS($A$4:AC50),0)","v":{"$error":"#N/A"}},{"$f":"HLOOKUP(\"העשרה 4: מבשרי הציונות וחיבת ציון - משימת העשרה\",grade_report!$3:$100,ROWS($A$4:AD50),0)","v":{"$error":"#N/A"}},null,{"$f":"HLOOKUP(\"שיעור לתלמיד 10: התנועה הציונית והרצל - שיעור לתלמיד\",grade_report!$3:$100,ROWS($A$4:M50),0)","v":{"$error":"#N/A"}},{"$f":"HLOOKUP(\"סיכום פרק 11: התנועה הציונית והרצל - משימת סיכום - סוף ימיו של הרצל\",grade_report!$3:$100,ROWS($A$4:M50),0)","v":{"$error":"#N/A"}},{"$f":"HLOOKUP(\"הפנמה 5: התנועה הציונית והרצל - משימת הפנמה\",grade_report!$3:$100,ROWS($A$4:AH50),0)","v":{"$error":"#N/A"}},{"$f":"HLOOKUP(\"העשרה 5: התנועה הציונית והרצל - משימת העשרה\",grade_report!$3:$100,ROWS($A$4:AI50),0)","v":{"$error":"#N/A"}},null,{"$f":"HLOOKUP(\"שיעור לתלמיד 11: מפלגות, זרמים ומתנגדים - שיעור לתלמיד\",grade_report!$3:$100,ROWS($A$4:R50),0)","v":{"$error":"#N/A"}},{"$f":"HLOOKUP(\"סיכום פרק 12: מפלגות, זרמים ומתנגדים - משימת סיכום\",grade_report!$3:$100,ROWS($A$4:R50),0)","v":{"$error":"#N/A"}},{"$f":"HLOOKUP(\"הפנמה 6: מפלגות, זרמים ומתנגדים - משימת הפנמה\",grade_report!$3:$100,ROWS($A$4:AM50),0)","v":{"$error":"#N/A"}},{"$f":"HLOOKUP(\"העשרה 6: מפלגות, זרמים ומתנגדים - משימת העשרה\",grade_report!$3:$100,ROWS($A$4:AN50),0)","v":{"$error":"#N/A"}},null,{"$f":"HLOOKUP(\"סיכום קורס-ש' סגורות\",grade_report!$3:$100,ROWS($A$4:AP50),0)","v":{"$error":"#N/A"}},{"$f":"HLOOKUP(\"סיכום קורס-ש' פתוחות\",grade_report!$3:$100,ROWS($A$4:AQ50),0)","v":{"$error":"#N/A"}},{"$f":"HLOOKUP(\"תלמידאות\",grade_report!$3:$100,ROWS($A$4:AR50),0)","v":0}]
[{"$f":"grade_report!C50","v":0},{"$f":"grade_report!B50","v":0},null,{"$f":"VLOOKUP(A48,grade_report!C:D,2,FALSE)","v":{"$error":"#N/A"}},{"$f":"HLOOKUP(\"שיעור לתלמיד 1: נאורוּת - שיעור לתלמיד\",grade_report!$3:$100,ROWS($A$4:A50),0)","v":0},{"$f":"HLOOKUP(\"סיכום פרק 1: נאורוּת - משימת סיכום\",grade_report!$3:$100,ROWS($A$4:A50),0)","v":0},{"$f":"HLOOKUP(\"הפנמה 1: נאורוּת - משימת הפנמה\",grade_report!$3:$100,ROWS($A$4:B50),0)","v":0},{"$f":"HLOOKUP(\"העשרה 1: נאורוּת - משימת העשרה\",grade_report!$3:$100,ROWS($A$4:C50),0)","v":0},null,{"$f":"HLOOKUP(\"שיעור לתלמיד 2: מלחמת העולם הראשונה - שיעור לתלמיד\",grade_report!$3:$100,ROWS($A$4:E50),0)","v":{"$error":"#N/A"}},{"$f":"HLOOKUP(\"סיכום פרק 2: מלחמת העולם הראשונה - משימת סיכום\",grade_report!$3:$100,ROWS($A$4:E50),0)","v":{"$error":"#N/A"}},{"$f":"HLOOKUP(\"הפנמה 2: מלחמת העולם הראשונה - משימת הפנמה\",grade_report!$3:$100,ROWS($A$4:F50),0)","v":{"$error":"#N/A"}},{"$f":"HLOOKUP(\"העשרה 2: מלחמת העולם הראשונה - משימת העשרה - רשות: מלחמת החפירות\",grade_report!$3:$100,ROWS($A$4:G50),0)","v":{"$error":"#N/A"}},null,{"$f":"HLOOKUP(\"שיעור לתלמיד 3: השינויים במעמד המשפטי של יהודי צרפת משלהי המאה ה-18 עד ראשית המאה ה-20 - תת פרק לבחירה\",grade_report!$3:$100,ROWS($A$4:J50),0)","v":{"$error":"#N/A"}},{"$f":"HLOOKUP(\"סיכום פרק 3: השינויים במעמד המשפטי של יהודי צרפת משלהי המאה ה-18 עד ראשית המאה ה-20 -משימת סיכום\",grade_report!$3:$100,ROWS($A$4:J50),0)","v":{"$error":"#N/A"}},{"$f":"HLOOKUP(\"שיעור לתלמיד 4: השינויים במעמד המשפטי של יהודי גרמניה משלהי המאה ה-18 עד ראשית המאה ה-20 - תת פרק לבחירה\",grade_report!$3:$100,ROWS($A$4:O50),0)","v":{"$error":"#N/A"}},{"$f":"HLOOKUP(\"סיכום פרק 4: השינויים במעמד המשפטי של יהודי גרמניה משלהי המאה ה-18 עד ראשית המאה ה-20 - תת פרק לבחירה -משימת סיכום\",grade_report!$3:$100,ROWS($A$4:O50),0)","v":{"$error":"#N/A"}},{"$f":"HLOOKUP(\"שיעור לתלמיד 5: השינויים במעמד המשפטי של היהודים בארצות האסלאם - תהליך האמנציפציה באלג'יריה - תת פרק חובה\",grade_report!$3:$100,ROWS($A$4:A50),0)","v":{"$error":"#N/A"}},{"$f":"HLOOKUP(\"סיכום פרק 5: השינויים במעמד המשפטי של היהודים בארצות האסלאם - תהליך האמנציפציה באלג'יריה - משימת סיכום\",grade_report!$3:$100,ROWS($A$4:A50),0)","v":{"$error":"#N/A"}},{"$f":"HLOOKUP(\"שיעור לתלמיד 6: השלכות השינויים במעמד היהודים על החברה היהודית - תת פרק חובה\",grade_report!$3:$100,ROWS($A$4:D50),0)","v":{"$error":"#N/A"}},{"$f":"HLOOKUP(\"סיכום פרק 6: השפעת הליברליזם על תמורות בחברה היהודית - משימת סיכום - סיכום הסוגיה לכל הפרק\",grade_report!$3:$100,ROWS($A$4:A50),0)","v":{"$error":"#N/A"}},{"$f":"HLOOKUP(\"הפנמה 3: מעמד היהודים משלהי המאה ה-18 ועד תחילת המאה ה-20 - משימת הפנמה לכל הפרק\",grade_report!$3:$100,ROWS($A$4:Q50),0)","v":{"$error":"#N/A"}},{"$f":"HLOOKUP(\"העשרה 3: מעמד היהודים משלהי המאה ה-18 ועד תחילת המאה ה-20 - משימת העשרה לכל הפרק\",grade_report!$3:$100,ROWS($A$4:R50),0)","v":{"$error":"#N/A"}},null,{"$f":"HLOOKUP(\"שיעור לתלמיד 7: השפעת הנאורות על החברה היהודית - תת פרק חובה\",grade_report!$3:$100,ROWS($A$4:A50),0)","v":{"$error":"#N/A"}},{"$f":"HLOOKUP(\"סיכום פרק 7: השפעת הנאורות על החברה היהודית - תת פרק חובה - משימת סיכום\",grade_report!$3:$100,ROWS($A$4:A50),0)","v":{"$error":"#N/A"}},null,{"$f":"HLOOKUP(\"שיעור לתלמיד 8: ניאו אורתודוקסיה - חיוב המודרנה תוך שמירה קפדנית על מצוות הדת - שיעור לתלמיד\",grade_report!$3:$100,ROWS($A$4:D51),0)","v":{"$error":"#N/A"}},{"$f":"HLOOKUP(\"סיכום פרק 8: ניאו אורתודוקסיה - חיוב המודרנה תוך שמירה קפדנית על מצוות הדת - משימת סיכום\",grade_report!$3:$100,ROWS($A$4:D51),0)","v":{"$error":"#N/A"}},{"$f":"HLOOKUP(\"סיכום פרק 9: תנועות וזרמים יהודיים - משימת סיכום לכל הפרק\",grade_report!$3:$100,ROWS($A$4:E51),0)","v":{"$error":"#N/A"}},null,{"$f":"HLOOKUP(\"שיעור לתלמיד 9: מבשרי הציונות וחיבת ציון - שיעור לתלמיד\",grade_report!$3:$100,ROWS($A$4:H51),0)","v":{"$error":"#N/A"}},{"$f":"HLOOKUP(\"סיכום פרק 10: מבשרי הציונות וחיבת ציון - משימת סיכום\",grade_report!$3:$100,ROWS($A$4:H51),0)","v":{"$error":"#N/A"}},{"$f":"HLOOKUP(\"הפנמה 4: מבשרי הציונות וחיבת ציון - משימת הפנמה\",grade_report!$3:$100,ROWS($A$4:AC51),0)","v":{"$error":"#N/A"}},{"$f":"HLOOKUP(\"העשרה 4: מבשרי הציונות וחיבת ציון - משימת העשרה\",grade_report!$3:$100,ROWS($A$4:AD51),0)","v":{"$error":"#N/A"}},null,{"$f":"HLOOKUP(\"שיעור לתלמיד 10: התנועה הציונית והרצל - שיעור לתלמיד\",grade_report!$3:$100,ROWS($A$4:M51),0)","v":{"$error":"#N/A"}},{"$f":"HLOOKUP(\"סיכום פרק 11: התנועה הציונית והרצל - משימת סיכום - סוף ימיו של הרצל\",grade_report!$3:$100,ROWS($A$4:M51),0)","v":{"$error":"#N/A"}},{"$f":"HLOOKUP(\"הפנמה 5: התנועה הציונית והרצל - משימת הפנמה\",grade_report!$3:$100,ROWS($A$4:AH51),0)","v":{"$error":"#N/A"}},{"$f":"HLOOKUP(\"העשרה 5: התנועה הציונית והרצל - משימת העשרה\",grade_report!$3:$100,ROWS($A$4:AI51),0)","v":{"$error":"#N/A"}},null,{"$f":"HLOOKUP(\"שיעור לתלמיד 11: מפלגות, זרמים ומתנגדים - שיעור לתלמיד\",grade_report!$3:$100,ROWS($A$4:R51),0)","v":{"$error":"#N/A"}},{"$f":"HLOOKUP(\"סיכום פרק 12: מפלגות, זרמים ומתנגדים - משימת סיכום\",grade_report!$3:$100,ROWS($A$4:R51),0)","v":{"$error":"#N/A"}},{"$f":"HLOOKUP(\"הפנמה 6: מפלגות, זרמים ומתנגדים - משימת הפנמה\",grade_report!$3:$100,ROWS($A$4:AM51),0)","v":{"$error":"#N/A"}},{"$f":"HLOOKUP(\"העשרה 6: מפלגות, זרמים ומתנגדים - משימת העשרה\",grade_report!$3:$100,ROWS($A$4:AN51),0)","v":{"$error":"#N/A"}},null,{"$f":"HLOOKUP(\"סיכום קורס-ש' סגורות\",grade_report!$3:$100,ROWS($A$4:AP50),0)","v":{"$error":"#N/A"}},{"$f":"HLOOKUP(\"סיכום קורס-ש' פתוחות\",grade_report!$3:$100,ROWS($A$4:AQ50),0)","v":{"$error":"#N/A"}},{"$f":"HLOOKUP(\"תלמידאות\",grade_report!$3:$100,ROWS($A$4:AR50),0)","v":0}]
[{"$f":"grade_report!C51","v":0},{"$f":"grade_report!B51","v":0},null,{"$f":"VLOOKUP(A49,grade_report!C:D,2,FALSE)","v":{"$error":"#N/A"}},{"$f":"HLOOKUP(\"שיעור לתלמיד 1: נאורוּת - שיעור לתלמיד\",grade_report!$3:$100,ROWS($A$4:A50),0)","v":0},{"$f":"HLOOKUP(\"סיכום פרק 1: נאורוּת - משימת סיכום\",grade_report!$3:$100,ROWS($A$4:A50),0)","v":0},{"$f":"HLOOKUP(\"הפנמה 1: נאורוּת - משימת הפנמה\",grade_report!$3:$100,ROWS($A$4:B50),0)","v":0},{"$f":"HLOOKUP(\"העשרה 1: נאורוּת - משימת העשרה\",grade_report!$3:$100,ROWS($A$4:C50),0)","v":0},null,{"$f":"HLOOKUP(\"שיעור לתלמיד 2: מלחמת העולם הראשונה - שיעור לתלמיד\",grade_report!$3:$100,ROWS($A$4:E50),0)","v":{"$error":"#N/A"}},{"$f":"HLOOKUP(\"סיכום פרק 2: מלחמת העולם הראשונה - משימת סיכום\",grade_report!$3:$100,ROWS($A$4:E50),0)","v":{"$error":"#N/A"}},{"$f":"HLOOKUP(\"הפנמה 2: מלחמת העולם הראשונה - משימת הפנמה\",grade_report!$3:$100,ROWS($A$4:F50),0)","v":{"$error":"#N/A"}},{"$f":"HLOOKUP(\"העשרה 2: מלחמת העולם הראשונה - משימת העשרה - רשות: מלחמת החפירות\",grade_report!$3:$100,ROWS($A$4:G50),0)","v":{"$error":"#N/A"}},null,{"$f":"HLOOKUP(\"שיעור לתלמיד 3: השינויים במעמד המשפטי של יהודי צרפת משלהי המאה ה-18 עד ראשית המאה ה-20 - תת פרק לבחירה\",grade_report!$3:$100,ROWS($A$4:J50),0)","v":{"$error":"#N/A"}},{"$f":"HLOOKUP(\"סיכום פרק 3: השינויים במעמד המשפטי של יהודי צרפת משלהי המאה ה-18 עד ראשית המאה ה-20 -משימת סיכום\",grade_report!$3:$100,ROWS($A$4:J50),0)","v":{"$error":"#N/A"}},{"$f":"HLOOKUP(\"שיעור לתלמיד 4: השינויים במעמד המשפטי של יהודי גרמניה משלהי המאה ה-18 עד ראשית המאה ה-20 - תת פרק לבחירה\",grade_report!$3:$100,ROWS($A$4:O50),0)","v":{"$error":"#N/A"}},{"$f":"HLOOKUP(\"סיכום פרק 4: השינויים במעמד המשפטי של יהודי גרמניה משלהי המאה ה-18 עד ראשית המאה ה-20 - תת פרק לבחירה -משימת סיכום\",grade_report!$3:$100,ROWS($A$4:O50),0)","v":{"$error":"#N/A"}},{"$f":"HLOOKUP(\"שיעור לתלמיד 5: השינויים במעמד המשפטי של היהודים בארצות האסלאם - תהליך האמנציפציה באלג'יריה - תת פרק חובה\",grade_report!$3:$100,ROWS($A$4:A50),0)","v":{"$error":"#N/A"}},{"$f":"HLOOKUP(\"סיכום פרק 5: השינויים במעמד המשפטי של היהודים בארצות האסלאם - תהליך האמנציפציה באלג'יריה - משימת סיכום\",grade_report!$3:$100,ROWS($A$4:A50),0)","v":{"$error":"#N/A"}},{"$f":"HLOOKUP(\"שיעור לתלמיד 6: השלכות השינויים במעמד היהודים על החברה היהודית - תת פרק חובה\",grade_report!$3:$100,ROWS($A$4:D50),0)","v":{"$error":"#N/A"}},{"$f":"HLOOKUP(\"סיכום פרק 6: השפעת הליברליזם על תמורות בחברה היהודית - משימת סיכום - סיכום הסוגיה לכל הפרק\",grade_report!$3:$100,ROWS($A$4:A50),0)","v":{"$error":"#N/A"}},{"$f":"HLOOKUP(\"הפנמה 3: מעמד היהודים משלהי המאה ה-18 ועד תחילת המאה ה-20 - משימת הפנמה לכל הפרק\",grade_report!$3:$100,ROWS($A$4:Q50),0)","v":{"$error":"#N/A"}},{"$f":"HLOOKUP(\"העשרה 3: מעמד היהודים משלהי המאה ה-18 ועד תחילת המאה ה-20 - משימת העשרה לכל הפרק\",grade_report!$3:$100,ROWS($A$4:R50),0)","v":{"$error":"#N/A"}},null,{"$f":"HLOOKUP(\"שיעור לתלמיד 7: השפעת הנאורות על החברה היהודית - תת פרק חובה\",grade_report!$3:$100,ROWS($A$4:A50),0)","v":{"$error":"#N/A"}},{"$f":"HLOOKUP(\"סיכום פרק 7: השפעת הנאורות על החברה היהודית - תת פרק חובה - משימת סיכום\",grade_report!$3:$100,ROWS($A$4:A50),0)","v":{"$error":"#N/A"}},null,{"$f":"HLOOKUP(\"שיעור לתלמיד 8: ניאו אורתודוקסיה - חיוב המודרנה תוך שמירה קפדנית על מצוות הדת - שיעור לתלמיד\",grade_report!$3:$100,ROWS($A$4:D52),0)","v":{"$error":"#N/A"}},{"$f":"HLOOKUP(\"סיכום פרק 8: ניאו אורתודוקסיה - חיוב המודרנה תוך שמירה קפדנית על מצוות הדת - משימת סיכום\",grade_report!$3:$100,ROWS($A$4:D52),0)","v":{"$error":"#N/A"}},{"$f":"HLOOKUP(\"סיכום פרק 9: תנועות וזרמים יהודיים - משימת סיכום לכל הפרק\",grade_report!$3:$100,ROWS($A$4:E52),0)","v":{"$error":"#N/A"}},null,{"$f":"HLOOKUP(\"שיעור לתלמיד 9: מבשרי הציונות וחיבת ציון - שיעור לתלמיד\",grade_report!$3:$100,ROWS($A$4:H52),0)","v":{"$error":"#N/A"}},{"$f":"HLOOKUP(\"סיכום פרק 10: מבשרי הציונות וחיבת ציון - משימת סיכום\",grade_report!$3:$100,ROWS($A$4:H52),0)","v":{"$error":"#N/A"}},{"$f":"HLOOKUP(\"הפנמה 4: מבשרי הציונות וחיבת ציון - משימת הפנמה\",grade_report!$3:$100,ROWS($A$4:AC52),0)","v":{"$error":"#N/A"}},{"$f":"HLOOKUP(\"העשרה 4: מבשרי הציונות וחיבת ציון - משימת העשרה\",grade_report!$3:$100,ROWS($A$4:AD52),0)","v":{"$error":"#N/A"}},null,{"$f":"HLOOKUP(\"שיעור לתלמיד 10: התנועה הציונית והרצל - שיעור לתלמיד\",grade_report!$3:$100,ROWS($A$4:M52),0)","v":{"$error":"#N/A"}},{"$f":"HLOOKUP(\"סיכום פרק 11: התנועה הציונית והרצל - משימת סיכום - סוף ימיו של הרצל\",grade_report!$3:$100,ROWS($A$4:M52),0)","v":{"$error":"#N/A"}},{"$f":"HLOOKUP(\"הפנמה 5: התנועה הציונית והרצל - משימת הפנמה\",grade_report!$3:$100,ROWS($A$4:AH52),0)","v":{"$error":"#N/A"}},{"$f":"HLOOKUP(\"העשרה 5: התנועה הציונית והרצל - משימת העשרה\",grade_report!$3:$100,ROWS($A$4:AI52),0)","v":{"$error":"#N/A"}},null,{"$f":"HLOOKUP(\"שיעור לתלמיד 11: מפלגות, זרמים ומתנגדים - שיעור לתלמיד\",grade_report!$3:$100,ROWS($A$4:R52),0)","v":{"$error":"#N/A"}},{"$f":"HLOOKUP(\"סיכום פרק 12: מפלגות, זרמים ומתנגדים - משימת סיכום\",grade_report!$3:$100,ROWS($A$4:R52),0)","v":{"$error":"#N/A"}},{"$f":"HLOOKUP(\"הפנמה 6: מפלגות, זרמים ומתנגדים - משימת הפנמה\",grade_report!$3:$100,ROWS($A$4:AM52),0)","v":{"$error":"#N/A"}},{"$f":"HLOOKUP(\"העשרה 6: מפלגות, זרמים ומתנגדים - משימת העשרה\",grade_report!$3:$100,ROWS($A$4:AN52),0)","v":{"$error":"#N/A"}},null,{"$f":"HLOOKUP(\"סיכום קורס-ש' סגורות\",grade_report!$3:$100,ROWS($A$4:AP50),0)","v":{"$error":"#N/A"}},{"$f":"HLOOKUP(\"סיכום קורס-ש' פתוחות\",grade_report!$3:$100,ROWS($A$4:AQ50),0)","v":{"$error":"#N/A"}},{"$f":"HLOOKUP(\"תלמידאות\",grade_report!$3:$100,ROWS($A$4:AR50),0)","v":0}]
[{"$f":"grade_report!C52","v":0},{"$f":"grade_report!B52","v":0},null,{"$f":"VLOOKUP(A50,grade_report!C:D,2,FALSE)","v":{"$error":"#N/A"}},{"$f":"HLOOKUP(\"שיעור לתלמיד 1: נאורוּת - שיעור לתלמיד\",grade_report!$3:$100,ROWS($A$4:A50),0)","v":0},{"$f":"HLOOKUP(\"סיכום פרק 1: נאורוּת - משימת סיכום\",grade_report!$3:$100,ROWS($A$4:A50),0)","v":0},{"$f":"HLOOKUP(\"הפנמה 1: נאורוּת - משימת הפנמה\",grade_report!$3:$100,ROWS($A$4:B50),0)","v":0},{"$f":"HLOOKUP(\"העשרה 1: נאורוּת - משימת העשרה\",grade_report!$3:$100,ROWS($A$4:C50),0)","v":0},null,{"$f":"HLOOKUP(\"שיעור לתלמיד 2: מלחמת העולם הראשונה - שיעור לתלמיד\",grade_report!$3:$100,ROWS($A$4:E50),0)","v":{"$error":"#N/A"}},{"$f":"HLOOKUP(\"סיכום פרק 2: מלחמת העולם הראשונה - משימת סיכום\",grade_report!$3:$100,ROWS($A$4:E50),0)","v":{"$error":"#N/A"}},{"$f":"HLOOKUP(\"הפנמה 2: מלחמת העולם הראשונה - משימת הפנמה\",grade_report!$3:$100,ROWS($A$4:F50),0)","v":{"$error":"#N/A"}},{"$f":"HLOOKUP(\"העשרה 2: מלחמת העולם הראשונה - משימת העשרה - רשות: מלחמת החפירות\",grade_report!$3:$100,ROWS($A$4:G50),0)","v":{"$error":"#N/A"}},null,{"$f":"HLOOKUP(\"שיעור לתלמיד 3: השינויים במעמד המשפטי של יהודי צרפת משלהי המאה ה-18 עד ראשית המאה ה-20 - תת פרק לבחירה\",grade_report!$3:$100,ROWS($A$4:J50),0)","v":{"$error":"#N/A"}},{"$f":"HLOOKUP(\"סיכום פרק 3: השינויים במעמד המשפטי של יהודי צרפת משלהי המאה ה-18 עד ראשית המאה ה-20 -משימת סיכום\",grade_report!$3:$100,ROWS($A$4:J50),0)","v":{"$error":"#N/A"}},{"$f":"HLOOKUP(\"שיעור לתלמיד 4: השינויים במעמד המשפטי של יהודי גרמניה משלהי המאה ה-18 עד ראשית המאה ה-20 - תת פרק לבחירה\",grade_report!$3:$100,ROWS($A$4:O50),0)","v":{"$error":"#N/A"}},{"$f":"HLOOKUP(\"סיכום פרק 4: השינויים במעמד המשפטי של יהודי גרמניה משלהי המאה ה-18 עד ראשית המאה ה-20 - תת פרק לבחירה -משימת סיכום\",grade_report!$3:$100,ROWS($A$4:O50),0)","v":{"$error":"#N/A"}},{"$f":"HLOOKUP(\"שיעור לתלמיד 5: השינויים במעמד המשפטי של היהודים בארצות האסלאם - תהליך האמנציפציה באלג'יריה - תת פרק חובה\",grade_report!$3:$100,ROWS($A$4:A50),0)","v":{"$error":"#N/A"}},{"$f":"HLOOKUP(\"סיכום פרק 5: השינויים במעמד המשפטי של היהודים בארצות האסלאם - תהליך האמנציפציה באלג'יריה - משימת סיכום\",grade_report!$3:$100,ROWS($A$4:A50),0)","v":{"$error":"#N/A"}},{"$f":"HLOOKUP(\"שיעור לתלמיד 6: השלכות השינויים במעמד היהודים על החברה היהודית - תת פרק חובה\",grade_report!$3:$100,ROWS($A$4:D50),0)","v":{"$error":"#N/A"}},{"$f":"HLOOKUP(\"סיכום פרק 6: השפעת הליברליזם על תמורות בחברה היהודית - משימת סיכום - סיכום הסוגיה לכל הפרק\",grade_report!$3:$100,ROWS($A$4:A50),0)","v":{"$error":"#N/A"}},{"$f":"HLOOKUP(\"הפנמה 3: מעמד היהודים משלהי המאה ה-18 ועד תחילת המאה ה-20 - משימת הפנמה לכל הפרק\",grade_report!$3:$100,ROWS($A$4:Q50),0)","v":{"$error":"#N/A"}},{"$f":"HLOOKUP(\"העשרה 3: מעמד היהודים משלהי המאה ה-18 ועד תחילת המאה ה-20 - משימת העשרה לכל הפרק\",grade_report!$3:$100,ROWS($A$4:R50),0)","v":{"$error":"#N/A"}},null,{"$f":"HLOOKUP(\"שיעור לתלמיד 7: השפעת הנאורות על החברה היהודית - תת פרק חובה\",grade_report!$3:$100,ROWS($A$4:A50),0)","v":{"$error":"#N/A"}},{"$f":"HLOOKUP(\"סיכום פרק 7: השפעת הנאורות על החברה היהודית - תת פרק חובה - משימת סיכום\",grade_report!$3:$100,ROWS($A$4:A50),0)","v":{"$error":"#N/A"}},null,{"$f":"HLOOKUP(\"שיעור לתלמיד 8: ניאו אורתודוקסיה - חיוב המודרנה תוך שמירה קפדנית על מצוות הדת - שיעור לתלמיד\",grade_report!$3:$100,ROWS($A$4:D53),0)","v":{"$error":"#N/A"}},{"$f":"HLOOKUP(\"סיכום פרק 8: ניאו אורתודוקסיה - חיוב המודרנה תוך שמירה קפדנית על מצוות הדת - משימת סיכום\",grade_report!$3:$100,ROWS($A$4:D53),0)","v":{"$error":"#N/A"}},{"$f":"HLOOKUP(\"סיכום פרק 9: תנועות וזרמים יהודיים - משימת סיכום לכל הפרק\",grade_report!$3:$100,ROWS($A$4:E53),0)","v":{"$error":"#N/A"}},null,{"$f":"HLOOKUP(\"שיעור לתלמיד 9: מבשרי הציונות וחיבת ציון - שיעור לתלמיד\",grade_report!$3:$100,ROWS($A$4:H53),0)","v":{"$error":"#N/A"}},{"$f":"HLOOKUP(\"סיכום פרק 10: מבשרי הציונות וחיבת ציון - משימת סיכום\",grade_report!$3:$100,ROWS($A$4:H53),0)","v":{"$error":"#N/A"}},{"$f":"HLOOKUP(\"הפנמה 4: מבשרי הציונות וחיבת ציון - משימת הפנמה\",grade_report!$3:$100,ROWS($A$4:AC53),0)","v":{"$error":"#N/A"}},{"$f":"HLOOKUP(\"העשרה 4: מבשרי הציונות וחיבת ציון - משימת העשרה\",grade_report!$3:$100,ROWS($A$4:AD53),0)","v":{"$error":"#N/A"}},null,{"$f":"HLOOKUP(\"שיעור לתלמיד 10: התנועה הציונית והרצל - שיעור לתלמיד\",grade_report!$3:$100,ROWS($A$4:M53),0)","v":{"$error":"#N/A"}},{"$f":"HLOOKUP(\"סיכום פרק 11: התנועה הציונית והרצל - משימת סיכום - סוף ימיו של הרצל\",grade_report!$3:$100,ROWS($A$4:M53),0)","v":{"$error":"#N/A"}},{"$f":"HLOOKUP(\"הפנמה 5: התנועה הציונית והרצל - משימת הפנמה\",grade_report!$3:$100,ROWS($A$4:AH53),0)","v":{"$error":"#N/A"}},{"$f":"HLOOKUP(\"העשרה 5: התנועה הציונית והרצל - משימת העשרה\",grade_report!$3:$100,ROWS($A$4:AI53),0)","v":{"$error":"#N/A"}},null,{"$f":"HLOOKUP(\"שיעור לתלמיד 11: מפלגות, זרמים ומתנגדים - שיעור לתלמיד\",grade_report!$3:$100,ROWS($A$4:R53),0)","v":{"$error":"#N/A"}},{"$f":"HLOOKUP(\"סיכום פרק 12: מפלגות, זרמים ומתנגדים - משימת סיכום\",grade_report!$3:$100,ROWS($A$4:R53),0)","v":{"$error":"#N/A"}},{"$f":"HLOOKUP(\"הפנמה 6: מפלגות, זרמים ומתנגדים - משימת הפנמה\",grade_report!$3:$100,ROWS($A$4:AM53),0)","v":{"$error":"#N/A"}},{"$f":"HLOOKUP(\"העשרה 6: מפלגות, זרמים ומתנגדים - משימת העשרה\",grade_report!$3:$100,ROWS($A$4:AN53),0)","v":{"$error":"#N/A"}},null,{"$f":"HLOOKUP(\"סיכום קורס-ש' סגורות\",grade_report!$3:$100,ROWS($A$4:AP50),0)","v":{"$error":"#N/A"}},{"$f":"HLOOKUP(\"סיכום קורס-ש' פתוחות\",grade_report!$3:$100,ROWS($A$4:AQ50),0)","v":{"$error":"#N/A"}},{"$f":"HLOOKUP(\"תלמידאות\",grade_report!$3:$100,ROWS($A$4:AR50),0)","v":0}]

{"sheet":"לפי תתי פרקים","index":2,"n_rows":30,"n_cols":42,"rows_kept":30,"cut":false,"hidden":false,"merged":[]}
["Date Updated :2021-11-10-1239",null,null,"נאורוּת","מעמד היהודים משלהי המאה ה-18 ועד תחילת המאה ה-20","מעמד היהודים משלהי המאה ה-18 ועד תחילת המאה ה-20","מעמד היהודים משלהי המאה ה-18 ועד תחילת המאה ה-20","מעמד היהודים משלהי המאה ה-18 ועד תחילת המאה ה-20","תנועת ההשכלה היהודית","תנועות וזרמים יהודיים","מבשרי הציונות וחיבת ציון","התנועה הציונית והרצל","מפלגות, זרמים ומתנגדים","נאורוּת","מעמד היהודים משלהי המאה ה-18 ועד תחילת המאה ה-20","מעמד היהודים משלהי המאה ה-18 ועד תחילת המאה ה-20","מעמד היהודים משלהי המאה ה-18 ועד תחילת המאה ה-20","מעמד היהודים משלהי המאה ה-18 ועד תחילת המאה ה-20","תנועת ההשכלה היהודית","תנועות וזרמים יהודיים","מבשרי הציונות וחיבת ציון","התנועה הציונית והרצל","מפלגות, זרמים ומתנגדים","נאורוּת","מעמד היהודים משלהי המאה ה-18 ועד תחילת המאה ה-20","מבשרי הציונות וחיבת ציון","התנועה הציונית והרצל","מפלגות, זרמים ומתנגדים","נאורוּת","מעמד היהודים משלהי המאה ה-18 ועד תחילת המאה ה-20","מבשרי הציונות וחיבת ציון","התנועה הציונית והרצל","מפלגות, זרמים ומתנגדים","תלמידאות",null,null,null,null,null,null,null,"פרק ג'"]
["Username","Email","Grade","שיעור לתלמיד 1: נאורוּת - שיעור לתלמיד","שיעור לתלמיד 2: השינויים במעמד המשפטי של יהודי צרפת משלהי המאה ה-18 עד ראשית המאה ה-20 - תת פרק לבחירה","שיעור לתלמיד 3: השינויים במעמד המשפטי של יהודי גרמניה משלהי המאה ה-18 עד ראשית המאה ה-20 - תת פרק לבחירה","שיעור לתלמיד 4: השינויים במעמד המשפטי של היהודים בארצות האסלאם - תהליך האמנציפציה באלג'יריה - תת פרק חובה","שיעור לתלמיד 5: השלכות השינויים במעמד היהודים על החברה היהודית - תת פרק חובה","שיעור לתלמיד 6: השפעת הנאורות על החברה היהודית - תת פרק חובה","שיעור לתלמיד 7: ניאו אורתודוקסיה - חיוב המודרנה תוך שמירה קפדנית על מצוות הדת - שיעור לתלמיד","שיעור לתלמיד 8: מבשרי הציונות וחיבת ציון - שיעור לתלמיד","שיעור לתלמיד 9: התנועה הציונית והרצל - שיעור לתלמיד","שיעור לתלמיד 10: מפלגות, זרמים ומתנגדים - שיעור לתלמיד","סיכום פרק 1: נאורוּת - משימת סיכום","סיכום פרק 2: השינויים במעמד המשפטי של יהודי צרפת משלהי המאה ה-18 עד ראשית המאה ה-20 -משימת סיכום","סיכום פרק 3: השינויים במעמד המשפטי של יהודי גרמניה משלהי המאה ה-18 עד ראשית המאה ה-20 - תת פרק לבחירה -משימת סיכום","סיכום פרק 4: השינויים במעמד המשפטי של היהודים בארצות האסלאם - תהליך האמנציפציה באלג'יריה - משימת סיכום","סיכום פרק 5: השפעת הליברליזם על תמורות בחברה היהודית - משימת סיכום - סיכום הסוגיה לכל הפרק","סיכום פרק 6: השפעת הנאורות על החברה היהודית - תת פרק חובה - משימת סיכום","סיכום פרק 7: ניאו אורתודוקסיה - חיוב המודרנה תוך שמירה קפדנית על מצוות הדת - משימת סיכום","סיכום פרק 8: מבשרי הציונות וחיבת ציון - משימת סיכום","סיכום פרק 9: התנועה הציונית והרצל - משימת סיכום - סוף ימיו של הרצל","סיכום פרק 10: מפלגות, זרמים ומתנגדים - משימת סיכום","הפנמה 1: נאורוּת - משימת הפנמה","הפנמה 2: מעמד היהודים משלהי המאה ה-18 ועד תחילת המאה ה-20 - משימת הפנמה לכל הפרק","הפנמה 3: מבשרי הציונות וחיבת ציון - משימת הפנמה","הפנמה 4: התנועה הציונית והרצל - משימת הפנמה","הפנמה 5: מפלגות, זרמים ומתנגדים - משימת הפנמה","העשרה 1: נאורוּת - משימת העשרה","העשרה 2: מעמד היהודים משלהי המאה ה-18 ועד תחילת המאה ה-20 - משימת העשרה לכל הפרק","העשרה 3: מבשרי הציונות וחיבת ציון - משימת העשרה","העשרה 4: התנועה הציונית והרצל - משימת העשרה","העשרה 5: מפלגות, זרמים ומתנגדים - משימת העשרה","תלמידאות","סיכום חלק א' 1: שאלה 1 לבחירה","סיכום חלק א' 2: שאלה 2 לבחירה","סיכום חלק א' 3: שאלה 3 לבחירה","סיכום חלק א' 4: שאלה 4 לבחירה","סיכום חלק ב' 1: שאלה 1 לבחירה","סיכום חלק ב' 2: שאלה 2 לבחירה","סיכום חלק ב' 3: שאלה 3 לבחירה","סיכום חלק ג'"]
["RonitHochster","ronithex@gmail.com",0,6.25E-2]
["Jamalk1","jamalk@mse.gov.il",0]
["נועה_ביטון_4","noab5027@gmail.com",0.02,0.9375,0.125,null,null,null,null,null,null,null,null,null,null,null,null,null,null,null,null,null,null,4.7619047619000002E-2]
["שקד_בן_דוד","shakedbd24@gmail.com",0.01,0.8125,null,null,null,null,null,null,null,null,null,null,null,null,null,null,null,null,null,null,null,4.7619047619000002E-2]
["ליא גולדברג","liagold02@gmail.com",0.08,1,null,0.72,0.66666666666700003,null,null,null,null,null,null,null,null,1,null,null,null,null,null,null,null,4.7619047619000002E-2]
["lihi_davidi","lihi.davidi@gmail.com",0.08,0.9375,0.5,0.6,0.33333333333300003,null,null,null,null,null,null,null,null,1,null,null,null,null,null,null,null,4.7619047619000002E-2]
["oriziv06","oriziv06@gmail.com",0]
["אריאלה_חן_יעקב_חי","arielachen10@gmail.com",7.0000000000000007E-2,1,null,0.56000000000000005,0.33333333333300003,null,null,null,null,null,null,null,null,1,null,null,null,null,null,null,null,4.7619047619000002E-2]
["ליאם_פחימה","liempahima21@gmail.com",0.12,1,0.875,0.76,0.33333333333300003,null,null,null,null,null,null,null,1,0.75,null,null,null,null,null,null,null,4.7619047619000002E-2]
["אלה_רן","elaran28@gmail.com",0.02,0.9375,0.5,null,null,null,null,null,null,null,null,null,null,null,null,null,null,null,null,null,null,4.7619047619000002E-2]
["אורי בלונדר","blonderori@gmail.com",0.12,0.9375,0.7,null,1,null,null,null,null,null,null,null,1,null,1,null,null,null,null,null,null,4.7619047619000002E-2]
["יעל גרינוולד","coolyaelg@gmail.com",0.08,0.86979166666700003,1,null,0.66666666666700003,null,null,null,null,null,null,null,1,null,null,null,null,null,null,null,null,4.7619047619000002E-2]
["עדי_יוסף_3","adi8yosef@gmail.com",0.13,1,0.875,null,1,null,null,null,null,null,null,null,1,null,1,null,null,null,null,null,null,4.7619047619000002E-2]
["אליה תמרי","eliyatamari@gmail.com",7.0000000000000007E-2,1,0.85,null,null,null,null,null,null,null,null,null,1,null,null,null,null,null,null,null,null,4.7619047619000002E-2]
["אדירה_חנה_יעקב","adira.yaacov@gmail.com",7.0000000000000007E-2,1,0.57499999999999996,null,null,null,null,null,null,null,null,null,1]
["דולב_בן_צור","dolev1231bt@gmail.com",0]
["טליה_דוד_1","talya123david@gmail.com",0.08,0.99479166666700003,1,0.4,null,null,null,null,null,null,null,null,1,null,null,null,null,null,null,null,null,4.7619047619000002E-2]
["נטע_הייזלר","netah10000@gmail.com",0.08,null,null,0.76,0.66666666666700003,0.5,null,null,null,null,null,null,null,0.5,0.75]
["תהל_חזות","tahel1.ch@gmail.com",7.0000000000000007E-2,1,null,0.76,null,null,null,null,null,null,null,null,null,1,null,null,null,null,null,null,null,4.7619047619000002E-2]
["לילך סמואל","samuellilach33@gmail.com",7.0000000000000007E-2,0.875,1,0.4,null,null,null,null,null,null,null,null,0.75,null,null,null,null,null,null,null,null,4.7619047619000002E-2]
["שחר_68","shaharnov8@gmail.com",0]
["שחר_נוב","shrnov1@gmail.com",0.08,1,0.875,0.6,null,null,null,null,null,null,null,null,1,null,null,null,null,null,null,null,null,4.7619047619000002E-2]
["shani_hirsch","shanih2308@gmail.com",0.05,0.8125,0.625,null,null,null,null,null,null,null,null,null,0.75,null,null,null,null,null,null,null,null,4.7619047619000002E-2]
["tal_tillinger","tal.tillinger2@gmail.com",7.0000000000000007E-2,1,0.7,null,null,null,null,null,null,null,null,null,1,null,null,null,null,null,null,null,null,4.7619047619000002E-2]
["תהל_יהושע","tahel030@gmail.com",0.12,1,0.875,1,null,null,null,null,null,null,null,null,1,0.75,null,null,null,null,null,null,null,4.7619047619000002E-2]
["ענבל_אברמזון","inbalav9@gmail.com",0.11,1,0.875,0.56000000000000005,null,null,null,null,null,null,null,null,0.75,1,null,null,null,null,null,null,null,4.7619047619000002E-2]
["יהלי_גיליס","yahli.gillis@gmail.com",0.04,0.875,0.32500000000000001,null,null,null,null,null,null,null,null,null,0.5,null,null,null,null,null,null,null,null,4.7619047619000002E-2]
["אוריה_אלהרר","oriyaelharar1@gmail.com",0.1,0.875,null,null,0,null,null,null,null,null,null,null,0.75,1,0.5]

{"sheet":"menu","index":3,"n_rows":152,"n_cols":4,"rows_kept":152,"cut":false,"hidden":false,"merged":[]}
["מזהה קובץ ציונים","grade_report","רכיבי ציון"]
["מזהה קובץ נתוני בעיות","problem_grade_report","שיעור לתלמיד",1]
["תחילית שם קובץ","EDU","סיכום פרק",2]
["גיליון תתי פרקים","לפי תתי פרקים","הפנמה",3]
["גיליון בעיות","לפי שאלות","העשרה",4]
["אורך מחרוזת התאריך בשם הקובץ",15,"תלמידאות",5]
["צבע כותרות ציונים (רקע התא)",null,"מטלה סופית חלק א",6]
["להשאיר קובץ נתונים לא מעובד? yes / no","no","מטלה סופית חלק ב",7]
["להסתיר גיליון אינדקס yes / no","no","מטלה סופית חלק ג",8]
["שם הקובץ - לא לשנות","EDU_EDU005_1_2020_ccx_4413_grade_report_2021-11-10-1239",null,9]
["גבול ציון גבוה",0.85,null,10]
["צבע ציון גבוה (רקע התא)"]
["גבול ציון נמוך",0.55000000000000004]
["צבע ציון נמוך (רקע התא)"]
["צבע רכיב ציון שאלונים (רקע התא)"]
["גיליון אינדקס קורסים, פרקים ותתי פרקים ","courses_index"]
["גיליון תבנית ציונים","תבנית דוח ציונים"]
["גיליון תבנית בעיות","תבנית דוח בעיות"]
["תוספת להתעלם ממנה בשם הקובץ","ccx"]
["צבע רכיב ציון 1 (רקע התא)"]
["צבע רכיב ציון 2 (רקע התא)"]
["צבע רכיב ציון 3 (רקע התא)"]
["צבע רכיב ציון 4 (רקע התא)"]
["צבע רכיב ציון 5 (רקע התא)"]
["צבע רכיב ציון 6 (רקע התא)"]
["צבע רכיב ציון 7 (רקע התא)"]
["צבע רכיב ציון 8 (רקע התא)"]
["צבע רכיב ציון 9 (רקע התא)"]
["צבע רכיב ציון 10 (רקע התא)"]
[]
[]
[]
[]
[]
[]
[]
[]
[]
[]
[]
[]
[]
[]
[]
[]
[]
[]
[]
[]
[]
[]
[]
[]
[]
[]
[]
[]
[]
[]
[]
[]
[]
[]
[]
[]
[]
[]
[]
[]
[]
[]
[]
[]
[]
[]
[]
[]
[]
[]
[]
[]
[]
[]
[]
[]
[]
[]
[]
[]
[]
[]
[]
[]
[]
[]
[]
[]
[]
["צבע ציון גבוה",16711680]
["גבול ציון נמוך",0.55000000000000004]
["צבע ציון נמוך",255]
["צבע רכיב ציון שאלונים",65535]
[]
[]
[]
[]
[]
[]
[]
[]
[]
[]
[]
[]
[]
[]
[]
[]
[]
[]
[]
[]
[]
[]
[]
[]
[]
[]
[]
[]
[]
[]
[]
[]
[]
[]
[]
[]
[]
["הודעות"]
["הודעת מערכת מס': "]
["לא ניתן למשוך בגירסת אקסל זו"]
["Date Updated :"]
["לא נמצאה העמודה"]
["ניתן להמשיך"]
["הקובץ שנבחר אינו מתאים"]
["לא נבחר אף פרק"]
["תת פרק בשם"]
["לא ניתן למצוא את שם הקורס"]
["הקורס לא מופיע באינדקס הקורסים"]
["לקורס יש רק שורה אחת באינדקס הקורסים"]
["תקלה בעיצוב השורה הראשונה"]

{"sheet":"grade_report","index":4,"n_rows":31,"n_cols":55,"rows_kept":31,"cut":false,"hidden":false,"merged":[]}
[]
["מכיל מידע מוגן לפי חוק הגנת הפרטיות - המוסר שלא כדין עובר עבירה\""]
["Student ID","Email","Username","Grade","שיעור לתלמיד 1: נאורוּת - שיעור לתלמיד","שיעור לתלמיד 2: השינויים במעמד המשפטי של יהודי צרפת משלהי המאה ה-18 עד ראשית המאה ה-20 - תת פרק לבחירה","שיעור לתלמיד 3: השינויים במעמד המשפטי של יהודי גרמניה משלהי המאה ה-18 עד ראשית המאה ה-20 - תת פרק לבחירה","שיעור לתלמיד 4: השינויים במעמד המשפטי של היהודים בארצות האסלאם - תהליך האמנציפציה באלג'יריה - תת פרק חובה","שיעור לתלמיד 5: השלכות השינויים במעמד היהודים על החברה היהודית - תת פרק חובה","שיעור לתלמיד 6: השפעת הנאורות על החברה היהודית - תת פרק חובה","שיעור לתלמיד 7: ניאו אורתודוקסיה - חיוב המודרנה תוך שמירה קפדנית על מצוות הדת - שיעור לתלמיד","שיעור לתלמיד 8: מבשרי הציונות וחיבת ציון - שיעור לתלמיד","שיעור לתלמיד 9: התנועה הציונית והרצל - שיעור לתלמיד","שיעור לתלמיד 10: מפלגות, זרמים ומתנגדים - שיעור לתלמיד","שיעור לתלמיד (Avg)","סיכום פרק 1: נאורוּת - משימת סיכום","סיכום פרק 2: השינויים במעמד המשפטי של יהודי צרפת משלהי המאה ה-18 עד ראשית המאה ה-20 -משימת סיכום","סיכום פרק 3: השינויים במעמד המשפטי של יהודי גרמניה משלהי המאה ה-18 עד ראשית המאה ה-20 - תת פרק לבחירה -משימת סיכום","סיכום פרק 4: השינויים במעמד המשפטי של היהודים בארצות האסלאם - תהליך האמנציפציה באלג'יריה - משימת סיכום","סיכום פרק 5: השפעת הליברליזם על תמורות בחברה היהודית - משימת סיכום - סיכום הסוגיה לכל הפרק","סיכום פרק 6: השפעת הנאורות על החברה היהודית - תת פרק חובה - משימת סיכום","סיכום פרק 7: ניאו אורתודוקסיה - חיוב המודרנה תוך שמירה קפדנית על מצוות הדת - משימת סיכום","סיכום פרק 8: מבשרי הציונות וחיבת ציון - משימת סיכום","סיכום פרק 9: התנועה הציונית והרצל - משימת סיכום - סוף ימיו של הרצל","סיכום פרק 10: מפלגות, זרמים ומתנגדים - משימת סיכום","סיכום פרק (Avg)","הפנמה 1: נאורוּת - משימת הפנמה","הפנמה 2: מעמד היהודים משלהי המאה ה-18 ועד תחילת המאה ה-20 - משימת הפנמה לכל הפרק","הפנמה 3: מבשרי הציונות וחיבת ציון - משימת הפנמה","הפנמה 4: התנועה הציונית והרצל - משימת הפנמה","הפנמה 5: מפלגות, זרמים ומתנגדים - משימת הפנמה","הפנמה (Avg)","העשרה 1: נאורוּת - משימת העשרה","העשרה 2: מעמד היהודים משלהי המאה ה-18 ועד תחילת המאה ה-20 - משימת העשרה לכל הפרק","העשרה 3: מבשרי הציונות וחיבת ציון - משימת העשרה","העשרה 4: התנועה הציונית והרצל - משימת העשרה","העשרה 5: מפלגות, זרמים ומתנגדים - משימת העשרה","העשרה (Avg)","תלמידאות","סיכום חלק א' 1: שאלה 1 לבחירה","סיכום חלק א' 2: שאלה 2 לבחירה","סיכום חלק א' 3: שאלה 3 לבחירה","סיכום חלק א' 4: שאלה 4 לבחירה","סיכום חלק א' (Avg)","סיכום חלק ב' 1: שאלה 1 לבחירה","סיכום חלק ב' 2: שאלה 2 לבחירה","סיכום חלק ב' 3: שאלה 3 לבחירה","סיכום חלק ב' (Avg)","סיכום חלק ג'","Enrollment Track","Verification Status","Certificate Eligible","Certificate Delivered","Certificate Type","Enrollment Status"]
[5648,"ronithex@gmail.com","RonitHochster",0,6.25E-2,"Not Attempted","Not Attempted","Not Attempted","Not Attempted","Not Attempted","Not Attempted","Not Attempted","Not Attempted","Not Attempted",1.0416666666699999E-3,"Not Attempted","Not Attempted","Not Attempted","Not Attempted","Not Attempted","Not Attempted","Not Attempted","Not Attempted","Not Attempted","Not Attempted",0,"Not Attempted","Not Attempted","Not Attempted","Not Attempted","Not Attempted",0,"Not Attempted","Not Attempted","Not Attempted","Not Attempted","Not Attempted",0,"Not Attempted","Not Available","Not Available","Not Available","Not Available",0,"Not Available","Not Available","Not Available",0,"Not Available","audit","N/A","N","N","N/A","enrolled"]
[103479,"jamalk@mse.gov.il","Jamalk1",0,"Not Attempted","Not Attempted","Not Attempted","Not Attempted","Not Attempted","Not Attempted","Not Attempted","Not Attempted","Not Attempted","Not Attempted",0,"Not Attempted","Not Attempted","Not Attempted","Not Attempted","Not Attempted","Not Attempted","Not Attempted","Not Attempted","Not Attempted","Not Attempted",0,"Not Attempted","Not Attempted","Not Attempted","Not Attempted","Not Attempted",0,"Not Attempted","Not Attempted","Not Attempted","Not Attempted","Not Attempted",0,"Not Attempted","Not Available","Not Available","Not Available","Not Available",0,"Not Available","Not Available","Not Available",0,"Not Available","audit","N/A","N","N","N/A","enrolled"]
[473058,"noab5027@gmail.com","נועה_ביטון_4",0.02,0.9375,0.125,"Not Attempted","Not Attempted","Not Attempted","Not Attempted","Not Attempted","Not Attempted","Not Available","Not Available",1.7708333333299998E-2,"Not Attempted","Not Attempted","Not Attempted","Not Attempted","Not Attempted","Not Attempted","Not Attempted","Not Attempted","Not Available","Not Available",0,4.7619047619000002E-2,"Not Attempted","Not Attempted","Not Available","Not Available",0,"Not Attempted","Not Attempted","Not Attempted","Not Available","Not Available",0,"Not Available","Not Available","Not Available","Not Available","Not Available",0,"Not Available","Not Available","Not Available",0,"Not Available","audit","N/A","N","N","N/A","enrolled"]
[473727,"shakedbd24@gmail.com","שקד_בן_דוד",0.01,0.8125,"Not Attempted","Not Attempted","Not Attempted","Not Attempted","Not Attempted","Not Attempted","Not Attempted","Not Available","Not Available",1.35416666667E-2,"Not Attempted","Not Attempted","Not Attempted","Not Attempted","Not Attempted","Not Attempted","Not Attempted","Not Attempted","Not Available","Not Available",0,4.7619047619000002E-2,"Not Attempted","Not Attempted","Not Available","Not Available",0,"Not Attempted","Not Attempted","Not Attempted","Not Available","Not Available",0,"Not Available","Not Available","Not Available","Not Available","Not Available",0,"Not Available","Not Available","Not Available",0,"Not Available","audit","N/A","N","N","N/A","enrolled"]
[472244,"liagold02@gmail.com","ליא גולדברג",0.08,1,"Not Attempted",0.72,0.66666666666700003,"Not Attempted","Not Attempted","Not Attempted","Not Attempted","Not Available","Not Available",3.9777777777799998E-2,"Not Attempted","Not Attempted",1,"Not Attempted","Not Attempted","Not Attempted","Not Attempted","Not Attempted","Not Available","Not Available",3.8888888888899999E-2,4.7619047619000002E-2,"Not Attempted","Not Attempted","Not Available","Not Available",0,"Not Attempted","Not Attempted","Not Attempted","Not Available","Not Available",0,"Not Available","Not Available","Not Available","Not Available","Not Available",0,"Not Available","Not Available","Not Available",0,"Not Available","audit","N/A","N","N","N/A","enrolled"]
[229895,"lihi.davidi@gmail.com","lihi_davidi",0.08,0.9375,0.5,0.6,0.33333333333300003,"Not Attempted","Not Attempted","Not Attempted","Not Attempted","Not Available","Not Available",3.9513888888899999E-2,"Not Attempted","Not Attempted",1,"Not Attempted","Not Attempted","Not Attempted","Not Attempted","Not Attempted","Not Available","Not Available",3.8888888888899999E-2,4.7619047619000002E-2,"Not Attempted","Not Attempted","Not Available","Not Available",0,"Not Attempted","Not Attempted","Not Attempted","Not Available","Not Available",0,"Not Available","Not Available","Not Available","Not Available","Not Available",0,"Not Available","Not Available","Not Available",0,"Not Available","audit","N/A","N","N","N/A","enrolled"]
[481976,"oriziv06@gmail.com","oriziv06",0,"Not Attempted","Not Attempted","Not Attempted","Not Attempted","Not Attempted","Not Attempted","Not Attempted","Not Attempted","Not Available","Not Available",0,"Not Attempted","Not Attempted","Not Attempted","Not Attempted","Not Attempted","Not Attempted","Not Attempted","Not Attempted","Not Available","Not Available",0,"Not Attempted","Not Attempted","Not Attempted","Not Available","Not Available",0,"Not Attempted","Not Attempted","Not Attempted","Not Available","Not Available",0,"Not Available","Not Available","Not Available","Not Available","Not Available",0,"Not Available","Not Available","Not Available",0,"Not Available","audit","N/A","N","N","N/A","enrolled"]
[471680,"arielachen10@gmail.com","אריאלה_חן_יעקב_חי",7.0000000000000007E-2,1,"Not Attempted",0.56000000000000005,0.33333333333300003,"Not Attempted","Not Attempted","Not Attempted","Not Attempted","Not Available","Not Available",3.1555555555600003E-2,"Not Attempted","Not Attempted",1,"Not Attempted","Not Attempted","Not Attempted","Not Attempted","Not Attempted","Not Available","Not Available",3.8888888888899999E-2,4.7619047619000002E-2,"Not Attempted","Not Attempted","Not Available","Not Available",0,"Not Attempted","Not Attempted","Not Attempted","Not Available","Not Available",0,"Not Available","Not Available","Not Available","Not Available","Not Available",0,"Not Available","Not Available","Not Available",0,"Not Available","audit","N/A","N","N","N/A","enrolled"]
[472219,"liempahima21@gmail.com","ליאם_פחימה",0.12,1,0.875,0.76,0.33333333333300003,"Not Attempted","Not Attempted","Not Attempted","Not Attempted","Not Available","Not Available",4.9472222222199998E-2,"Not Attempted",1,0.75,"Not Attempted","Not Attempted","Not Attempted","Not Attempted","Not Attempted","Not Available","Not Available",6.80555555556E-2,4.7619047619000002E-2,"Not Attempted","Not Attempted","Not Available","Not Available",0,"Not Attempted","Not Attempted","Not Attempted","Not Available","Not Available",0,"Not Available","Not Available","Not Available","Not Available","Not Available",0,"Not Available","Not Available","Not Available",0,"Not Available","audit","N/A","N","N","N/A","enrolled"]
[414940,"elaran28@gmail.com","אלה_רן",0.02,0.9375,0.5,"Not Attempted","Not Attempted","Not Attempted","Not Attempted","Not Attempted","Not Attempted","Not Available","Not Available",2.3958333333300001E-2,"Not Attempted","Not Attempted","Not Attempted","Not Attempted","Not Attempted","Not Attempted","Not Attempted","Not Attempted","Not Available","Not Available",0,4.7619047619000002E-2,"Not Attempted","Not Attempted","Not Available","Not Available",0,"Not Attempted","Not Attempted","Not Attempted","Not Available","Not Available",0,"Not Available","Not Available","Not Available","Not Available","Not Available",0,"Not Available","Not Available","Not Available",0,"Not Available","audit","N/A","N","N","N/A","enrolled"]
[471775,"blonderori@gmail.com","אורי בלונדר",0.12,0.9375,0.7,"Not Attempted",1,"Not Attempted","Not Attempted","Not Attempted","Not Attempted","Not Available","Not Available",4.3958333333300001E-2,"Not Attempted",1,"Not Attempted",1,"Not Attempted","Not Attempted","Not Attempted","Not Attempted","Not Available","Not Available",7.7777777777799997E-2,4.7619047619000002E-2,"Not Attempted","Not Attempted","Not Available","Not Available",0,"Not Attempted","Not Attempted","Not Attempted","Not Available","Not Available",0,"Not Available","Not Available","Not Available","Not Available","Not Available",0,"Not Available","Not Available","Not Available",0,"Not Available","audit","N/A","N","N","N/A","enrolled"]
[481908,"coolyaelg@gmail.com","יעל גרינוולד",0.08,0.86979166666700003,1,"Not Attempted",0.66666666666700003,"Not Attempted","Not Attempted","Not Attempted","Not Attempted","Not Available","Not Available",4.2274305555600002E-2,"Not Attempted",1,"Not Attempted","Not Attempted","Not Attempted","Not Attempted","Not Attempted","Not Attempted","Not Available","Not Available",3.8888888888899999E-2,4.7619047619000002E-2,"Not Attempted","Not Attempted","Not Available","Not Available",0,"Not Attempted","Not Attempted","Not Attempted","Not Available","Not Available",0,"Not Available","Not Available","Not Available","Not Available","Not Available",0,"Not Available","Not Available","Not Available",0,"Not Available","audit","N/A","N","N","N/A","enrolled"]
[471836,"adi8yosef@gmail.com","עדי_יוסף_3",0.13,1,0.875,"Not Attempted",1,"Not Attempted","Not Attempted","Not Attempted","Not Attempted","Not Available","Not Available",4.7916666666699997E-2,"Not Attempted",1,"Not Attempted",1,"Not Attempted","Not Attempted","Not Attempted","Not Attempted","Not Available","Not Available",7.7777777777799997E-2,4.7619047619000002E-2,"Not Attempted","Not Attempted","Not Available","Not Available",0,"Not Attempted","Not Attempted","Not Attempted","Not Available","Not Available",0,"Not Available","Not Available","Not Available","Not Available","Not Available",0,"Not Available","Not Available","Not Available",0,"Not Available","audit","N/A","N","N","N/A","enrolled"]
[471796,"eliyatamari@gmail.com","אליה תמרי",7.0000000000000007E-2,1,0.85,"Not Attempted","Not Attempted","Not Attempted","Not Attempted","Not Attempted","Not Attempted","Not Available","Not Available",3.08333333333E-2,"Not Attempted",1,"Not Attempted","Not Attempted","Not Attempted","Not Attempted","Not Attempted","Not Attempted","Not Available","Not Available",3.8888888888899999E-2,4.7619047619000002E-2,"Not Attempted","Not Attempted","Not Available","Not Available",0,"Not Attempted","Not Attempted","Not Attempted","Not Available","Not Available",0,"Not Available","Not Available","Not Available","Not Available","Not Available",0,"Not Available","Not Available","Not Available",0,"Not Available","audit","N/A","N","N","N/A","enrolled"]
[481910,"adira.yaacov@gmail.com","אדירה_חנה_יעקב",7.0000000000000007E-2,1,0.57499999999999996,"Not Attempted","Not Attempted","Not Attempted","Not Attempted","Not Attempted","Not Attempted","Not Available","Not Available",2.6249999999999999E-2,"Not Attempted",1,"Not Attempted","Not Attempted","Not Attempted","Not Attempted","Not Attempted","Not Attempted","Not Available","Not Available",3.8888888888899999E-2,"Not Attempted","Not Attempted","Not Attempted","Not Available","Not Available",0,"Not Attempted","Not Attempted","Not Attempted","Not Available","Not Available",0,"Not Available","Not Available","Not Available","Not Available","Not Available",0,"Not Available","Not Available","Not Available",0,"Not Available","audit","N/A","N","N","N/A","enrolled"]
[471755,"dolev1231bt@gmail.com","דולב_בן_צור",0,"Not Attempted","Not Attempted","Not Attempted","Not Attempted","Not Attempted","Not Attempted","Not Attempted","Not Attempted","Not Available","Not Available",0,"Not Attempted","Not Attempted","Not Attempted","Not Attempted","Not Attempted","Not Attempted","Not Attempted","Not Attempted","Not Available","Not Available",0,"Not Attempted","Not Attempted","Not Attempted","Not Available","Not Available",0,"Not Attempted","Not Attempted","Not Attempted","Not Available","Not Available",0,"Not Available","Not Available","Not Available","Not Available","Not Available",0,"Not Available","Not Available","Not Available",0,"Not Available","audit","N/A","N","N","N/A","enrolled"]
[473951,"talya123david@gmail.com","טליה_דוד_1",0.08,0.99479166666700003,1,0.4,"Not Attempted","Not Attempted","Not Attempted","Not Attempted","Not Attempted","Not Available","Not Available",3.9913194444400002E-2,"Not Attempted",1,"Not Attempted","Not Attempted","Not Attempted","Not Attempted","Not Attempted","Not Attempted","Not Available","Not Available",3.8888888888899999E-2,4.7619047619000002E-2,"Not Attempted","Not Attempted","Not Available","Not Available",0,"Not Attempted","Not Attempted","Not Attempted","Not Available","Not Available",0,"Not Available","Not Available","Not Available","Not Available","Not Available",0,"Not Available","Not Available","Not Available",0,"Not Available","audit","N/A","N","N","N/A","enrolled"]
[471949,"netah10000@gmail.com","נטע_הייזלר",0.08,"Not Attempted","Not Attempted",0.76,0.66666666666700003,0.5,"Not Attempted","Not Attempted","Not Attempted","Not Available","Not Available",3.2111111111100002E-2,"Not Attempted","Not Attempted",0.5,0.75,"Not Attempted","Not Attempted","Not Attempted","Not Attempted","Not Available","Not Available",4.8611111111100003E-2,"Not Attempted","Not Attempted","Not Attempted","Not Available","Not Available",0,"Not Attempted","Not Attempted","Not Attempted","Not Available","Not Available",0,"Not Available","Not Available","Not Available","Not Available","Not Available",0,"Not Available","Not Available","Not Available",0,"Not Available","audit","N/A","N","N","N/A","enrolled"]
[472020,"tahel1.ch@gmail.com","תהל_חזות",7.0000000000000007E-2,1,"Not Attempted",0.76,"Not Attempted","Not Attempted","Not Attempted","Not Attempted","Not Attempted","Not Available","Not Available",2.9333333333299998E-2,"Not Attempted","Not Attempted",1,"Not Attempted","Not Attempted","Not Attempted","Not Attempted","Not Attempted","Not Available","Not Available",3.8888888888899999E-2,4.7619047619000002E-2,"Not Attempted","Not Attempted","Not Available","Not Available",0,"Not Attempted","Not Attempted","Not Attempted","Not Available","Not Available",0,"Not Available","Not Available","Not Available","Not Available","Not Available",0,"Not Available","Not Available","Not Available",0,"Not Available","audit","N/A","N","N","N/A","enrolled"]
[472186,"samuellilach33@gmail.com","לילך סמואל",7.0000000000000007E-2,0.875,1,0.4,"Not Attempted","Not Attempted","Not Attempted","Not Attempted","Not Attempted","Not Available","Not Available",3.7916666666700002E-2,"Not Attempted",0.75,"Not Attempted","Not Attempted","Not Attempted","Not Attempted","Not Attempted","Not Attempted","Not Available","Not Available",2.9166666666700002E-2,4.7619047619000002E-2,"Not Attempted","Not Attempted","Not Available","Not Available",0,"Not Attempted","Not Attempted","Not Attempted","Not Available","Not Available",0,"Not Available","Not Available","Not Available","Not Available","Not Available",0,"Not Available","Not Available","Not Available",0,"Not Available","audit","N/A","N","N","N/A","enrolled"]
[471760,"shaharnov8@gmail.com","שחר_68",0,"Not Attempted","Not Attempted","Not Attempted","Not Attempted","Not Attempted","Not Attempted","Not Attempted","Not Attempted","Not Available","Not Available",0,"Not Attempted","Not Attempted","Not Attempted","Not Attempted","Not Attempted","Not Attempted","Not Attempted","Not Attempted","Not Available","Not Available",0,"Not Attempted","Not Attempted","Not Attempted","Not Available","Not Available",0,"Not Attempted","Not Attempted","Not Attempted","Not Available","Not Available",0,"Not Available","Not Available","Not Available","Not Available","Not Available",0,"Not Available","Not Available","Not Available",0,"Not Available","audit","N/A","N","N","N/A","unenrolled"]
[471784,"shrnov1@gmail.com","שחר_נוב",0.08,1,0.875,0.6,"Not Attempted","Not Attempted","Not Attempted","Not Attempted","Not Attempted","Not Available","Not Available",4.1250000000000002E-2,"Not Attempted",1,"Not Attempted","Not Attempted","Not Attempted","Not Attempted","Not Attempted","Not Attempted","Not Available","Not Available",3.8888888888899999E-2,4.7619047619000002E-2,"Not Attempted","Not Attempted","Not Available","Not Available",0,"Not Attempted","Not Attempted","Not Attempted","Not Available","Not Available",0,"Not Available","Not Available","Not Available","Not Available","Not Available",0,"Not Available","Not Available","Not Available",0,"Not Available","audit","N/A","N","N","N/A","enrolled"]
[494376,"shanih2308@gmail.com","shani_hirsch",0.05,0.8125,0.625,"Not Attempted","Not Attempted","Not Attempted","Not Attempted","Not Attempted","Not Attempted","Not Available","Not Available",2.3958333333300001E-2,"Not Attempted",0.75,"Not Attempted","Not Attempted","Not Attempted","Not Attempted","Not Attempted","Not Attempted","Not Available","Not Available",2.9166666666700002E-2,4.7619047619000002E-2,"Not Attempted","Not Attempted","Not Available","Not Available",0,"Not Attempted","Not Attempted","Not Attempted","Not Available","Not Available",0,"Not Available","Not Available","Not Available","Not Available","Not Available",0,"Not Available","Not Available","Not Available",0,"Not Available","audit","N/A","N","N","N/A","enrolled"]
[494618,"tal.tillinger2@gmail.com","tal_tillinger",7.0000000000000007E-2,1,0.7,"Not Attempted","Not Attempted","Not Attempted","Not Attempted","Not Attempted","Not Attempted","Not Available","Not Available",2.8333333333300001E-2,"Not Attempted",1,"Not Attempted","Not Attempted","Not Attempted","Not Attempted","Not Attempted","Not Attempted","Not Available","Not Available",3.8888888888899999E-2,4.7619047619000002E-2,"Not Attempted","Not Attempted","Not Available","Not Available",0,"Not Attempted","Not Attempted","Not Attempted","Not Available","Not Available",0,"Not Available","Not Available","Not Available","Not Available","Not Available",0,"Not Available","Not Available","Not Available",0,"Not Available","audit","N/A","N","N","N/A","enrolled"]
[494796,"tahel030@gmail.com","תהל_יהושע",0.12,1,0.875,1,"Not Attempted","Not Attempted","Not Attempted","Not Attempted","Not Attempted","Not Available","Not Available",4.7916666666699997E-2,"Not Attempted",1,0.75,"Not Attempted","Not Attempted","Not Attempted","Not Attempted","Not Attempted","Not Available","Not Available",6.80555555556E-2,4.7619047619000002E-2,"Not Attempted","Not Attempted","Not Available","Not Available",0,"Not Attempted","Not Attempted","Not Attempted","Not Available","Not Available",0,"Not Available","Not Available","Not Available","Not Available","Not Available",0,"Not Available","Not Available","Not Available",0,"Not Available","audit","N/A","N","N","N/A","enrolled"]
[495775,"inbalav9@gmail.com","ענבל_אברמזון",0.11,1,0.875,0.56000000000000005,"Not Attempted","Not Attempted","Not Attempted","Not Attempted","Not Attempted","Not Available","Not Available",4.0583333333299998E-2,"Not Attempted",0.75,1,"Not Attempted","Not Attempted","Not Attempted","Not Attempted","Not Attempted","Not Available","Not Available",6.80555555556E-2,4.7619047619000002E-2,"Not Attempted","Not Attempted","Not Available","Not Available",0,"Not Attempted","Not Attempted","Not Attempted","Not Available","Not Available",0,"Not Available","Not Available","Not Available","Not Available","Not Available",0,"Not Available","Not Available","Not Available",0,"Not Available","audit","N/A","N","N","N/A","enrolled"]
[498186,"yahli.gillis@gmail.com","יהלי_גיליס",0.04,0.875,0.32500000000000001,"Not Attempted","Not Attempted","Not Attempted","Not Attempted","Not Attempted","Not Attempted","Not Available","Not Available",0.02,"Not Attempted",0.5,"Not Attempted","Not Attempted","Not Attempted","Not Attempted","Not Attempted","Not Attempted","Not Available","Not Available",1.9444444444400001E-2,4.7619047619000002E-2,"Not Attempted","Not Attempted","Not Available","Not Available",0,"Not Attempted","Not Attempted","Not Attempted","Not Available","Not Available",0,"Not Available","Not Available","Not Available","Not Available","Not Available",0,"Not Available","Not Available","Not Available",0,"Not Available","audit","N/A","N","N","N/A","enrolled"]
[498187,"oriyaelharar1@gmail.com","אוריה_אלהרר",0.1,0.875,"Not Attempted","Not Attempted",0,"Not Attempted","Not Attempted","Not Attempted","Not Attempted","Not Available","Not Available",1.4583333333300001E-2,"Not Attempted",0.75,1,0.5,"Not Attempted","Not Attempted","Not Attempted","Not Attempted","Not Available","Not Available",8.7499999999999994E-2,"Not Attempted","Not Attempted","Not Attempted","Not Available","Not Available",0,"Not Attempted","Not Attempted","Not Attempted","Not Available","Not Available",0,"Not Available","Not Available","Not Available","Not Available","Not Available",0,"Not Available","Not Available","Not Available",0,"Not Available","audit","N/A","N","N","N/A","enrolled"]

{"sheet":"לפי שאלות","index":5,"n_rows":12,"n_cols":1622,"rows_kept":12,"cut":false,"hidden":false,"merged":[]}
[]
["Username","Email",null,null,null,null,null,null,null,null,null,null,null,null,null,null,null,null,null,null,null,null,null,null,null,null,null,null,null,null,null,null,null,null,null,null,null,null,null,null,null,null,null,null,null,null,null,null,null,null,null,null,null,null,null,null,null,null,null,null,null,null,null,null,null,null,null,null,null,null,null,null,null,null,null,null,null,null,null,null,null,null,null,null,null,null,null,null,null,null,null,null,null,null,null,null,null,null,null,null,null,null,null,null,null,null,null,null,null,null,null,null,null,null,null,null,null,null,null,null,null,null,null,null,null,null,null,null,null,null,null,null,null,null,null,null,null,null,null,null,null,null,null,null,null,null,null,null,null,null,null,null,null,null,null,null,null,null,null,null,null,null,null,null,null,null,null,null,null,null,null,null,null,null,null,null,null,null,null,null,null,null,null,null,null,null,null,null,null,null,null,null,null,null,null,null,null,null,null,null,null,null,null,null,null,null,null,null,null,null,null,null,null,null,null,null,null,null,null,null,null,null,null,null,null,null,null,null,null,null,null,null,null,null,null,null,null,null,null,null,null,null,null,null,null,null,null,null,null,null,null,null,null,null,null,null,null,null,null,null,null,null,null,null,null,null,null,null,null,null,null,null,null,null,null,null,null,null,null,null,null,null,null,null,null,null,null,null,null,null,null,null,null,null,null,null,null,null,null,null,null,null,null,null,null,null,null,null,null,null,null,null,null,null,null,null,null,null,null,null,null,null,null,null,null,null,null,null,null,null,null,null,null,null,null,null,null,null,null,null,null,null,null,null,null,null,null,null,null,null,null,null,null,null,null,null,null,null,null,null,null,null,null,null,null,null,null,null,null,null,null,null,null,null,null,null,null,null,null,null,null,null,null,null,null,null,null,null,null,null,null,null,null,null,null,null,null,null,null,null,null,null,null,null,null,null,null,null,null,null,null,null,null,null,null,null,null,null,null,null,null,null,null,null,null,null,null,null,null,null,null,null,null,null,null,null,null,null,null,null,null,null,null,null,null,null,null,null,null,null,null,null,null,null,null,null,null,null,null,null,null,null,null,null,null,null,null,null,null,null,null,null,null,null,null,null,null,null,null,null,null,null,null,null,null,null,null,null,null,null,null,null,null,null,null,null,null,null,null,null,null,null,null,null,null,null,null,null,null,null,null,null,null,null,null,null,null,null,null,null,null,null,null,null,null,null,null,null,null,null,null,null,null,null,null,null,null,null,null,null,null,null,null,null,null,null,null,null,null,null,null,null,null,null,null,null,null,null,null,null,null,null,null,null,null,null,null,null,null,null,null,null,null,null,null,null,null,null,null,null,null,null,null,null,null,null,null,null,null,null,null,null,null,null,null,null,null,null,null,null,null,null,null,null,null,null,null,null,null,null,null,null,null,null,null,null,null,null,null,null,null,null,null,null,null,null,null,null,null,null,null,null,null,null,null,null,null,null,null,null,null,null,null,null,null,null,null,null,null,null,null,null,null,null,null,null,null,null,null,null,null,null,null,null,null,null,null,null,null,null,null,null,null,null,null,null,null,null,null,null,null,null,null,null,null,null,null,null,null,null,null,null,null,null,null,null,null,null,null,null,null,null,null,null,null,null,null,null,null,null,null,null,null,null,null,null,null,null,null,null,null,null,null,null,null,null,null,null,null,null,null,null,null,null,null,null,null,null,null,null,null,null,null,null,null,null,null,null,null,null,null,null,null,null,null,null,null,null,null,null,null,null,null,null,null,null,null,null,null,null,null,null,null,null,null,null,null,null,null,null,null,null,null,null,null,null,null,null,null,null,null,null,null,null,null,null,null,null,null,null,null,null,null,null,null,null,null,null,null,null,null,null,null,null,null,null,null,null,null,null,null,null,null,null,null,null,null,null,null,null,null,null,null,null,null,null,null,null,null,null,null,null,null,null,null,null,null,null,null,null,null,null,null,null,null,null,null,null,null,null,null,null,null,null,null,null,null,null,null,null,null,null,null,null,null,null,null,null,null,null,null,null,null,null,null,null,null,null,null,null,null,null,null,null,null,null,null,null,null,null,null,null,null,null,null,null,null,null,null,null,null,null,null,null,null,null,null,null,null,null,null,null,null,null,null,null,null,null,null,null,null,null,null,null,null,null,null,null,null,null,null,null,null,null,null,null,null,null,null,null,null,null,null,null,null,null,null,null,null,null,null,null,null,null,null,null,null,null,null,null,null,null,null,null,null,null,null,null,null,null,null,null,null,null,null,null,null,null,null,null,null,null,null,null,null,null,null,null,null,null,null,null,null,null,null,null,null,null,null,null,null,null,null,null,null,null,null,null,null,null,null,null,null,null,null,null,null,null,null,null,null,null,null,null,null,null,null,null,null,null,null,null,null,null,null,null,null,null,null,null,null,null,null,null,null,null,null,null,null,null,null,null,null,null,null,null,null,null,null,null,null,null,null,null,null,null,null,null,null,null,null,null,null,null,null,null,null,null,null,null,null,null,null,null,null,null,null,null,null,null,null,null,null,null,null,null,null,null,null,null,null,null,null,null,null,null,null,null,null,null,null,null,null,null,null,null,null,null,null,null,null,null,null,null,null,null,null,null,null,null,null,null,null,null,null,null,null,null,null,null,null,null,null,null,null,null,null,null,null,null,null,null,null,null,null,null,null,null,null,null,null,null,null,null,null,null,null,null,null,null,null,null,null,null,null,null,null,null,null,null,null,null,null,null,null,null,null,null,null,null,null,null,null,null,null,null,null,null,null,null,null,null,null,null,null,null,null,null,null,null,null,null,null,null,null,null,null,null,null,null,null,null,null,null,null,null,null,null,null,null,null,null,null,null,null,null,null,null,null,null,null,null,null,null,null,null,null,null,null,null,null,null,null,null,null,null,null,null,null,null,null,null,null,null,null,null,null,null,null,null,null,null,null,null,null,null,null,null,null,null,null,null,null,null,null,null,null,null,null,null,null,null,null,null,null,null,null,null,null,null,null,null,null,null,null,null,null,null,null,null,null,null,null,null,null,null,null,null,null,null,null,null,null,null,null,null,null,null,null,null,null,null,null,null,null,null,null,null,null,null,null,null,null,null,null,null,null,null,null,null,null,null,null,null,null,null,null,null,null,null,null,null,null,null,null,null,null,null,null,null,null,null,null,null,null,null,null,null,null,null,null,null,null,null,null,null,null,null,null,null,null,null,null,null,null,null,null,null,null,null,null,null,null,null,null,null,null,null,null,null,null,null,null,null,null,null,null,null,null,null,null,null,null,null,null,null,null,null,null,null,null,null,null,null,null,null,null,null,null,null,null,null,null,null,null,null,null,null,null,null,null,null,null,null,null,null,null,null,null,null,null,null,null,null,null,null,null,null,null,null,null,null,null,null,null,null,null,null,null,null,null,null,null,null,null,null,null,null,null,null,null,null,null,null,null,null,null,null,null,null,null,null,null,null,null,null,null,null,null,null,null,null,null,null,null,null,null,null,null,null,null,null,null,null,null,null,null,null,null,null,null,null,null,null,null,null,null,null,null,null,null,null,null,null,null,null,null,null,null,null,null,null,null,null,null,null,null,null,null,null,null,null,null,null,null,null,null,null,null,null,null,null,null,null,null,null,null,null,null,null,null,null,null,null,null,null,null,null,null,null,null,null,null,null,null,null,null,null,null,null,null,null,null,null,null,null,null,null,null,null,null,"קדם אנליזה 1: מבדק מסכם - העלאת קבצי פתרון (Possible)"]
[null,null,null,null,null,null,null,null,null,null,null,null,null,null,null,null,null,null,null,null,null,null,null,null,null,null,null,null,null,null,null,null,null,null,null,null,null,null,null,null,null,null,null,null,null,null,null,null,null,null,null,null,null,null,null,null,null,null,null,null,null,null,null,null,null,null,null,null,null,null,null,null,null,null,null,null,null,null,null,null,null,null,null,null,null,null,null,null,null,null,null,null,null,null,null,null,null,null,null,null,null,null,null,null,null,null,null,null,null,null,null,null,null,null,null,null,null,null,null,null,null,null,null,null,null,null,null,null,null,null,null,null,null,null,null,null,null,null,null,null,null,null,null,null,null,null,null,null,null,null,null,null,null,null,null,null,null,null,null,null,null,null,null,null,null,null,null,null,null,null,null,null,null,null,null,null,null,null,null,null,null,null,null,null,null,null,null,null,null,null,null,null,null,null,null,null,null,null,null,null,null,null,null,null,null,null,null,null,null,null,null,null,null,null,null,null,null,null,null,null,null,null,null,null,null,null,null,null,null,null,null,null,null,null,null,null,null,null,null,null,null,null,null,null,null,null,null,null,null,null,null,null,null,null,null,null,null,null,null,null,null,null,null,null,null,null,null,null,null,null,null,null,null,null,null,null,null,null,null,null,null,null,null,null,null,null,null,null,null,null,null,null,null,null,null,null,null,null,null,null,null,null,null,null,null,null,null,null,null,null,null,null,null,null,null,null,null,null,null,null,null,null,null,null,null,null,null,null,null,null,null,null,null,null,null,null,null,null,null,null,null,null,null,null,null,null,null,null,null,null,null,null,null,null,null,null,null,null,null,null,null,null,null,null,null,null,null,null,null,null,null,null,null,null,null,null,null,null,null,null,null,null,null,null,null,null,null,null,null,null,null,null,null,null,null,null,null,null,null,null,null,null,null,null,null,null,null,null,null,null,null,null,null,null,null,null,null,null,null,null,null,null,null,null,null,null,null,null,null,null,null,null,null,null,null,null,null,null,null,null,null,null,null,null,null,null,null,null,null,null,null,null,null,null,null,null,null,null,null,null,null,null,null,null,null,null,null,null,null,null,null,null,null,null,null,null,null,null,null,null,null,null,null,null,null,null,null,null,null,null,null,null,null,null,null,null,null,null,null,null,null,null,null,null,null,null,null,null,null,null,null,null,null,null,null,null,null,null,null,null,null,null,null,null,null,null,null,null,null,null,null,null,null,null,null,null,null,null,null,null,null,null,null,null,null,null,null,null,null,null,null,null,null,null,null,null,null,null,null,null,null,null,null,null,null,null,null,null,null,null,null,null,null,null,null,null,null,null,null,null,null,null,null,null,null,null,null,null,null,null,null,null,null,null,null,null,null,null,null,null,null,null,null,null,null,null,null,null,null,null,null,null,null,null,null,null,null,null,null,null,null,null,null,null,null,null,null,null,null,null,null,null,null,null,null,null,null,null,null,null,null,null,null,null,null,null,null,null,null,null,null,null,null,null,null,null,null,null,null,null,null,null,null,null,null,null,null,null,null,null,null,null,null,null,null,null,null,null,null,null,null,null,null,null,null,null,null,null,null,null,null,null,null,null,null,null,null,null,null,null,null,null,null,null,null,null,null,null,null,null,null,null,null,null,null,null,null,null,null,null,null,null,null,null,null,null,null,null,null,null,null,null,null,null,null,null,null,null,null,null,null,null,null,null,null,null,null,null,null,null,null,null,null,null,null,null,null,null,null,null,null,null,null,null,null,null,null,null,null,null,null,null,null,null,null,null,null,null,null,null,null,null,null,null,null,null,null,null,null,null,null,null,null,null,null,null,null,null,null,null,null,null,null,null,null,null,null,null,null,null,null,null,null,null,null,null,null,null,null,null,null,null,null,null,null,null,null,null,null,null,null,null,null,null,null,null,null,null,null,null,null,null,null,null,null,null,null,null,null,null,null,null,null,null,null,null,null,null,null,null,null,null,null,null,null,null,null,null,null,null,null,null,null,null,null,null,null,null,null,null,null,null,null,null,null,null,null,null,null,null,null,null,null,null,null,null,null,null,null,null,null,null,null,null,null,null,null,null,null,null,null,null,null,null,null,null,null,null,null,null,null,null,null,null,null,null,null,null,null,null,null,null,null,null,null,null,null,null,null,null,null,null,null,null,null,null,null,null,null,null,null,null,null,null,null,null,null,null,null,null,null,null,null,null,null,null,null,null,null,null,null,null,null,null,null,null,null,null,null,null,null,null,null,null,null,null,null,null,null,null,null,null,null,null,null,null,null,null,null,null,null,null,null,null,null,null,null,null,null,null,null,null,null,null,null,null,null,null,null,null,null,null,null,null,null,null,null,null,null,null,null,null,null,null,null,null,null,null,null,null,null,null,null,null,null,null,null,null,null,null,null,null,null,null,null,null,null,null,null,null,null,null,null,null,null,null,null,null,null,null,null,null,null,null,null,null,null,null,null,null,null,null,null,null,null,null,null,null,null,null,null,null,null,null,null,null,null,null,null,null,null,null,null,null,null,null,null,null,null,null,null,null,null,null,null,null,null,null,null,null,null,null,null,null,null,null,null,null,null,null,null,null,null,null,null,null,null,null,null,null,null,null,null,null,null,null,null,null,null,null,null,null,null,null,null,null,null,null,null,null,null,null,null,null,null,null,null,null,null,null,null,null,null,null,null,null,null,null,null,null,null,null,null,null,null,null,null,null,null,null,null,null,null,null,null,null,null,null,null,null,null,null,null,null,null,null,null,null,null,null,null,null,null,null,null,null,null,null,null,null,null,null,null,null,null,null,null,null,null,null,null,null,null,null,null,null,null,null,null,null,null,null,null,null,null,null,null,null,null,null,null,null,null,null,null,null,null,null,null,null,null,null,null,null,null,null,null,null,null,null,null,null,null,null,null,null,null,null,null,null,null,null,null,null,null,null,null,null,null,null,null,null,null,null,null,null,null,null,null,null,null,null,null,null,null,null,null,null,null,null,null,null,null,null,null,null,null,null,null,null,null,null,null,null,null,null,null,null,null,null,null,null,null,null,null,null,null,null,null,null,null,null,null,null,null,null,null,null,null,null,null,null,null,null,null,null,null,null,null,null,null,null,null,null,null,null,null,null,null,null,null,null,null,null,null,null,null,null,null,null,null,null,null,null,null,null,null,null,null,null,null,null,null,null,null,null,null,null,null,null,null,null,null,null,null,null,null,null,null,null,null,null,null,null,null,null,null,null,null,null,null,null,null,null,null,null,null,null,null,null,null,null,null,null,null,null,null,null,null,null,null,null,null,null,null,null,null,null,null,null,null,null,null,null,null,null,null,null,null,null,null,null,null,null,null,null,null,null,null,null,null,null,null,null,null,null,null,null,null,null,null,null,null,null,null,null,null,null,null,null,null,null,null,null,null,null,null,null,null,null,null,null,null,null,null,null,null,null,null,null,null,null,null,null,null,null,null,null,null,null,null,null,null,null,null,null,null,null,null,null,null,null,null,null,null,null,null,null,null,null,null,null,null,null,null,null,null,null,null,null,null,null,null,null,null,null,null,null,null,null,null,null,null,null,null,null,null,null,null,null,null,null,null,null,null,null,null,null,null,null,null,null,null,null,null,null,null,null,null,null,null,null,null,null,null,null,null,null,null,null,null,null,null,null,null,null,null,null,null,null,null,null,null,null,null,null,null,null,null,null,null,"0"]
[null,null,null,null,null,null,null,null,null,null,null,null,null,null,null,null,null,null,null,null,null,null,null,null,null,null,null,null,null,null,null,null,null,null,null,null,null,null,null,null,null,null,null,null,null,null,null,null,null,null,null,null,null,null,null,null,null,null,null,null,null,null,null,null,null,null,null,null,null,null,null,null,null,null,null,null,null,null,null,null,null,null,null,null,null,null,null,null,null,null,null,null,null,null,null,null,null,null,null,null,null,null,null,null,null,null,null,null,null,null,null,null,null,null,null,null,null,null,null,null,null,null,null,null,null,null,null,null,null,null,null,null,null,null,null,null,null,null,null,null,null,null,null,null,null,null,null,null,null,null,null,null,null,null,null,null,null,null,null,null,null,null,null,null,null,null,null,null,null,null,null,null,null,null,null,null,null,null,null,null,null,null,null,null,null,null,null,null,null,null,null,null,null,null,null,null,null,null,null,null,null,null,null,null,null,null,null,null,null,null,null,null,null,null,null,null,null,null,null,null,null,null,null,null,null,null,null,null,null,null,null,null,null,null,null,null,null,null,null,null,null,null,null,null,null,null,null,null,null,null,null,null,null,null,null,null,null,null,null,null,null,null,null,null,null,null,null,null,null,null,null,null,null,null,null,null,null,null,null,null,null,null,null,null,null,null,null,null,null,null,null,null,null,null,null,null,null,null,null,null,null,null,null,null,null,null,null,null,null,null,null,null,null,null,null,null,null,null,null,null,null,null,null,null,null,null,null,null,null,null,null,null,null,null,null,null,null,null,null,null,null,null,null,null,null,null,null,null,null,null,null,null,null,null,null,null,null,null,null,null,null,null,null,null,null,null,null,null,null,null,null,null,null,null,null,null,null,null,null,null,null,null,null,null,null,null,null,null,null,null,null,null,null,null,null,null,null,null,null,null,null,null,null,null,null,null,null,null,null,null,null,null,null,null,null,null,null,null,null,null,null,null,null,null,null,null,null,null,null,null,null,null,null,null,null,null,null,null,null,null,null,null,null,null,null,null,null,null,null,null,null,null,null,null,null,null,null,null,null,null,null,null,null,null,null,null,null,null,null,null,null,null,null,null,null,null,null,null,null,null,null,null,null,null,null,null,null,null,null,null,null,null,null,null,null,null,null,null,null,null,null,null,null,null,null,null,null,null,null,null,null,null,null,null,null,null,null,null,null,null,null,null,null,null,null,null,null,null,null,null,null,null,null,null,null,null,null,null,null,null,null,null,null,null,null,null,null,null,null,null,null,null,null,null,null,null,null,null,null,null,null,null,null,null,null,null,null,null,null,null,null,null,null,null,null,null,null,null,null,null,null,null,null,null,null,null,null,null,null,null,null,null,null,null,null,null,null,null,null,null,null,null,null,null,null,null,null,null,null,null,null,null,null,null,null,null,null,null,null,null,null,null,null,null,null,null,null,null,null,null,null,null,null,null,null,null,null,null,null,null,null,null,null,null,null,null,null,null,null,null,null,null,null,null,null,null,null,null,null,null,null,null,null,null,null,null,null,null,null,null,null,null,null,null,null,null,null,null,null,null,null,null,null,null,null,null,null,null,null,null,null,null,null,null,null,null,null,null,null,null,null,null,null,null,null,null,null,null,null,null,null,null,null,null,null,null,null,null,null,null,null,null,null,null,null,null,null,null,null,null,null,null,null,null,null,null,null,null,null,null,null,null,null,null,null,null,null,null,null,null,null,null,null,null,null,null,null,null,null,null,null,null,null,null,null,null,null,null,null,null,null,null,null,null,null,null,null,null,null,null,null,null,null,null,null,null,null,null,null,null,null,null,null,null,null,null,null,null,null,null,null,null,null,null,null,null,null,null,null,null,null,null,null,null,null,null,null,null,null,null,null,null,null,null,null,null,null,null,null,null,null,null,null,null,null,null,null,null,null,null,null,null,null,null,null,null,null,null,null,null,null,null,null,null,null,null,null,null,null,null,null,null,null,null,null,null,null,null,null,null,null,null,null,null,null,null,null,null,null,null,null,null,null,null,null,null,null,null,null,null,null,null,null,null,null,null,null,null,null,null,null,null,null,null,null,null,null,null,null,null,null,null,null,null,null,null,null,null,null,null,null,null,null,null,null,null,null,null,null,null,null,null,null,null,null,null,null,null,null,null,null,null,null,null,null,null,null,null,null,null,null,null,null,null,null,null,null,null,null,null,null,null,null,null,null,null,null,null,null,null,null,null,null,null,null,null,null,null,null,null,null,null,null,null,null,null,null,null,null,null,null,null,null,null,null,null,null,null,null,null,null,null,null,null,null,null,null,null,null,null,null,null,null,null,null,null,null,null,null,null,null,null,null,null,null,null,null,null,null,null,null,null,null,null,null,null,null,null,null,null,null,null,null,null,null,null,null,null,null,null,null,null,null,null,null,null,null,null,null,null,null,null,null,null,null,null,null,null,null,null,null,null,null,null,null,null,null,null,null,null,null,null,null,null,null,null,null,null,null,null,null,null,null,null,null,null,null,null,null,null,null,null,null,null,null,null,null,null,null,null,null,null,null,null,null,null,null,null,null,null,null,null,null,null,null,null,null,null,null,null,null,null,null,null,null,null,null,null,null,null,null,null,null,null,null,null,null,null,null,null,null,null,null,null,null,null,null,null,null,null,null,null,null,null,null,null,null,null,null,null,null,null,null,null,null,null,null,null,null,null,null,null,null,null,null,null,null,null,null,null,null,null,null,null,null,null,null,null,null,null,null,null,null,null,null,null,null,null,null,null,null,null,null,null,null,null,null,null,null,null,null,null,null,null,null,null,null,null,null,null,null,null,null,null,null,null,null,null,null,null,null,null,null,null,null,null,null,null,null,null,null,null,null,null,null,null,null,null,null,null,null,null,null,null,null,null,null,null,null,null,null,null,null,null,null,null,null,null,null,null,null,null,null,null,null,null,null,null,null,null,null,null,null,null,null,null,null,null,null,null,null,null,null,null,null,null,null,null,null,null,null,null,null,null,null,null,null,null,null,null,null,null,null,null,null,null,null,null,null,null,null,null,null,null,null,null,null,null,null,null,null,null,null,null,null,null,null,null,null,null,null,null,null,null,null,null,null,null,null,null,null,null,null,null,null,null,null,null,null,null,null,null,null,null,null,null,null,null,null,null,null,null,null,null,null,null,null,null,null,null,null,null,null,null,null,null,null,null,null,null,null,null,null,null,null,null,null,null,null,null,null,null,null,null,null,null,null,null,null,null,null,null,null,null,null,null,null,null,null,null,null,null,null,null,null,null,null,null,null,null,null,null,null,null,null,null,null,null,null,null,null,null,null,null,null,null,null,null,null,null,null,null,null,null,null,null,null,null,null,null,null,null,null,null,null,null,null,null,null,null,null,null,null,null,null,null,null,null,null,null,null,null,null,null,null,null,null,null,null,null,null,null,null,null,null,null,null,null,null,null,null,null,null,null,null,null,null,null,null,null,null,null,null,null,null,null,null,null,null,null,null,null,null,null,null,null,null,null,null,null,null,null,null,null,null,null,null,null,null,null,null,null,null,null,null,null,null,null,null,null,null,null,null,null,null,null,null,null,null,null,null,null,null,null,null,null,null,null,null,null,null,null,null,null,null,null,null,null,null,null,null,null,null,null,null,null,null,null,null,null,null,null,null,null,null,null,null,null,null,null,null,null,null,null,null,null,null,null,null,null,null,"0"]
[null,null,null,null,null,null,null,null,null,null,null,null,null,null,null,null,null,null,null,null,null,null,null,null,null,null,null,null,null,null,null,null,null,null,null,null,null,null,null,null,null,null,null,null,null,null,null,null,null,null,null,null,null,null,null,null,null,null,null,null,null,null,null,null,null,null,null,null,null,null,null,null,null,null,null,null,null,null,null,null,null,null,null,null,null,null,null,null,null,null,null,null,null,null,null,null,null,null,null,null,null,null,null,null,null,null,null,null,null,null,null,null,null,null,null,null,null,null,null,null,null,null,null,null,null,null,null,null,null,null,null,null,null,null,null,null,null,null,null,null,null,null,null,null,null,null,null,null,null,null,null,null,null,null,null,null,null,null,null,null,null,null,null,null,null,null,null,null,null,null,null,null,null,null,null,null,null,null,null,null,null,null,null,null,null,null,null,null,null,null,null,null,null,null,null,null,null,null,null,null,null,null,null,null,null,null,null,null,null,null,null,null,null,null,null,null,null,null,null,null,null,null,null,null,null,null,null,null,null,null,null,null,null,null,null,null,null,null,null,null,null,null,null,null,null,null,null,null,null,null,null,null,null,null,null,null,null,null,null,null,null,null,null,null,null,null,null,null,null,null,null,null,null,null,null,null,null,null,null,null,null,null,null,null,null,null,null,null,null,null,null,null,null,null,null,null,null,null,null,null,null,null,null,null,null,null,null,null,null,null,null,null,null,null,null,null,null,null,null,null,null,null,null,null,null,null,null,null,null,null,null,null,null,null,null,null,null,null,null,null,null,null,null,null,null,null,null,null,null,null,null,null,null,null,null,null,null,null,null,null,null,null,null,null,null,null,null,null,null,null,null,null,null,null,null,null,null,null,null,null,null,null,null,null,null,null,null,null,null,null,null,null,null,null,null,null,null,null,null,null,null,null,null,null,null,null,null,null,null,null,null,null,null,null,null,null,null,null,null,null,null,null,null,null,null,null,null,null,null,null,null,null,null,null,null,null,null,null,null,null,null,null,null,null,null,null,null,null,null,null,null,null,null,null,null,null,null,null,null,null,null,null,null,null,null,null,null,null,null,null,null,null,null,null,null,null,null,null,null,null,null,null,null,null,null,null,null,null,null,null,null,null,null,null,null,null,null,null,null,null,null,null,null,null,null,null,null,null,null,null,null,null,null,null,null,null,null,null,null,null,null,null,null,null,null,null,null,null,null,null,null,null,null,null,null,null,null,null,null,null,null,null,null,null,null,null,null,null,null,null,null,null,null,null,null,null,null,null,null,null,null,null,null,null,null,null,null,null,null,null,null,null,null,null,null,null,null,null,null,null,null,null,null,null,null,null,null,null,null,null,null,null,null,null,null,null,null,null,null,null,null,null,null,null,null,null,null,null,null,null,null,null,null,null,null,null,null,null,null,null,null,null,null,null,null,null,null,null,null,null,null,null,null,null,null,null,null,null,null,null,null,null,null,null,null,null,null,null,null,null,null,null,null,null,null,null,null,null,null,null,null,null,null,null,null,null,null,null,null,null,null,null,null,null,null,null,null,null,null,null,null,null,null,null,null,null,null,null,null,null,null,null,null,null,null,null,null,null,null,null,null,null,null,null,null,null,null,null,null,null,null,null,null,null,null,null,null,null,null,null,null,null,null,null,null,null,null,null,null,null,null,null,null,null,null,null,null,null,null,null,null,null,null,null,null,null,null,null,null,null,null,null,null,null,null,null,null,null,null,null,null,null,null,null,null,null,null,null,null,null,null,null,null,null,null,null,null,null,null,null,null,null,null,null,null,null,null,null,null,null,null,null,null,null,null,null,null,null,null,null,null,null,null,null,null,null,null,null,null,null,null,null,null,null,null,null,null,null,null,null,null,null,null,null,null,null,null,null,null,null,null,null,null,null,null,null,null,null,null,null,null,null,null,null,null,null,null,null,null,null,null,null,null,null,null,null,null,null,null,null,null,null,null,null,null,null,null,null,null,null,null,null,null,null,null,null,null,null,null,null,null,null,null,null,null,null,null,null,null,null,null,null,null,null,null,null,null,null,null,null,null,null,null,null,null,null,null,null,null,null,null,null,null,null,null,null,null,null,null,null,null,null,null,null,null,null,null,null,null,null,null,null,null,null,null,null,null,null,null,null,null,null,null,null,null,null,null,null,null,null,null,null,null,null,null,null,null,null,null,null,null,null,null,null,null,null,null,null,null,null,null,null,null,null,null,null,null,null,null,null,null,null,null,null,null,null,null,null,null,null,null,null,null,null,null,null,null,null,null,null,null,null,null,null,null,null,null,null,null,null,null,null,null,null,null,null,null,null,null,null,null,null,null,null,null,null,null,null,null,null,null,null,null,null,null,null,null,null,null,null,null,null,null,null,null,null,null,null,null,null,null,null,null,null,null,null,null,null,null,null,null,null,null,null,null,null,null,null,null,null,null,null,null,null,null,null,null,null,null,null,null,null,null,null,null,null,null,null,null,null,null,null,null,null,null,null,null,null,null,null,null,null,null,null,null,null,null,null,null,null,null,null,null,null,null,null,null,null,null,null,null,null,null,null,null,null,null,null,null,null,null,null,null,null,null,null,null,null,null,null,null,null,null,null,null,null,null,null,null,null,null,null,null,null,null,null,null,null,null,null,null,null,null,null,null,null,null,null,null,null,null,null,null,null,null,null,null,null,null,null,null,null,null,null,null,null,null,null,null,null,null,null,null,null,null,null,null,null,null,null,null,null,null,null,null,null,null,null,null,null,null,null,null,null,null,null,null,null,null,null,null,null,null,null,null,null,null,null,null,null,null,null,null,null,null,null,null,null,null,null,null,null,null,null,null,null,null,null,null,null,null,null,null,null,null,null,null,null,null,null,null,null,null,null,null,null,null,null,null,null,null,null,null,null,null,null,null,null,null,null,null,null,null,null,null,null,null,null,null,null,null,null,null,null,null,null,null,null,null,null,null,null,null,null,null,null,null,null,null,null,null,null,null,null,null,null,null,null,null,null,null,null,null,null,null,null,null,null,null,null,null,null,null,null,null,null,null,null,null,null,null,null,null,null,null,null,null,null,null,null,null,null,null,null,null,null,null,null,null,null,null,null,null,null,null,null,null,null,null,null,null,null,null,null,null,null,null,null,null,null,null,null,null,null,null,null,null,null,null,null,null,null,null,null,null,null,null,null,null,null,null,null,null,null,null,null,null,null,null,null,null,null,null,null,null,null,null,null,null,null,null,null,null,null,null,null,null,null,null,null,null,null,null,null,null,null,null,null,null,null,null,null,null,null,null,null,null,null,null,null,null,null,null,null,null,null,null,null,null,null,null,null,null,null,null,null,null,null,null,null,null,null,null,null,null,null,null,null,null,null,null,null,null,null,null,null,null,null,null,null,null,null,null,null,null,null,null,null,null,null,null,null,null,null,null,null,null,null,null,null,null,null,null,null,null,null,null,null,null,null,null,null,null,null,null,null,null,null,null,null,null,null,null,null,null,null,null,null,null,null,null,null,null,null,null,null,null,null,null,null,null,null,null,null,null,null,null,null,null,null,null,null,null,null,null,null,null,null,null,null,null,null,null,null,null,null,null,null,null,null,null,null,null,null,null,null,null,null,null,null,null,null,null,null,null,null,null,null,null,null,null,null,null,null,null,null,null,null,null,null,null,null,null,null,null,null,null,null,null,null,null,"0"]
[null,null,null,null,null,null,null,null,null,null,null,null,null,null,null,null,null,null,null,null,null,null,null,null,null,null,null,null,null,null,null,null,null,null,null,null,null,null,null,null,null,null,null,null,null,null,null,null,null,null,null,null,null,null,null,null,null,null,null,null,null,null,null,null,null,null,null,null,null,null,null,null,null,null,null,null,null,null,null,null,null,null,null,null,null,null,null,null,null,null,null,null,null,null,null,null,null,null,null,null,null,null,null,null,null,null,null,null,null,null,null,null,null,null,null,null,null,null,null,null,null,null,null,null,null,null,null,null,null,null,null,null,null,null,null,null,null,null,null,null,null,null,null,null,null,null,null,null,null,null,null,null,null,null,null,null,null,null,null,null,null,null,null,null,null,null,null,null,null,null,null,null,null,null,null,null,null,null,null,null,null,null,null,null,null,null,null,null,null,null,null,null,null,null,null,null,null,null,null,null,null,null,null,null,null,null,null,null,null,null,null,null,null,null,null,null,null,null,null,null,null,null,null,null,null,null,null,null,null,null,null,null,null,null,null,null,null,null,null,null,null,null,null,null,null,null,null,null,null,null,null,null,null,null,null,null,null,null,null,null,null,null,null,null,null,null,null,null,null,null,null,null,null,null,null,null,null,null,null,null,null,null,null,null,null,null,null,null,null,null,null,null,null,null,null,null,null,null,null,null,null,null,null,null,null,null,null,null,null,null,null,null,null,null,null,null,null,null,null,null,null,null,null,null,null,null,null,null,null,null,null,null,null,null,null,null,null,null,null,null,null,null,null,null,null,null,null,null,null,null,null,null,null,null,null,null,null,null,null,null,null,null,null,null,null,null,null,null,null,null,null,null,null,null,null,null,null,null,null,null,null,null,null,null,null,null,null,null,null,null,null,null,null,null,null,null,null,null,null,null,null,null,null,null,null,null,null,null,null,null,null,null,null,null,null,null,null,null,null,null,null,null,null,null,null,null,null,null,null,null,null,null,null,null,null,null,null,null,null,null,null,null,null,null,null,null,null,null,null,null,null,null,null,null,null,null,null,null,null,null,null,null,null,null,null,null,null,null,null,null,null,null,null,null,null,null,null,null,null,null,null,null,null,null,null,null,null,null,null,null,null,null,null,null,null,null,null,null,null,null,null,null,null,null,null,null,null,null,null,null,null,null,null,null,null,null,null,null,null,null,null,null,null,null,null,null,null,null,null,null,null,null,null,null,null,null,null,null,null,null,null,null,null,null,null,null,null,null,null,null,null,null,null,null,null,null,null,null,null,null,null,null,null,null,null,null,null,null,null,null,null,null,null,null,null,null,null,null,null,null,null,null,null,null,null,null,null,null,null,null,null,null,null,null,null,null,null,null,null,null,null,null,null,null,null,null,null,null,null,null,null,null,null,null,null,null,null,null,null,null,null,null,null,null,null,null,null,null,null,null,null,null,null,null,null,null,null,null,null,null,null,null,null,null,null,null,null,null,null,null,null,null,null,null,null,null,null,null,null,null,null,null,null,null,null,null,null,null,null,null,null,null,null,null,null,null,null,null,null,null,null,null,null,null,null,null,null,null,null,null,null,null,null,null,null,null,null,null,null,null,null,null,null,null,null,null,null,null,null,null,null,null,null,null,null,null,null,null,null,null,null,null,null,null,null,null,null,null,null,null,null,null,null,null,null,null,null,null,null,null,null,null,null,null,null,null,null,null,null,null,null,null,null,null,null,null,null,null,null,null,null,null,null,null,null,null,null,null,null,null,null,null,null,null,null,null,null,null,null,null,null,null,null,null,null,null,null,null,null,null,null,null,null,null,null,null,null,null,null,null,null,null,null,null,null,null,null,null,null,null,null,null,null,null,null,null,null,null,null,null,null,null,null,null,null,null,null,null,null,null,null,null,null,null,null,null,null,null,null,null,null,null,null,null,null,null,null,null,null,null,null,null,null,null,null,null,null,null,null,null,null,null,null,null,null,null,null,null,null,null,null,null,null,null,null,null,null,null,null,null,null,null,null,null,null,null,null,null,null,null,null,null,null,null,null,null,null,null,null,null,null,null,null,null,null,null,null,null,null,null,null,null,null,null,null,null,null,null,null,null,null,null,null,null,null,null,null,null,null,null,null,null,null,null,null,null,null,null,null,null,null,null,null,null,null,null,null,null,null,null,null,null,null,null,null,null,null,null,null,null,null,null,null,null,null,null,null,null,null,null,null,null,null,null,null,null,null,null,null,null,null,null,null,null,null,null,null,null,null,null,null,null,null,null,null,null,null,null,null,null,null,null,null,null,null,null,null,null,null,null,null,null,null,null,null,null,null,null,null,null,null,null,null,null,null,null,null,null,null,null,null,null,null,null,null,null,null,null,null,null,null,null,null,null,null,null,null,null,null,null,null,null,null,null,null,null,null,null,null,null,null,null,null,null,null,null,null,null,null,null,null,null,null,null,null,null,null,null,null,null,null,null,null,null,null,null,null,null,null,null,null,null,null,null,null,null,null,null,null,null,null,null,null,null,null,null,null,null,null,null,null,null,null,null,null,null,null,null,null,null,null,null,null,null,null,null,null,null,null,null,null,null,null,null,null,null,null,null,null,null,null,null,null,null,null,null,null,null,null,null,null,null,null,null,null,null,null,null,null,null,null,null,null,null,null,null,null,null,null,null,null,null,null,null,null,null,null,null,null,null,null,null,null,null,null,null,null,null,null,null,null,null,null,null,null,null,null,null,null,null,null,null,null,null,null,null,null,null,null,null,null,null,null,null,null,null,null,null,null,null,null,null,null,null,null,null,null,null,null,null,null,null,null,null,null,null,null,null,null,null,null,null,null,null,null,null,null,null,null,null,null,null,null,null,null,null,null,null,null,null,null,null,null,null,null,null,null,null,null,null,null,null,null,null,null,null,null,null,null,null,null,null,null,null,null,null,null,null,null,null,null,null,null,null,null,null,null,null,null,null,null,null,null,null,null,null,null,null,null,null,null,null,null,null,null,null,null,null,null,null,null,null,null,null,null,null,null,null,null,null,null,null,null,null,null,null,null,null,null,null,null,null,null,null,null,null,null,null,null,null,null,null,null,null,null,null,null,null,null,null,null,null,null,null,null,null,null,null,null,null,null,null,null,null,null,null,null,null,null,null,null,null,null,null,null,null,null,null,null,null,null,null,null,null,null,null,null,null,null,null,null,null,null,null,null,null,null,null,null,null,null,null,null,null,null,null,null,null,null,null,null,null,null,null,null,null,null,null,null,null,null,null,null,null,null,null,null,null,null,null,null,null,null,null,null,null,null,null,null,null,null,null,null,null,null,null,null,null,null,null,null,null,null,null,null,null,null,null,null,null,null,null,null,null,null,null,null,null,null,null,null,null,null,null,null,null,null,null,null,null,null,null,null,null,null,null,null,null,null,null,null,null,null,null,null,null,null,null,null,null,null,null,null,null,null,null,null,null,null,null,null,null,null,null,null,null,null,null,null,null,null,null,null,null,null,null,null,null,null,null,null,null,null,null,null,null,null,null,null,null,null,null,null,null,null,null,null,null,null,null,null,null,null,null,null,null,null,null,null,null,null,null,null,null,null,null,null,null,null,null,null,null,null,null,null,null,null,null,null,null,null,null,null,null,null,null,null,null,null,null,null,null,null,null,null,null,null,null,null,null,null,null,null,null,null,null,null,null,null,null,null,"0"]
[null,null,null,null,null,null,null,null,null,null,null,null,null,null,null,null,null,null,null,null,null,null,null,null,null,null,null,null,null,null,null,null,null,null,null,null,null,null,null,null,null,null,null,null,null,null,null,null,null,null,null,null,null,null,null,null,null,null,null,null,null,null,null,null,null,null,null,null,null,null,null,null,null,null,null,null,null,null,null,null,null,null,null,null,null,null,null,null,null,null,null,null,null,null,null,null,null,null,null,null,null,null,null,null,null,null,null,null,null,null,null,null,null,null,null,null,null,null,null,null,null,null,null,null,null,null,null,null,null,null,null,null,null,null,null,null,null,null,null,null,null,null,null,null,null,null,null,null,null,null,null,null,null,null,null,null,null,null,null,null,null,null,null,null,null,null,null,null,null,null,null,null,null,null,null,null,null,null,null,null,null,null,null,null,null,null,null,null,null,null,null,null,null,null,null,null,null,null,null,null,null,null,null,null,null,null,null,null,null,null,null,null,null,null,null,null,null,null,null,null,null,null,null,null,null,null,null,null,null,null,null,null,null,null,null,null,null,null,null,null,null,null,null,null,null,null,null,null,null,null,null,null,null,null,null,null,null,null,null,null,null,null,null,null,null,null,null,null,null,null,null,null,null,null,null,null,null,null,null,null,null,null,null,null,null,null,null,null,null,null,null,null,null,null,null,null,null,null,null,null,null,null,null,null,null,null,null,null,null,null,null,null,null,null,null,null,null,null,null,null,null,null,null,null,null,null,null,null,null,null,null,null,null,null,null,null,null,null,null,null,null,null,null,null,null,null,null,null,null,null,null,null,null,null,null,null,null,null,null,null,null,null,null,null,null,null,null,null,null,null,null,null,null,null,null,null,null,null,null,null,null,null,null,null,null,null,null,null,null,null,null,null,null,null,null,null,null,null,null,null,null,null,null,null,null,null,null,null,null,null,null,null,null,null,null,null,null,null,null,null,null,null,null,null,null,null,null,null,null,null,null,null,null,null,null,null,null,null,null,null,null,null,null,null,null,null,null,null,null,null,null,null,null,null,null,null,null,null,null,null,null,null,null,null,null,null,null,null,null,null,null,null,null,null,null,null,null,null,null,null,null,null,null,null,null,null,null,null,null,null,null,null,null,null,null,null,null,null,null,null,null,null,null,null,null,null,null,null,null,null,null,null,null,null,null,null,null,null,null,null,null,null,null,null,null,null,null,null,null,null,null,null,null,null,null,null,null,null,null,null,null,null,null,null,null,null,null,null,null,null,null,null,null,null,null,null,null,null,null,null,null,null,null,null,null,null,null,null,null,null,null,null,null,null,null,null,null,null,null,null,null,null,null,null,null,null,null,null,null,null,null,null,null,null,null,null,null,null,null,null,null,null,null,null,null,null,null,null,null,null,null,null,null,null,null,null,null,null,null,null,null,null,null,null,null,null,null,null,null,null,null,null,null,null,null,null,null,null,null,null,null,null,null,null,null,null,null,null,null,null,null,null,null,null,null,null,null,null,null,null,null,null,null,null,null,null,null,null,null,null,null,null,null,null,null,null,null,null,null,null,null,null,null,null,null,null,null,null,null,null,null,null,null,null,null,null,null,null,null,null,null,null,null,null,null,null,null,null,null,null,null,null,null,null,null,null,null,null,null,null,null,null,null,null,null,null,null,null,null,null,null,null,null,null,null,null,null,null,null,null,null,null,null,null,null,null,null,null,null,null,null,null,null,null,null,null,null,null,null,null,null,null,null,null,null,null,null,null,null,null,null,null,null,null,null,null,null,null,null,null,null,null,null,null,null,null,null,null,null,null,null,null,null,null,null,null,null,null,null,null,null,null,null,null,null,null,null,null,null,null,null,null,null,null,null,null,null,null,null,null,null,null,null,null,null,null,null,null,null,null,null,null,null,null,null,null,null,null,null,null,null,null,null,null,null,null,null,null,null,null,null,null,null,null,null,null,null,null,null,null,null,null,null,null,null,null,null,null,null,null,null,null,null,null,null,null,null,null,null,null,null,null,null,null,null,null,null,null,null,null,null,null,null,null,null,null,null,null,null,null,null,null,null,null,null,null,null,null,null,null,null,null,null,null,null,null,null,null,null,null,null,null,null,null,null,null,null,null,null,null,null,null,null,null,null,null,null,null,null,null,null,null,null,null,null,null,null,null,null,null,null,null,null,null,null,null,null,null,null,null,null,null,null,null,null,null,null,null,null,null,null,null,null,null,null,null,null,null,null,null,null,null,null,null,null,null,null,null,null,null,null,null,null,null,null,null,null,null,null,null,null,null,null,null,null,null,null,null,null,null,null,null,null,null,null,null,null,null,null,null,null,null,null,null,null,null,null,null,null,null,null,null,null,null,null,null,null,null,null,null,null,null,null,null,null,null,null,null,null,null,null,null,null,null,null,null,null,null,null,null,null,null,null,null,null,null,null,null,null,null,null,null,null,null,null,null,null,null,null,null,null,null,null,null,null,null,null,null,null,null,null,null,null,null,null,null,null,null,null,null,null,null,null,null,null,null,null,null,null,null,null,null,null,null,null,null,null,null,null,null,null,null,null,null,null,null,null,null,null,null,null,null,null,null,null,null,null,null,null,null,null,null,null,null,null,null,null,null,null,null,null,null,null,null,null,null,null,null,null,null,null,null,null,null,null,null,null,null,null,null,null,null,null,null,null,null,null,null,null,null,null,null,null,null,null,null,null,null,null,null,null,null,null,null,null,null,null,null,null,null,null,null,null,null,null,null,null,null,null,null,null,null,null,null,null,null,null,null,null,null,null,null,null,null,null,null,null,null,null,null,null,null,null,null,null,null,null,null,null,null,null,null,null,null,null,null,null,null,null,null,null,null,null,null,null,null,null,null,null,null,null,null,null,null,null,null,null,null,null,null,null,null,null,null,null,null,null,null,null,null,null,null,null,null,null,null,null,null,null,null,null,null,null,null,null,null,null,null,null,null,null,null,null,null,null,null,null,null,null,null,null,null,null,null,null,null,null,null,null,null,null,null,null,null,null,null,null,null,null,null,null,null,null,null,null,null,null,null,null,null,null,null,null,null,null,null,null,null,null,null,null,null,null,null,null,null,null,null,null,null,null,null,null,null,null,null,null,null,null,null,null,null,null,null,null,null,null,null,null,null,null,null,null,null,null,null,null,null,null,null,null,null,null,null,null,null,null,null,null,null,null,null,null,null,null,null,null,null,null,null,null,null,null,null,null,null,null,null,null,null,null,null,null,null,null,null,null,null,null,null,null,null,null,null,null,null,null,null,null,null,null,null,null,null,null,null,null,null,null,null,null,null,null,null,null,null,null,null,null,null,null,null,null,null,null,null,null,null,null,null,null,null,null,null,null,null,null,null,null,null,null,null,null,null,null,null,null,null,null,null,null,null,null,null,null,null,null,null,null,null,null,null,null,null,null,null,null,null,null,null,null,null,null,null,null,null,null,null,null,null,null,null,null,null,null,null,null,null,null,null,null,null,null,null,null,null,null,null,null,null,null,null,null,null,null,null,null,null,null,null,null,null,null,null,null,null,null,null,null,null,null,null,null,null,null,null,null,null,null,null,null,null,null,null,null,null,null,null,null,null,null,null,null,null,null,null,null,null,null,null,null,null,null,null,null,null,null,null,null,null,null,null,null,null,null,null,null,null,null,null,null,null,null,null,null,null,null,null,null,null,null,"0"]
[null,null,null,null,null,null,null,null,null,null,null,null,null,null,null,null,null,null,null,null,null,null,null,null,null,null,null,null,null,null,null,null,null,null,null,null,null,null,null,null,null,null,null,null,null,null,null,null,null,null,null,null,null,null,null,null,null,null,null,null,null,null,null,null,null,null,null,null,null,null,null,null,null,null,null,null,null,null,null,null,null,null,null,null,null,null,null,null,null,null,null,null,null,null,null,null,null,null,null,null,null,null,null,null,null,null,null,null,null,null,null,null,null,null,null,null,null,null,null,null,null,null,null,null,null,null,null,null,null,null,null,null,null,null,null,null,null,null,null,null,null,null,null,null,null,null,null,null,null,null,null,null,null,null,null,null,null,null,null,null,null,null,null,null,null,null,null,null,null,null,null,null,null,null,null,null,null,null,null,null,null,null,null,null,null,null,null,null,null,null,null,null,null,null,null,null,null,null,null,null,null,null,null,null,null,null,null,null,null,null,null,null,null,null,null,null,null,null,null,null,null,null,null,null,null,null,null,null,null,null,null,null,null,null,null,null,null,null,null,null,null,null,null,null,null,null,null,null,null,null,null,null,null,null,null,null,null,null,null,null,null,null,null,null,null,null,null,null,null,null,null,null,null,null,null,null,null,null,null,null,null,null,null,null,null,null,null,null,null,null,null,null,null,null,null,null,null,null,null,null,null,null,null,null,null,null,null,null,null,null,null,null,null,null,null,null,null,null,null,null,null,null,null,null,null,null,null,null,null,null,null,null,null,null,null,null,null,null,null,null,null,null,null,null,null,null,null,null,null,null,null,null,null,null,null,null,null,null,null,null,null,null,null,null,null,null,null,null,null,null,null,null,null,null,null,null,null,null,null,null,null,null,null,null,null,null,null,null,null,null,null,null,null,null,null,null,null,null,null,null,null,null,null,null,null,null,null,null,null,null,null,null,null,null,null,null,null,null,null,null,null,null,null,null,null,null,null,null,null,null,null,null,null,null,null,null,null,null,null,null,null,null,null,null,null,null,null,null,null,null,null,null,null,null,null,null,null,null,null,null,null,null,null,null,null,null,null,null,null,null,null,null,null,null,null,null,null,null,null,null,null,null,null,null,null,null,null,null,null,null,null,null,null,null,null,null,null,null,null,null,null,null,null,null,null,null,null,null,null,null,null,null,null,null,null,null,null,null,null,null,null,null,null,null,null,null,null,null,null,null,null,null,null,null,null,null,null,null,null,null,null,null,null,null,null,null,null,null,null,null,null,null,null,null,null,null,null,null,null,null,null,null,null,null,null,null,null,null,null,null,null,null,null,null,null,null,null,null,null,null,null,null,null,null,null,null,null,null,null,null,null,null,null,null,null,null,null,null,null,null,null,null,null,null,null,null,null,null,null,null,null,null,null,null,null,null,null,null,null,null,null,null,null,null,null,null,null,null,null,null,null,null,null,null,null,null,null,null,null,null,null,null,null,null,null,null,null,null,null,null,null,null,null,null,null,null,null,null,null,null,null,null,null,null,null,null,null,null,null,null,null,null,null,null,null,null,null,null,null,null,null,null,null,null,null,null,null,null,null,null,null,null,null,null,null,null,null,null,null,null,null,null,null,null,null,null,null,null,null,null,null,null,null,null,null,null,null,null,null,null,null,null,null,null,null,null,null,null,null,null,null,null,null,null,null,null,null,null,null,null,null,null,null,null,null,null,null,null,null,null,null,null,null,null,null,null,null,null,null,null,null,null,null,null,null,null,null,null,null,null,null,null,null,null,null,null,null,null,null,null,null,null,null,null,null,null,null,null,null,null,null,null,null,null,null,null,null,null,null,null,null,null,null,null,null,null,null,null,null,null,null,null,null,null,null,null,null,null,null,null,null,null,null,null,null,null,null,null,null,null,null,null,null,null,null,null,null,null,null,null,null,null,null,null,null,null,null,null,null,null,null,null,null,null,null,null,null,null,null,null,null,null,null,null,null,null,null,null,null,null,null,null,null,null,null,null,null,null,null,null,null,null,null,null,null,null,null,null,null,null,null,null,null,null,null,null,null,null,null,null,null,null,null,null,null,null,null,null,null,null,null,null,null,null,null,null,null,null,null,null,null,null,null,null,null,null,null,null,null,null,null,null,null,null,null,null,null,null,null,null,null,null,null,null,null,null,null,null,null,null,null,null,null,null,null,null,null,null,null,null,null,null,null,null,null,null,null,null,null,null,null,null,null,null,null,null,null,null,null,null,null,null,null,null,null,null,null,null,null,null,null,null,null,null,null,null,null,null,null,null,null,null,null,null,null,null,null,null,null,null,null,null,null,null,null,null,null,null,null,null,null,null,null,null,null,null,null,null,null,null,null,null,null,null,null,null,null,null,null,null,null,null,null,null,null,null,null,null,null,null,null,null,null,null,null,null,null,null,null,null,null,null,null,null,null,null,null,null,null,null,null,null,null,null,null,null,null,null,null,null,null,null,null,null,null,null,null,null,null,null,null,null,null,null,null,null,null,null,null,null,null,null,null,null,null,null,null,null,null,null,null,null,null,null,null,null,null,null,null,null,null,null,null,null,null,null,null,null,null,null,null,null,null,null,null,null,null,null,null,null,null,null,null,null,null,null,null,null,null,null,null,null,null,null,null,null,null,null,null,null,null,null,null,null,null,null,null,null,null,null,null,null,null,null,null,null,null,null,null,null,null,null,null,null,null,null,null,null,null,null,null,null,null,null,null,null,null,null,null,null,null,null,null,null,null,null,null,null,null,null,null,null,null,null,null,null,null,null,null,null,null,null,null,null,null,null,null,null,null,null,null,null,null,null,null,null,null,null,null,null,null,null,null,null,null,null,null,null,null,null,null,null,null,null,null,null,null,null,null,null,null,null,null,null,null,null,null,null,null,null,null,null,null,null,null,null,null,null,null,null,null,null,null,null,null,null,null,null,null,null,null,null,null,null,null,null,null,null,null,null,null,null,null,null,null,null,null,null,null,null,null,null,null,null,null,null,null,null,null,null,null,null,null,null,null,null,null,null,null,null,null,null,null,null,null,null,null,null,null,null,null,null,null,null,null,null,null,null,null,null,null,null,null,null,null,null,null,null,null,null,null,null,null,null,null,null,null,null,null,null,null,null,null,null,null,null,null,null,null,null,null,null,null,null,null,null,null,null,null,null,null,null,null,null,null,null,null,null,null,null,null,null,null,null,null,null,null,null,null,null,null,null,null,null,null,null,null,null,null,null,null,null,null,null,null,null,null,null,null,null,null,null,null,null,null,null,null,null,null,null,null,null,null,null,null,null,null,null,null,null,null,null,null,null,null,null,null,null,null,null,null,null,null,null,null,null,null,null,null,null,null,null,null,null,null,null,null,null,null,null,null,null,null,null,null,null,null,null,null,null,null,null,null,null,null,null,null,null,null,null,null,null,null,null,null,null,null,null,null,null,null,null,null,null,null,null,null,null,null,null,null,null,null,null,null,null,null,null,null,null,null,null,null,null,null,null,null,null,null,null,null,null,null,null,null,null,null,null,null,null,null,null,null,null,null,null,null,null,null,null,null,null,null,null,null,null,null,null,null,null,null,null,null,null,null,null,null,null,null,null,null,null,null,null,null,null,null,null,null,null,null,null,null,null,null,null,null,null,null,null,null,null,null,null,null,null,null,null,null,null,null,null,null,null,null,null,null,null,null,null,null,"0"]
[null,null,null,null,null,null,null,null,null,null,null,null,null,null,null,null,null,null,null,null,null,null,null,null,null,null,null,null,null,null,null,null,null,null,null,null,null,null,null,null,null,null,null,null,null,null,null,null,null,null,null,null,null,null,null,null,null,null,null,null,null,null,null,null,null,null,null,null,null,null,null,null,null,null,null,null,null,null,null,null,null,null,null,null,null,null,null,null,null,null,null,null,null,null,null,null,null,null,null,null,null,null,null,null,null,null,null,null,null,null,null,null,null,null,null,null,null,null,null,null,null,null,null,null,null,null,null,null,null,null,null,null,null,null,null,null,null,null,null,null,null,null,null,null,null,null,null,null,null,null,null,null,null,null,null,null,null,null,null,null,null,null,null,null,null,null,null,null,null,null,null,null,null,null,null,null,null,null,null,null,null,null,null,null,null,null,null,null,null,null,null,null,null,null,null,null,null,null,null,null,null,null,null,null,null,null,null,null,null,null,null,null,null,null,null,null,null,null,null,null,null,null,null,null,null,null,null,null,null,null,null,null,null,null,null,null,null,null,null,null,null,null,null,null,null,null,null,null,null,null,null,null,null,null,null,null,null,null,null,null,null,null,null,null,null,null,null,null,null,null,null,null,null,null,null,null,null,null,null,null,null,null,null,null,null,null,null,null,null,null,null,null,null,null,null,null,null,null,null,null,null,null,null,null,null,null,null,null,null,null,null,null,null,null,null,null,null,null,null,null,null,null,null,null,null,null,null,null,null,null,null,null,null,null,null,null,null,null,null,null,null,null,null,null,null,null,null,null,null,null,null,null,null,null,null,null,null,null,null,null,null,null,null,null,null,null,null,null,null,null,null,null,null,null,null,null,null,null,null,null,null,null,null,null,null,null,null,null,null,null,null,null,null,null,null,null,null,null,null,null,null,null,null,null,null,null,null,null,null,null,null,null,null,null,null,null,null,null,null,null,null,null,null,null,null,null,null,null,null,null,null,null,null,null,null,null,null,null,null,null,null,null,null,null,null,null,null,null,null,null,null,null,null,null,null,null,null,null,null,null,null,null,null,null,null,null,null,null,null,null,null,null,null,null,null,null,null,null,null,null,null,null,null,null,null,null,null,null,null,null,null,null,null,null,null,null,null,null,null,null,null,null,null,null,null,null,null,null,null,null,null,null,null,null,null,null,null,null,null,null,null,null,null,null,null,null,null,null,null,null,null,null,null,null,null,null,null,null,null,null,null,null,null,null,null,null,null,null,null,null,null,null,null,null,null,null,null,null,null,null,null,null,null,null,null,null,null,null,null,null,null,null,null,null,null,null,null,null,null,null,null,null,null,null,null,null,null,null,null,null,null,null,null,null,null,null,null,null,null,null,null,null,null,null,null,null,null,null,null,null,null,null,null,null,null,null,null,null,null,null,null,null,null,null,null,null,null,null,null,null,null,null,null,null,null,null,null,null,null,null,null,null,null,null,null,null,null,null,null,null,null,null,null,null,null,null,null,null,null,null,null,null,null,null,null,null,null,null,null,null,null,null,null,null,null,null,null,null,null,null,null,null,null,null,null,null,null,null,null,null,null,null,null,null,null,null,null,null,null,null,null,null,null,null,null,null,null,null,null,null,null,null,null,null,null,null,null,null,null,null,null,null,null,null,null,null,null,null,null,null,null,null,null,null,null,null,null,null,null,null,null,null,null,null,null,null,null,null,null,null,null,null,null,null,null,null,null,null,null,null,null,null,null,null,null,null,null,null,null,null,null,null,null,null,null,null,null,null,null,null,null,null,null,null,null,null,null,null,null,null,null,null,null,null,null,null,null,null,null,null,null,null,null,null,null,null,null,null,null,null,null,null,null,null,null,null,null,null,null,null,null,null,null,null,null,null,null,null,null,null,null,null,null,null,null,null,null,null,null,null,null,null,null,null,null,null,null,null,null,null,null,null,null,null,null,null,null,null,null,null,null,null,null,null,null,null,null,null,null,null,null,null,null,null,null,null,null,null,null,null,null,null,null,null,null,null,null,null,null,null,null,null,null,null,null,null,null,null,null,null,null,null,null,null,null,null,null,null,null,null,null,null,null,null,null,null,null,null,null,null,null,null,null,null,null,null,null,null,null,null,null,null,null,null,null,null,null,null,null,null,null,null,null,null,null,null,null,null,null,null,null,null,null,null,null,null,null,null,null,null,null,null,null,null,null,null,null,null,null,null,null,null,null,null,null,null,null,null,null,null,null,null,null,null,null,null,null,null,null,null,null,null,null,null,null,null,null,null,null,null,null,null,null,null,null,null,null,null,null,null,null,null,null,null,null,null,null,null,null,null,null,null,null,null,null,null,null,null,null,null,null,null,null,null,null,null,null,null,null,null,null,null,null,null,null,null,null,null,null,null,null,null,null,null,null,null,null,null,null,null,null,null,null,null,null,null,null,null,null,null,null,null,null,null,null,null,null,null,null,null,null,null,null,null,null,null,null,null,null,null,null,null,null,null,null,null,null,null,null,null,null,null,null,null,null,null,null,null,null,null,null,null,null,null,null,null,null,null,null,null,null,null,null,null,null,null,null,null,null,null,null,null,null,null,null,null,null,null,null,null,null,null,null,null,null,null,null,null,null,null,null,null,null,null,null,null,null,null,null,null,null,null,null,null,null,null,null,null,null,null,null,null,null,null,null,null,null,null,null,null,null,null,null,null,null,null,null,null,null,null,null,null,null,null,null,null,null,null,null,null,null,null,null,null,null,null,null,null,null,null,null,null,null,null,null,null,null,null,null,null,null,null,null,null,null,null,null,null,null,null,null,null,null,null,null,null,null,null,null,null,null,null,null,null,null,null,null,null,null,null,null,null,null,null,null,null,null,null,null,null,null,null,null,null,null,null,null,null,null,null,null,null,null,null,null,null,null,null,null,null,null,null,null,null,null,null,null,null,null,null,null,null,null,null,null,null,null,null,null,null,null,null,null,null,null,null,null,null,null,null,null,null,null,null,null,null,null,null,null,null,null,null,null,null,null,null,null,null,null,null,null,null,null,null,null,null,null,null,null,null,null,null,null,null,null,null,null,null,null,null,null,null,null,null,null,null,null,null,null,null,null,null,null,null,null,null,null,null,null,null,null,null,null,null,null,null,null,null,null,null,null,null,null,null,null,null,null,null,null,null,null,null,null,null,null,null,null,null,null,null,null,null,null,null,null,null,null,null,null,null,null,null,null,null,null,null,null,null,null,null,null,null,null,null,null,null,null,null,null,null,null,null,null,null,null,null,null,null,null,null,null,null,null,null,null,null,null,null,null,null,null,null,null,null,null,null,null,null,null,null,null,null,null,null,null,null,null,null,null,null,null,null,null,null,null,null,null,null,null,null,null,null,null,null,null,null,null,null,null,null,null,null,null,null,null,null,null,null,null,null,null,null,null,null,null,null,null,null,null,null,null,null,null,null,null,null,null,null,null,null,null,null,null,null,null,null,null,null,null,null,null,null,null,null,null,null,null,null,null,null,null,null,null,null,null,null,null,null,null,null,null,null,null,null,null,null,null,null,null,null,null,null,null,null,null,null,null,null,null,null,null,null,null,null,null,null,null,null,null,null,null,null,null,null,null,null,null,null,null,null,null,null,null,null,null,null,null,null,null,null,null,null,null,null,null,null,null,null,null,null,null,null,null,null,null,null,null,null,null,null,null,"0"]
[null,null,null,null,null,null,null,null,null,null,null,null,null,null,null,null,null,null,null,null,null,null,null,null,null,null,null,null,null,null,null,null,null,null,null,null,null,null,null,null,null,null,null,null,null,null,null,null,null,null,null,null,null,null,null,null,null,null,null,null,null,null,null,null,null,null,null,null,null,null,null,null,null,null,null,null,null,null,null,null,null,null,null,null,null,null,null,null,null,null,null,null,null,null,null,null,null,null,null,null,null,null,null,null,null,null,null,null,null,null,null,null,null,null,null,null,null,null,null,null,null,null,null,null,null,null,null,null,null,null,null,null,null,null,null,null,null,null,null,null,null,null,null,null,null,null,null,null,null,null,null,null,null,null,null,null,null,null,null,null,null,null,null,null,null,null,null,null,null,null,null,null,null,null,null,null,null,null,null,null,null,null,null,null,null,null,null,null,null,null,null,null,null,null,null,null,null,null,null,null,null,null,null,null,null,null,null,null,null,null,null,null,null,null,null,null,null,null,null,null,null,null,null,null,null,null,null,null,null,null,null,null,null,null,null,null,null,null,null,null,null,null,null,null,null,null,null,null,null,null,null,null,null,null,null,null,null,null,null,null,null,null,null,null,null,null,null,null,null,null,null,null,null,null,null,null,null,null,null,null,null,null,null,null,null,null,null,null,null,null,null,null,null,null,null,null,null,null,null,null,null,null,null,null,null,null,null,null,null,null,null,null,null,null,null,null,null,null,null,null,null,null,null,null,null,null,null,null,null,null,null,null,null,null,null,null,null,null,null,null,null,null,null,null,null,null,null,null,null,null,null,null,null,null,null,null,null,null,null,null,null,null,null,null,null,null,null,null,null,null,null,null,null,null,null,null,null,null,null,null,null,null,null,null,null,null,null,null,null,null,null,null,null,null,null,null,null,null,null,null,null,null,null,null,null,null,null,null,null,null,null,null,null,null,null,null,null,null,null,null,null,null,null,null,null,null,null,null,null,null,null,null,null,null,null,null,null,null,null,null,null,null,null,null,null,null,null,null,null,null,null,null,null,null,null,null,null,null,null,null,null,null,null,null,null,null,null,null,null,null,null,null,null,null,null,null,null,null,null,null,null,null,null,null,null,null,null,null,null,null,null,null,null,null,null,null,null,null,null,null,null,null,null,null,null,null,null,null,null,null,null,null,null,null,null,null,null,null,null,null,null,null,null,null,null,null,null,null,null,null,null,null,null,null,null,null,null,null,null,null,null,null,null,null,null,null,null,null,null,null,null,null,null,null,null,null,null,null,null,null,null,null,null,null,null,null,null,null,null,null,null,null,null,null,null,null,null,null,null,null,null,null,null,null,null,null,null,null,null,null,null,null,null,null,null,null,null,null,null,null,null,null,null,null,null,null,null,null,null,null,null,null,null,null,null,null,null,null,null,null,null,null,null,null,null,null,null,null,null,null,null,null,null,null,null,null,null,null,null,null,null,null,null,null,null,null,null,null,null,null,null,null,null,null,null,null,null,null,null,null,null,null,null,null,null,null,null,null,null,null,null,null,null,null,null,null,null,null,null,null,null,null,null,null,null,null,null,null,null,null,null,null,null,null,null,null,null,null,null,null,null,null,null,null,null,null,null,null,null,null,null,null,null,null,null,null,null,null,null,null,null,null,null,null,null,null,null,null,null,null,null,null,null,null,null,null,null,null,null,null,null,null,null,null,null,null,null,null,null,null,null,null,null,null,null,null,null,null,null,null,null,null,null,null,null,null,null,null,null,null,null,null,null,null,null,null,null,null,null,null,null,null,null,null,null,null,null,null,null,null,null,null,null,null,null,null,null,null,null,null,null,null,null,null,null,null,null,null,null,null,null,null,null,null,null,null,null,null,null,null,null,null,null,null,null,null,null,null,null,null,null,null,null,null,null,null,null,null,null,null,null,null,null,null,null,null,null,null,null,null,null,null,null,null,null,null,null,null,null,null,null,null,null,null,null,null,null,null,null,null,null,null,null,null,null,null,null,null,null,null,null,null,null,null,null,null,null,null,null,null,null,null,null,null,null,null,null,null,null,null,null,null,null,null,null,null,null,null,null,null,null,null,null,null,null,null,null,null,null,null,null,null,null,null,null,null,null,null,null,null,null,null,null,null,null,null,null,null,null,null,null,null,null,null,null,null,null,null,null,null,null,null,null,null,null,null,null,null,null,null,null,null,null,null,null,null,null,null,null,null,null,null,null,null,null,null,null,null,null,null,null,null,null,null,null,null,null,null,null,null,null,null,null,null,null,null,null,null,null,null,null,null,null,null,null,null,null,null,null,null,null,null,null,null,null,null,null,null,null,null,null,null,null,null,null,null,null,null,null,null,null,null,null,null,null,null,null,null,null,null,null,null,null,null,null,null,null,null,null,null,null,null,null,null,null,null,null,null,null,null,null,null,null,null,null,null,null,null,null,null,null,null,null,null,null,null,null,null,null,null,null,null,null,null,null,null,null,null,null,null,null,null,null,null,null,null,null,null,null,null,null,null,null,null,null,null,null,null,null,null,null,null,null,null,null,null,null,null,null,null,null,null,null,null,null,null,null,null,null,null,null,null,null,null,null,null,null,null,null,null,null,null,null,null,null,null,null,null,null,null,null,null,null,null,null,null,null,null,null,null,null,null,null,null,null,null,null,null,null,null,null,null,null,null,null,null,null,null,null,null,null,null,null,null,null,null,null,null,null,null,null,null,null,null,null,null,null,null,null,null,null,null,null,null,null,null,null,null,null,null,null,null,null,null,null,null,null,null,null,null,null,null,null,null,null,null,null,null,null,null,null,null,null,null,null,null,null,null,null,null,null,null,null,null,null,null,null,null,null,null,null,null,null,null,null,null,null,null,null,null,null,null,null,null,null,null,null,null,null,null,null,null,null,null,null,null,null,null,null,null,null,null,null,null,null,null,null,null,null,null,null,null,null,null,null,null,null,null,null,null,null,null,null,null,null,null,null,null,null,null,null,null,null,null,null,null,null,null,null,null,null,null,null,null,null,null,null,null,null,null,null,null,null,null,null,null,null,null,null,null,null,null,null,null,null,null,null,null,null,null,null,null,null,null,null,null,null,null,null,null,null,null,null,null,null,null,null,null,null,null,null,null,null,null,null,null,null,null,null,null,null,null,null,null,null,null,null,null,null,null,null,null,null,null,null,null,null,null,null,null,null,null,null,null,null,null,null,null,null,null,null,null,null,null,null,null,null,null,null,null,null,null,null,null,null,null,null,null,null,null,null,null,null,null,null,null,null,null,null,null,null,null,null,null,null,null,null,null,null,null,null,null,null,null,null,null,null,null,null,null,null,null,null,null,null,null,null,null,null,null,null,null,null,null,null,null,null,null,null,null,null,null,null,null,null,null,null,null,null,null,null,null,null,null,null,null,null,null,null,null,null,null,null,null,null,null,null,null,null,null,null,null,null,null,null,null,null,null,null,null,null,null,null,null,null,null,null,null,null,null,null,null,null,null,null,null,null,null,null,null,null,null,null,null,null,null,null,null,null,null,null,null,null,null,null,null,null,null,null,null,null,null,null,null,null,null,null,null,null,null,null,null,null,null,null,null,null,null,null,null,null,null,null,null,null,null,null,null,null,null,null,null,null,null,null,null,null,null,null,null,null,null,null,null,null,null,null,null,null,null,null,null,null,null,null,null,null,null,null,null,null,"0"]
[null,null,null,null,null,null,null,null,null,null,null,null,null,null,null,null,null,null,null,null,null,null,null,null,null,null,null,null,null,null,null,null,null,null,null,null,null,null,null,null,null,null,null,null,null,null,null,null,null,null,null,null,null,null,null,null,null,null,null,null,null,null,null,null,null,null,null,null,null,null,null,null,null,null,null,null,null,null,null,null,null,null,null,null,null,null,null,null,null,null,null,null,null,null,null,null,null,null,null,null,null,null,null,null,null,null,null,null,null,null,null,null,null,null,null,null,null,null,null,null,null,null,null,null,null,null,null,null,null,null,null,null,null,null,null,null,null,null,null,null,null,null,null,null,null,null,null,null,null,null,null,null,null,null,null,null,null,null,null,null,null,null,null,null,null,null,null,null,null,null,null,null,null,null,null,null,null,null,null,null,null,null,null,null,null,null,null,null,null,null,null,null,null,null,null,null,null,null,null,null,null,null,null,null,null,null,null,null,null,null,null,null,null,null,null,null,null,null,null,null,null,null,null,null,null,null,null,null,null,null,null,null,null,null,null,null,null,null,null,null,null,null,null,null,null,null,null,null,null,null,null,null,null,null,null,null,null,null,null,null,null,null,null,null,null,null,null,null,null,null,null,null,null,null,null,null,null,null,null,null,null,null,null,null,null,null,null,null,null,null,null,null,null,null,null,null,null,null,null,null,null,null,null,null,null,null,null,null,null,null,null,null,null,null,null,null,null,null,null,null,null,null,null,null,null,null,null,null,null,null,null,null,null,null,null,null,null,null,null,null,null,null,null,null,null,null,null,null,null,null,null,null,null,null,null,null,null,null,null,null,null,null,null,null,null,null,null,null,null,null,null,null,null,null,null,null,null,null,null,null,null,null,null,null,null,null,null,null,null,null,null,null,null,null,null,null,null,null,null,null,null,null,null,null,null,null,null,null,null,null,null,null,null,null,null,null,null,null,null,null,null,null,null,null,null,null,null,null,null,null,null,null,null,null,null,null,null,null,null,null,null,null,null,null,null,null,null,null,null,null,null,null,null,null,null,null,null,null,null,null,null,null,null,null,null,null,null,null,null,null,null,null,null,null,null,null,null,null,null,null,null,null,null,null,null,null,null,null,null,null,null,null,null,null,null,null,null,null,null,null,null,null,null,null,null,null,null,null,null,null,null,null,null,null,null,null,null,null,null,null,null,null,null,null,null,null,null,null,null,null,null,null,null,null,null,null,null,null,null,null,null,null,null,null,null,null,null,null,null,null,null,null,null,null,null,null,null,null,null,null,null,null,null,null,null,null,null,null,null,null,null,null,null,null,null,null,null,null,null,null,null,null,null,null,null,null,null,null,null,null,null,null,null,null,null,null,null,null,null,null,null,null,null,null,null,null,null,null,null,null,null,null,null,null,null,null,null,null,null,null,null,null,null,null,null,null,null,null,null,null,null,null,null,null,null,null,null,null,null,null,null,null,null,null,null,null,null,null,null,null,null,null,null,null,null,null,null,null,null,null,null,null,null,null,null,null,null,null,null,null,null,null,null,null,null,null,null,null,null,null,null,null,null,null,null,null,null,null,null,null,null,null,null,null,null,null,null,null,null,null,null,null,null,null,null,null,null,null,null,null,null,null,null,null,null,null,null,null,null,null,null,null,null,null,null,null,null,null,null,null,null,null,null,null,null,null,null,null,null,null,null,null,null,null,null,null,null,null,null,null,null,null,null,null,null,null,null,null,null,null,null,null,null,null,null,null,null,null,null,null,null,null,null,null,null,null,null,null,null,null,null,null,null,null,null,null,null,null,null,null,null,null,null,null,null,null,null,null,null,null,null,null,null,null,null,null,null,null,null,null,null,null,null,null,null,null,null,null,null,null,null,null,null,null,null,null,null,null,null,null,null,null,null,null,null,null,null,null,null,null,null,null,null,null,null,null,null,null,null,null,null,null,null,null,null,null,null,null,null,null,null,null,null,null,null,null,null,null,null,null,null,null,null,null,null,null,null,null,null,null,null,null,null,null,null,null,null,null,null,null,null,null,null,null,null,null,null,null,null,null,null,null,null,null,null,null,null,null,null,null,null,null,null,null,null,null,null,null,null,null,null,null,null,null,null,null,null,null,null,null,null,null,null,null,null,null,null,null,null,null,null,null,null,null,null,null,null,null,null,null,null,null,null,null,null,null,null,null,null,null,null,null,null,null,null,null,null,null,null,null,null,null,null,null,null,null,null,null,null,null,null,null,null,null,null,null,null,null,null,null,null,null,null,null,null,null,null,null,null,null,null,null,null,null,null,null,null,null,null,null,null,null,null,null,null,null,null,null,null,null,null,null,null,null,null,null,null,null,null,null,null,null,null,null,null,null,null,null,null,null,null,null,null,null,null,null,null,null,null,null,null,null,null,null,null,null,null,null,null,null,null,null,null,null,null,null,null,null,null,null,null,null,null,null,null,null,null,null,null,null,null,null,null,null,null,null,null,null,null,null,null,null,null,null,null,null,null,null,null,null,null,null,null,null,null,null,null,null,null,null,null,null,null,null,null,null,null,null,null,null,null,null,null,null,null,null,null,null,null,null,null,null,null,null,null,null,null,null,null,null,null,null,null,null,null,null,null,null,null,null,null,null,null,null,null,null,null,null,null,null,null,null,null,null,null,null,null,null,null,null,null,null,null,null,null,null,null,null,null,null,null,null,null,null,null,null,null,null,null,null,null,null,null,null,null,null,null,null,null,null,null,null,null,null,null,null,null,null,null,null,null,null,null,null,null,null,null,null,null,null,null,null,null,null,null,null,null,null,null,null,null,null,null,null,null,null,null,null,null,null,null,null,null,null,null,null,null,null,null,null,null,null,null,null,null,null,null,null,null,null,null,null,null,null,null,null,null,null,null,null,null,null,null,null,null,null,null,null,null,null,null,null,null,null,null,null,null,null,null,null,null,null,null,null,null,null,null,null,null,null,null,null,null,null,null,null,null,null,null,null,null,null,null,null,null,null,null,null,null,null,null,null,null,null,null,null,null,null,null,null,null,null,null,null,null,null,null,null,null,null,null,null,null,null,null,null,null,null,null,null,null,null,null,null,null,null,null,null,null,null,null,null,null,null,null,null,null,null,null,null,null,null,null,null,null,null,null,null,null,null,null,null,null,null,null,null,null,null,null,null,null,null,null,null,null,null,null,null,null,null,null,null,null,null,null,null,null,null,null,null,null,null,null,null,null,null,null,null,null,null,null,null,null,null,null,null,null,null,null,null,null,null,null,null,null,null,null,null,null,null,null,null,null,null,null,null,null,null,null,null,null,null,null,null,null,null,null,null,null,null,null,null,null,null,null,null,null,null,null,null,null,null,null,null,null,null,null,null,null,null,null,null,null,null,null,null,null,null,null,null,null,null,null,null,null,null,null,null,null,null,null,null,null,null,null,null,null,null,null,null,null,null,null,null,null,null,null,null,null,null,null,null,null,null,null,null,null,null,null,null,null,null,null,null,null,null,null,null,null,null,null,null,null,null,null,null,null,null,null,null,null,null,null,null,null,null,null,null,null,null,null,null,null,null,null,null,null,null,null,null,null,null,null,null,null,null,null,null,null,null,null,null,null,null,null,null,null,null,null,null,null,null,null,null,null,null,null,null,null,null,null,null,null,null,null,null,null,null,null,null,null,null,null,null,null,null,null,null,null,null,null,"0"]
[null,null,null,null,null,null,null,null,null,null,null,null,null,null,null,null,null,null,null,null,null,null,null,null,null,null,null,null,null,null,null,null,null,null,null,null,null,null,null,null,null,null,null,null,null,null,null,null,null,null,null,null,null,null,null,null,null,null,null,null,null,null,null,null,null,null,null,null,null,null,null,null,null,null,null,null,null,null,null,null,null,null,null,null,null,null,null,null,null,null,null,null,null,null,null,null,null,null,null,null,null,null,null,null,null,null,null,null,null,null,null,null,null,null,null,null,null,null,null,null,null,null,null,null,null,null,null,null,null,null,null,null,null,null,null,null,null,null,null,null,null,null,null,null,null,null,null,null,null,null,null,null,null,null,null,null,null,null,null,null,null,null,null,null,null,null,null,null,null,null,null,null,null,null,null,null,null,null,null,null,null,null,null,null,null,null,null,null,null,null,null,null,null,null,null,null,null,null,null,null,null,null,null,null,null,null,null,null,null,null,null,null,null,null,null,null,null,null,null,null,null,null,null,null,null,null,null,null,null,null,null,null,null,null,null,null,null,null,null,null,null,null,null,null,null,null,null,null,null,null,null,null,null,null,null,null,null,null,null,null,null,null,null,null,null,null,null,null,null,null,null,null,null,null,null,null,null,null,null,null,null,null,null,null,null,null,null,null,null,null,null,null,null,null,null,null,null,null,null,null,null,null,null,null,null,null,null,null,null,null,null,null,null,null,null,null,null,null,null,null,null,null,null,null,null,null,null,null,null,null,null,null,null,null,null,null,null,null,null,null,null,null,null,null,null,null,null,null,null,null,null,null,null,null,null,null,null,null,null,null,null,null,null,null,null,null,null,null,null,null,null,null,null,null,null,null,null,null,null,null,null,null,null,null,null,null,null,null,null,null,null,null,null,null,null,null,null,null,null,null,null,null,null,null,null,null,null,null,null,null,null,null,null,null,null,null,null,null,null,null,null,null,null,null,null,null,null,null,null,null,null,null,null,null,null,null,null,null,null,null,null,null,null,null,null,null,null,null,null,null,null,null,null,null,null,null,null,null,null,null,null,null,null,null,null,null,null,null,null,null,null,null,null,null,null,null,null,null,null,null,null,null,null,null,null,null,null,null,null,null,null,null,null,null,null,null,null,null,null,null,null,null,null,null,null,null,null,null,null,null,null,null,null,null,null,null,null,null,null,null,null,null,null,null,null,null,null,null,null,null,null,null,null,null,null,null,null,null,null,null,null,null,null,null,null,null,null,null,null,null,null,null,null,null,null,null,null,null,null,null,null,null,null,null,null,null,null,null,null,null,null,null,null,null,null,null,null,null,null,null,null,null,null,null,null,null,null,null,null,null,null,null,null,null,null,null,null,null,null,null,null,null,null,null,null,null,null,null,null,null,null,null,null,null,null,null,null,null,null,null,null,null,null,null,null,null,null,null,null,null,null,null,null,null,null,null,null,null,null,null,null,null,null,null,null,null,null,null,null,null,null,null,null,null,null,null,null,null,null,null,null,null,null,null,null,null,null,null,null,null,null,null,null,null,null,null,null,null,null,null,null,null,null,null,null,null,null,null,null,null,null,null,null,null,null,null,null,null,null,null,null,null,null,null,null,null,null,null,null,null,null,null,null,null,null,null,null,null,null,null,null,null,null,null,null,null,null,null,null,null,null,null,null,null,null,null,null,null,null,null,null,null,null,null,null,null,null,null,null,null,null,null,null,null,null,null,null,null,null,null,null,null,null,null,null,null,null,null,null,null,null,null,null,null,null,null,null,null,null,null,null,null,null,null,null,null,null,null,null,null,null,null,null,null,null,null,null,null,null,null,null,null,null,null,null,null,null,null,null,null,null,null,null,null,null,null,null,null,null,null,null,null,null,null,null,null,null,null,null,null,null,null,null,null,null,null,null,null,null,null,null,null,null,null,null,null,null,null,null,null,null,null,null,null,null,null,null,null,null,null,null,null,null,null,null,null,null,null,null,null,null,null,null,null,null,null,null,null,null,null,null,null,null,null,null,null,null,null,null,null,null,null,null,null,null,null,null,null,null,null,null,null,null,null,null,null,null,null,null,null,null,null,null,null,null,null,null,null,null,null,null,null,null,null,null,null,null,null,null,null,null,null,null,null,null,null,null,null,null,null,null,null,null,null,null,null,null,null,null,null,null,null,null,null,null,null,null,null,null,null,null,null,null,null,null,null,null,null,null,null,null,null,null,null,null,null,null,null,null,null,null,null,null,null,null,null,null,null,null,null,null,null,null,null,null,null,null,null,null,null,null,null,null,null,null,null,null,null,null,null,null,null,null,null,null,null,null,null,null,null,null,null,null,null,null,null,null,null,null,null,null,null,null,null,null,null,null,null,null,null,null,null,null,null,null,null,null,null,null,null,null,null,null,null,null,null,null,null,null,null,null,null,null,null,null,null,null,null,null,null,null,null,null,null,null,null,null,null,null,null,null,null,null,null,null,null,null,null,null,null,null,null,null,null,null,null,null,null,null,null,null,null,null,null,null,null,null,null,null,null,null,null,null,null,null,null,null,null,null,null,null,null,null,null,null,null,null,null,null,null,null,null,null,null,null,null,null,null,null,null,null,null,null,null,null,null,null,null,null,null,null,null,null,null,null,null,null,null,null,null,null,null,null,null,null,null,null,null,null,null,null,null,null,null,null,null,null,null,null,null,null,null,null,null,null,null,null,null,null,null,null,null,null,null,null,null,null,null,null,null,null,null,null,null,null,null,null,null,null,null,null,null,null,null,null,null,null,null,null,null,null,null,null,null,null,null,null,null,null,null,null,null,null,null,null,null,null,null,null,null,null,null,null,null,null,null,null,null,null,null,null,null,null,null,null,null,null,null,null,null,null,null,null,null,null,null,null,null,null,null,null,null,null,null,null,null,null,null,null,null,null,null,null,null,null,null,null,null,null,null,null,null,null,null,null,null,null,null,null,null,null,null,null,null,null,null,null,null,null,null,null,null,null,null,null,null,null,null,null,null,null,null,null,null,null,null,null,null,null,null,null,null,null,null,null,null,null,null,null,null,null,null,null,null,null,null,null,null,null,null,null,null,null,null,null,null,null,null,null,null,null,null,null,null,null,null,null,null,null,null,null,null,null,null,null,null,null,null,null,null,null,null,null,null,null,null,null,null,null,null,null,null,null,null,null,null,null,null,null,null,null,null,null,null,null,null,null,null,null,null,null,null,null,null,null,null,null,null,null,null,null,null,null,null,null,null,null,null,null,null,null,null,null,null,null,null,null,null,null,null,null,null,null,null,null,null,null,null,null,null,null,null,null,null,null,null,null,null,null,null,null,null,null,null,null,null,null,null,null,null,null,null,null,null,null,null,null,null,null,null,null,null,null,null,null,null,null,null,null,null,null,null,null,null,null,null,null,null,null,null,null,null,null,null,null,null,null,null,null,null,null,null,null,null,null,null,null,null,null,null,null,null,null,null,null,null,null,null,null,null,null,null,null,null,null,null,null,null,null,null,null,null,null,null,null,null,null,null,null,null,null,null,null,null,null,null,null,null,null,null,null,null,null,null,null,null,null,null,null,null,null,null,null,null,null,null,null,null,null,null,null,null,null,null,null,null,null,null,null,null,null,null,null,null,null,null,null,null,null,null,null,null,null,null,null,null,null,null,null,null,null,null,null,null,null,null,null,null,null,null,null,"0"]

{"sheet":"גיליון נתונים","index":6,"n_rows":10,"n_cols":11,"rows_kept":10,"cut":false,"hidden":true,"merged":[[2,30,28,33],[2,35,31,38],[9,0,9,4],[2,10,23,13],[2,15,23,18],[2,20,23,23],[2,25,23,28]]}
["סטטוס רצוי","כותרות 1 ","כותרת 2","כותרת 3","הנחיה פרק 1","הנחיה פרק 2","הנחיה פרק 3","הנחיה פרק 4","הנחיה פרק 5","הנחיה פרק 6","הנחיה פרק 7"]
["פרק 1","סטטוס תלמיד משוקלל פרק 1","משימות סיכום פרק 1\n\n","שיעור לתלמיד: \nפרק 1\n\n\n","חשוב מאוד!\n\nדו\"ח סטטוס תלמיד בפרק 1 מתייחס לפרק זה בלבד:\n\n1. נאורות","חשוב מאוד!\n\nדו\"ח סטטוס תלמיד בפרקים 1-2 מתייחס לפרקים האלו בלבד: \n\n*\n1. נאורות\n**\n2. מעמד היהודים\n(בחירה)\n*צרפת\nאו\n*גרמניה\n\nחובה\n השינויים במעמד המשפטי של היהודים בארצות האסלאם.. \n\nחובה\nהשלכות השינויים במעמד היהודים על החברה היהודית. ","חשוב מאוד!\n\nדו\"ח סטטוס תלמיד בפרקים 1-3 מתייחס לפרקים האלו בלבד: \n\n*\n1. נאורות\n**\n2. מעמד היהודים\n(בחירה)\n***\n3. תנועת ההשכלה היהודית","חשוב מאוד!\n\nדו\"ח סטטוס תלמיד בפרקים 1-4 מתייחס לפרקים האלו בלבד: \n\n*\n1. נאורות\n**\n2. מעמד היהודים\n(בחירה)\n***\n3. תנועת ההשכלה היהודית\n****\n4. תנועות וזרמים","חשוב מאוד!\n\nדו\"ח סטטוס תלמיד בפרקים 1-5 מתייחס לפרקים האלו בלבד: \n\n*\n1. נאורות\n**\n2. מעמד היהודים\n(בחירה)\n***\n3. תנועת ההשכלה היהודית\n****\n4. תנועות וזרמים\n*****\n5. מבשרי הציונות וחיבת ציון","חשוב מאוד!\n\nדו\"ח סטטוס תלמיד בפרקים 1-6 מתייחס לפרקים האלו בלבד:\n\n*\n1. נאורות\n**\n2. מעמד היהודים\n(בחירה)\n***\n3. תנועת ההשכלה היהודית\n****\n4. תנועות וזרמים\n*****\n5. מבשרי הציונות וחיבת ציון\n******\n6. התנועה הציונית והרצל","חשוב מאוד!\n\nדו\"ח סטטוס תלמיד בפרקים 1-7 מתייחס לפרקים האלו בלבד:\n\n*\n1. נאורות\n**\n2. מעמד היהודים\n(בחירה)\n***\n3. תנועת ההשכלה היהודית\n****\n4. תנועות וזרמים\n*****\n5. מבשרי הציונות וחיבת ציון\n******\n6. התנועה הציונית והרצל\n*******\n7. מפלגות, זרמים ומתנגדים"]
["פרקים 1-2","סטטוס תלמיד משוקלל פרקים 1-2","משימות סיכום פרקים 1-2\n\n","שיעור לתלמיד: \nפרקים 1-2\n\n\n"]
["פרקים 1-3","סטטוס תלמיד משוקלל פרקים 1-3","משימות סיכום פרקים 1-3\n\n","שיעור לתלמיד: \nפרקים 1-3\n\n\n"]
["פרקים 1-4","סטטוס תלמיד משוקלל פרקים 1-4","משימות סיכום פרקים 1-4\n\n","שיעור לתלמיד: \nפרקים 1-4\n\n\n"]
["פרקים 1-5","סטטוס תלמיד משוקלל פרקים 1-5","משימות סיכום פרקים 1-5\n\n","שיעור לתלמיד: \nפרקים 1-5\n\n\n"]
["פרקים 1-6","סטטוס תלמיד משוקלל פרקים 1-6","משימות סיכום פרקים 1-6\n\n","שיעור לתלמיד: \nפרקים 1-6\n\n\n"]
["פרקים 1-7","סטטוס תלמיד משוקלל פרקים 1-7","משימות סיכום פרקים 1-7\n\n","שיעור לתלמיד: \nפרקים 1-7\n\n\n"]
[]
["חשוב! - לא לשנות את עמודה A ללא צורך - היא מפנה אל תא I2 בלשונית סטטוס כללי לבחירה.\nזה חשוב לצורך כפתור ה- combo box לבחירה.\n\nעמודה B - מכילה נתונים של כותרת הטבלה בלשונית סטטוס כללי לבחירה של \"סטטוס תלמיד משוקלל\"\nעמודה C - מכילה נתונים של כותרת הטבלה בלשונית סטטוס כללי לבחירה של \"משימות סיכום פרק\"\nעמודה D - מכילה נתונים של כותרת הטבלה בלשונית סטטוס כללי לבחירה של \"שיעור לתלמיד\"\nעמודות E עד I - מכילות נתונים של מידע כללי למורה והפרקים שנכללים בבחירה בלשונית סטטוס כללי לבחירה."]

{"sheet":"תבנית דוח ציונים","index":7,"n_rows":0,"n_cols":0,"rows_kept":0,"cut":false,"hidden":true,"merged":[]}

{"sheet":"תבנית דוח בעיות","index":8,"n_rows":0,"n_cols":0,"rows_kept":0,"cut":false,"hidden":true,"merged":[]}

{"sheet":"courses_index","index":9,"n_rows":40,"n_cols":6,"rows_kept":40,"cut":false,"hidden":true,"merged":[]}
["תת פרק","פרק","מזהה הקורס","שם הקורס",null,"רכיבי ציון"]
["נאורוּת - שיעור לתלמיד","נאורוּת","EDU_EDU005_1_2020","מסורת ומודרנה",null,"שיעור לתלמיד"]
["נאורוּת - משימת סיכום","נאורוּת","EDU_EDU005_1_2020","מסורת ומודרנה",null,"סיכום פרק"]
["נאורוּת - משימת הפנמה","נאורוּת","EDU_EDU005_1_2020","מסורת ומודרנה",null,"הפנמה"]
["נאורוּת - משימת העשרה","נאורוּת","EDU_EDU005_1_2020","מסורת ומודרנה",null,"העשרה"]
["השינויים במעמד המשפטי של יהודי צרפת משלהי המאה ה-18 עד ראשית המאה ה-20 - תת פרק לבחירה","מעמד היהודים משלהי המאה ה-18 ועד תחילת המאה ה-20","EDU_EDU005_1_2020","מסורת ומודרנה",null,"שיעור לתלמיד"]
["השינויים במעמד המשפטי של יהודי צרפת משלהי המאה ה-18 עד ראשית המאה ה-20 -משימת סיכום","מעמד היהודים משלהי המאה ה-18 ועד תחילת המאה ה-20","EDU_EDU005_1_2020","מסורת ומודרנה",null,"סיכום פרק"]
["השינויים במעמד המשפטי של יהודי גרמניה משלהי המאה ה-18 עד ראשית המאה ה-20 - תת פרק לבחירה","מעמד היהודים משלהי המאה ה-18 ועד תחילת המאה ה-20","EDU_EDU005_1_2020","מסורת ומודרנה",null,"שיעור לתלמיד"]
["השינויים במעמד המשפטי של יהודי גרמניה משלהי המאה ה-18 עד ראשית המאה ה-20 - תת פרק לבחירה -משימת סיכום","מעמד היהודים משלהי המאה ה-18 ועד תחילת המאה ה-20","EDU_EDU005_1_2020","מסורת ומודרנה",null,"סיכום פרק"]
["השינויים במעמד המשפטי של היהודים בארצות האסלאם - תהליך האמנציפציה באלג'יריה - תת פרק חובה","מעמד היהודים משלהי המאה ה-18 ועד תחילת המאה ה-20","EDU_EDU005_1_2020","מסורת ומודרנה",null,"שיעור לתלמיד"]
["השינויים במעמד המשפטי של היהודים בארצות האסלאם - תהליך האמנציפציה באלג'יריה - משימת סיכום","מעמד היהודים משלהי המאה ה-18 ועד תחילת המאה ה-20","EDU_EDU005_1_2020","מסורת ומודרנה",null,"סיכום פרק"]
["השלכות השינויים במעמד היהודים על החברה היהודית - תת פרק חובה","מעמד היהודים משלהי המאה ה-18 ועד תחילת המאה ה-20","EDU_EDU005_1_2020","מסורת ומודרנה",null,"שיעור לתלמיד"]
["השפעת הליברליזם על תמורות בחברה היהודית - משימת סיכום - סיכום הסוגיה לכל הפרק","מעמד היהודים משלהי המאה ה-18 ועד תחילת המאה ה-20","EDU_EDU005_1_2020","מסורת ומודרנה",null,"סיכום פרק"]
["מעמד היהודים משלהי המאה ה-18 ועד תחילת המאה ה-20 - משימת הפנמה לכל הפרק","מעמד היהודים משלהי המאה ה-18 ועד תחילת המאה ה-20","EDU_EDU005_1_2020","מסורת ומודרנה",null,"הפנמה"]
["מעמד היהודים משלהי המאה ה-18 ועד תחילת המאה ה-20 - משימת העשרה לכל הפרק","מעמד היהודים משלהי המאה ה-18 ועד תחילת המאה ה-20","EDU_EDU005_1_2020","מסורת ומודרנה",null,"העשרה"]
["השפעת הנאורות על החברה היהודית - תת פרק חובה","תנועת ההשכלה היהודית","EDU_EDU005_1_2020","מסורת ומודרנה",null,"שיעור לתלמיד"]
["השפעת הנאורות על החברה היהודית - תת פרק חובה - משימת סיכום","תנועת ההשכלה היהודית","EDU_EDU005_1_2020","מסורת ומודרנה",null,"סיכום פרק"]
["ניאו אורתודוקסיה - חיוב המודרנה תוך שמירה קפדנית על מצוות הדת - שיעור לתלמיד","תנועות וזרמים יהודיים","EDU_EDU005_1_2020","מסורת ומודרנה",null,"שיעור לתלמיד"]
["ניאו אורתודוקסיה - חיוב המודרנה תוך שמירה קפדנית על מצוות הדת - משימת סיכום","תנועות וזרמים יהודיים","EDU_EDU005_1_2020","מסורת ומודרנה",null,"סיכום פרק"]
["מבשרי הציונות וחיבת ציון - שיעור לתלמיד","מבשרי הציונות וחיבת ציון","EDU_EDU005_1_2020","מסורת ומודרנה",null,"שיעור לתלמיד"]
["מבשרי הציונות וחיבת ציון - משימת סיכום","מבשרי הציונות וחיבת ציון","EDU_EDU005_1_2020","מסורת ומודרנה",null,"סיכום פרק"]
["מבשרי הציונות וחיבת ציון - משימת הפנמה","מבשרי הציונות וחיבת ציון","EDU_EDU005_1_2020","מסורת ומודרנה",null,"הפנמה"]
["מבשרי הציונות וחיבת ציון - משימת העשרה","מבשרי הציונות וחיבת ציון","EDU_EDU005_1_2020","מסורת ומודרנה",null,"העשרה"]
["התנועה הציונית והרצל - שיעור לתלמיד","התנועה הציונית והרצל","EDU_EDU005_1_2020","מסורת ומודרנה",null,"שיעור לתלמיד"]
["התנועה הציונית והרצל - משימת סיכום - סוף ימיו של הרצל","התנועה הציונית והרצל","EDU_EDU005_1_2020","מסורת ומודרנה",null,"סיכום פרק"]
["התנועה הציונית והרצל - משימת הפנמה","התנועה הציונית והרצל","EDU_EDU005_1_2020","מסורת ומודרנה",null,"הפנמה"]
["התנועה הציונית והרצל - משימת העשרה","התנועה הציונית והרצל","EDU_EDU005_1_2020","מסורת ומודרנה",null,"העשרה"]
["מפלגות, זרמים ומתנגדים - שיעור לתלמיד","מפלגות, זרמים ומתנגדים","EDU_EDU005_1_2020","מסורת ומודרנה",null,"שיעור לתלמיד"]
["מפלגות, זרמים ומתנגדים - משימת סיכום","מפלגות, זרמים ומתנגדים","EDU_EDU005_1_2020","מסורת ומודרנה",null,"סיכום פרק"]
["מפלגות, זרמים ומתנגדים - משימת הפנמה","מפלגות, זרמים ומתנגדים","EDU_EDU005_1_2020","מסורת ומודרנה",null,"הפנמה"]
["מפלגות, זרמים ומתנגדים - משימת העשרה","מפלגות, זרמים ומתנגדים","EDU_EDU005_1_2020","מסורת ומודרנה",null,"העשרה"]
["תלמידאות","תלמידאות","EDU_EDU005_1_2020","מסורת ומודרנה",null,"תלמידאות"]
["פרק א – שאלה 1 לבחירה","פרק א'","EDU_EDU005_1_2020","מסורת ומודרנה",null,"מטלה סופית חלק א"]
["פרק א – שאלה 2 לבחירה","פרק א'","EDU_EDU005_1_2020","מסורת ומודרנה",null,"מטלה סופית חלק א"]
["פרק א – שאלה 3 לבחירה","פרק א'","EDU_EDU005_1_2020","מסורת ומודרנה",null,"מטלה סופית חלק א"]
["פרק א – שאלה 4 לבחירה","פרק א'","EDU_EDU005_1_2020","מסורת ומודרנה",null,"מטלה סופית חלק א"]
["פרק ב – שאלה 5 לבחירה","פרק ב'","EDU_EDU005_1_2020","מסורת ומודרנה",null,"מטלה סופית חלק ב"]
["פרק ב – שאלה 6 לבחירה","פרק ב'","EDU_EDU005_1_2020","מסורת ומודרנה",null,"מטלה סופית חלק ב"]
["פרק ב – שאלה 7 לבחירה","פרק ב'","EDU_EDU005_1_2020","מסורת ומודרנה",null,"מטלה סופית חלק ב"]
["סיכום חלק ג'","פרק ג'","EDU_EDU005_1_2020","מסורת ומודרנה",null,"מטלה סופית חלק ג"]

{"sheet":"לוח בקרה למורה","index":10,"n_rows":103,"n_cols":11,"rows_kept":103,"cut":false,"hidden":false,"merged":[[0,10,29,10],[1,0,1,6],[102,0,110,6]]}
["Username",null,"כמות עבודות העשרה\nבציון 55 ומעלה","פירוט העשרה \n(מעל 55)",{"$f":"IF($I$2=\"פרק 1\",'גיליון נתונים'!B2,\nIF($I$2=\"פרקים 1-2\",'גיליון נתונים'!B3,\nIF($I$2=\"פרקים 1-3\",'גיליון נתונים'!B4,\nIF($I$2=\"פרקים 1-4\",'גיליון נתונים'!B5,\nIF($I$2=\"פרקים 1-5\",'גיליון נתונים'!B6,\nIF($I$2=\"פרקים 1-6\",'גיליון נתונים'!B7,\nIF($I$2=\"פרקים 1-7\",'גיליון נתונים'!B8,\nIF($I$2=\"פרקים 1-8\",'גיליון נתונים'!B9))))))))","v":"סטטוס תלמיד משוקלל פרק 1"},{"$f":"IF($I$2=\"פרק 1\",'גיליון נתונים'!C2,\nIF($I$2=\"פרקים 1-2\",'גיליון נתונים'!C3,\nIF($I$2=\"פרקים 1-3\",'גיליון נתונים'!C4,\nIF($I$2=\"פרקים 1-4\",'גיליון נתונים'!C5,\nIF($I$2=\"פרקים 1-5\",'גיליון נתונים'!C6,\nIF($I$2=\"פרקים 1-6\",'גיליון נתונים'!C7,\nIF($I$2=\"פרקים 1-7\",'גיליון נתונים'!C8,\nIF($I$2=\"פרקים 1-8\",'גיליון נתונים'!C9))))))))","v":"משימות סיכום פרק 1\n\n"},{"$f":"IF($I$2=\"פרק 1\",'גיליון נתונים'!D2,\nIF($I$2=\"פרקים 1-2\",'גיליון נתונים'!D3,\nIF($I$2=\"פרקים 1-3\",'גיליון נתונים'!D4,\nIF($I$2=\"פרקים 1-4\",'גיליון נתונים'!D5,\nIF($I$2=\"פרקים 1-5\",'גיליון נתונים'!D6,\nIF($I$2=\"פרקים 1-6\",'גיליון נתונים'!D7,\nIF($I$2=\"פרקים 1-7\",'גיליון נתונים'!D8,\nIF($I$2=\"פרקים 1-8\",'גיליון נתונים'!D9))))))))","v":"שיעור לתלמיד: \nפרק 1\n\n\n"},"כמות עבודות הפנמה\nבציון 55 ומעלה ","בחירת הסטטוס הרצוי\nלחצו כאן לכפתור הבחירה\n↓",null,{"$f":"IF($I$2=\"פרק 1\",'גיליון נתונים'!E2,\nIF($I$2=\"פרקים 1-2\",'גיליון נתונים'!F2,\nIF($I$2=\"פרקים 1-3\",'גיליון נתונים'!G2,\nIF($I$2=\"פרקים 1-4\",'גיליון נתונים'!H2,\nIF($I$2=\"פרקים 1-5\",'גיליון נתונים'!I2,\nIF($I$2=\"פרקים 1-6\",'גיליון נתונים'!J2,\nIF($I$2=\"פרקים 1-7\",'גיליון נתונים'!K2,\nIF($I$2=\"פרקים 1-8\",'גיליון נתונים'!L2))))))))","v":"חשוב מאוד!\n\nדו\"ח סטטוס תלמיד בפרק 1 מתייחס לפרק זה בלבד:\n\n1. נאורות"}]
["TOP",null,null,null,null,null,null,null,"פרק 1"]
[{"$f":"grade_report!C4","v":"RonitHochster"},null,{"$f":"COUNTIF(grade_report!AG4:AK4,\">=0.55\")","v":0},{"$f":"IF(C3=0,\"ללא\",IF(C3=1,\"עבודה אחת\",IF(C3=2,\"שתי עבודות\",IF(C3>=3,\"שלוש עבודות או יותר\"))))","v":"ללא"},{"$f":"G3*(0.15/0.5)+F3*(0.35/0.5)","v":1.8749999999999999E-2},{"$f":"IF($I$2=\"פרק 1\",SUM(grade_report!P4),\nIF($I$2=\"פרקים 1-2\",(SUM(grade_report!P4)+SUM(grade_report!S4:T4)+MAX(grade_report!Q4:R4))/4,\nIF($I$2=\"פרקים 1-3\",(SUM(grade_report!P4)+SUM(grade_report!S4:T4)+MAX(grade_report!Q4:R4)+SUM(grade_report!U4))/5,\nIF($I$2=\"פרקים 1-4\",(SUM(grade_report!P4)+SUM(grade_report!S4:T4)+MAX(grade_report!Q4:R4)+SUM(grade_report!U4:V4))/6,\nIF($I$2=\"פרקים 1-5\",(SUM(grade_report!P4)+SUM(grade_report!S4:T4)+MAX(grade_report!Q4:R4)+SUM(grade_report!U4:W4))/7,\nIF($I$2=\"פרקים 1-6\",(SUM(grade_report!P4)+SUM(grade_report!S4:T4)+MAX(grade_report!Q4:R4)+SUM(grade_report!U4:X4))/8,\nIF($I$2=\"פרקים 1-7\",(SUM(grade_report!P4)+SUM(grade_report!S4:T4)+MAX(grade_report!Q4:R4)+SUM(grade_report!U4:Y4))/9,0)))))))","v":0},{"$f":"IF($I$2=\"פרק 1\",SUM(grade_report!E4),\nIF($I$2=\"פרקים 1-2\",(SUM(grade_report!E4)+SUM(grade_report!H4:I4)+MAX(grade_report!F4:G4))/4,\nIF($I$2=\"פרקים 1-3\",(SUM(grade_report!E4)+SUM(grade_report!H4:I4)+MAX(grade_report!F4:G4)+SUM(grade_report!J4))/5,\nIF($I$2=\"פרקים 1-4\",(SUM(grade_report!E4)+SUM(grade_report!H4:I4)+MAX(grade_report!F4:G4)+SUM(grade_report!J4:K4))/6,\nIF($I$2=\"פרקים 1-5\",(SUM(grade_report!E4)+SUM(grade_report!H4:I4)+MAX(grade_report!F4:G4)+SUM(grade_report!J4:L4))/7,\nIF($I$2=\"פרקים 1-6\",(SUM(grade_report!E4)+SUM(grade_report!H4:I4)+MAX(grade_report!F4:G4)+SUM(grade_report!J4:M4))/8,\nIF($I$2=\"פרקים 1-7\",(SUM(grade_report!E4)+SUM(grade_report!H4:I4)+MAX(grade_report!F4:G4)+SUM(grade_report!J4:N4))/9,0)))))))","v":6.25E-2},{"$f":"COUNTIF(grade_report!AA4:AE4,\">=0.55\")","v":0}]
[{"$f":"grade_report!C5","v":"Jamalk1"},null,{"$f":"COUNTIF(grade_report!AG5:AK5,\">=0.55\")","v":0},{"$f":"IF(C4=0,\"ללא\",IF(C4=1,\"עבודה אחת\",IF(C4=2,\"שתי עבודות\",IF(C4>=3,\"שלוש עבודות או יותר\"))))","v":"ללא"},{"$f":"G4*(0.15/0.5)+F4*(0.35/0.5)","v":0},{"$f":"IF($I$2=\"פרק 1\",SUM(grade_report!P5),\nIF($I$2=\"פרקים 1-2\",(SUM(grade_report!P5)+SUM(grade_report!S5:T5)+MAX(grade_report!Q5:R5))/4,\nIF($I$2=\"פרקים 1-3\",(SUM(grade_report!P5)+SUM(grade_report!S5:T5)+MAX(grade_report!Q5:R5)+SUM(grade_report!U5))/5,\nIF($I$2=\"פרקים 1-4\",(SUM(grade_report!P5)+SUM(grade_report!S5:T5)+MAX(grade_report!Q5:R5)+SUM(grade_report!U5:V5))/6,\nIF($I$2=\"פרקים 1-5\",(SUM(grade_report!P5)+SUM(grade_report!S5:T5)+MAX(grade_report!Q5:R5)+SUM(grade_report!U5:W5))/7,\nIF($I$2=\"פרקים 1-6\",(SUM(grade_report!P5)+SUM(grade_report!S5:T5)+MAX(grade_report!Q5:R5)+SUM(grade_report!U5:X5))/8,\nIF($I$2=\"פרקים 1-7\",(SUM(grade_report!P5)+SUM(grade_report!S5:T5)+MAX(grade_report!Q5:R5)+SUM(grade_report!U5:Y5))/9,0)))))))","v":0},{"$f":"IF($I$2=\"פרק 1\",SUM(grade_report!E5),\nIF($I$2=\"פרקים 1-2\",(SUM(grade_report!E5)+SUM(grade_report!H5:I5)+MAX(grade_report!F5:G5))/4,\nIF($I$2=\"פרקים 1-3\",(SUM(grade_report!E5)+SUM(grade_report!H5:I5)+MAX(grade_report!F5:G5)+SUM(grade_report!J5))/5,\nIF($I$2=\"פרקים 1-4\",(SUM(grade_report!E5)+SUM(grade_report!H5:I5)+MAX(grade_report!F5:G5)+SUM(grade_report!J5:K5))/6,\nIF($I$2=\"פרקים 1-5\",(SUM(grade_report!E5)+SUM(grade_report!H5:I5)+MAX(grade_report!F5:G5)+SUM(grade_report!J5:L5))/7,\nIF($I$2=\"פרקים 1-6\",(SUM(grade_report!E5)+SUM(grade_report!H5:I5)+MAX(grade_report!F5:G5)+SUM(grade_report!J5:M5))/8,\nIF($I$2=\"פרקים 1-7\",(SUM(grade_report!E5)+SUM(grade_report!H5:I5)+MAX(grade_report!F5:G5)+SUM(grade_report!J5:N5))/9,0)))))))","v":0},{"$f":"COUNTIF(grade_report!AA5:AE5,\">=0.55\")","v":0}]
[{"$f":"grade_report!C6","v":"נועה_ביטון_4"},null,{"$f":"COUNTIF(grade_report!AG6:AK6,\">=0.55\")","v":0},"ללא",0.28125,{"$f":"IF($I$2=\"פרק 1\",SUM(grade_report!P6),\nIF($I$2=\"פרקים 1-2\",(SUM(grade_report!P6)+SUM(grade_report!S6:T6)+MAX(grade_report!Q6:R6))/4,\nIF($I$2=\"פרקים 1-3\",(SUM(grade_report!P6)+SUM(grade_report!S6:T6)+MAX(grade_report!Q6:R6)+SUM(grade_report!U6))/5,\nIF($I$2=\"פרקים 1-4\",(SUM(grade_report!P6)+SUM(grade_report!S6:T6)+MAX(grade_report!Q6:R6)+SUM(grade_report!U6:V6))/6,\nIF($I$2=\"פרקים 1-5\",(SUM(grade_report!P6)+SUM(grade_report!S6:T6)+MAX(grade_report!Q6:R6)+SUM(grade_report!U6:W6))/7,\nIF($I$2=\"פרקים 1-6\",(SUM(grade_report!P6)+SUM(grade_report!S6:T6)+MAX(grade_report!Q6:R6)+SUM(grade_report!U6:X6))/8,\nIF($I$2=\"פרקים 1-7\",(SUM(grade_report!P6)+SUM(grade_report!S6:T6)+MAX(grade_report!Q6:R6)+SUM(grade_report!U6:Y6))/9,0)))))))","v":0},{"$f":"IF($I$2=\"פרק 1\",SUM(grade_report!E6),\nIF($I$2=\"פרקים 1-2\",(SUM(grade_report!E6)+SUM(grade_report!H6:I6)+MAX(grade_report!F6:G6))/4,\nIF($I$2=\"פרקים 1-3\",(SUM(grade_report!E6)+SUM(grade_report!H6:I6)+MAX(grade_report!F6:G6)+SUM(grade_report!J6))/5,\nIF($I$2=\"פרקים 1-4\",(SUM(grade_report!E6)+SUM(grade_report!H6:I6)+MAX(grade_report!F6:G6)+SUM(grade_report!J6:K6))/6,\nIF($I$2=\"פרקים 1-5\",(SUM(grade_report!E6)+SUM(grade_report!H6:I6)+MAX(grade_report!F6:G6)+SUM(grade_report!J6:L6))/7,\nIF($I$2=\"פרקים 1-6\",(SUM(grade_report!E6)+SUM(grade_report!H6:I6)+MAX(grade_report!F6:G6)+SUM(grade_report!J6:M6))/8,\nIF($I$2=\"פרקים 1-7\",(SUM(grade_report!E6)+SUM(grade_report!H6:I6)+MAX(grade_report!F6:G6)+SUM(grade_report!J6:N6))/9,0)))))))","v":0.9375},{"$f":"COUNTIF(grade_report!AA6:AE6,\">=0.55\")","v":0}]
[{"$f":"grade_report!C7","v":"שקד_בן_דוד"},null,{"$f":"COUNTIF(grade_report!AG7:AK7,\">=0.55\")","v":0},"ללא",0.24374999999999999,{"$f":"IF($I$2=\"פרק 1\",SUM(grade_report!P7),\nIF($I$2=\"פרקים 1-2\",(SUM(grade_report!P7)+SUM(grade_report!S7:T7)+MAX(grade_report!Q7:R7))/4,\nIF($I$2=\"פרקים 1-3\",(SUM(grade_report!P7)+SUM(grade_report!S7:T7)+MAX(grade_report!Q7:R7)+SUM(grade_report!U7))/5,\nIF($I$2=\"פרקים 1-4\",(SUM(grade_report!P7)+SUM(grade_report!S7:T7)+MAX(grade_report!Q7:R7)+SUM(grade_report!U7:V7))/6,\nIF($I$2=\"פרקים 1-5\",(SUM(grade_report!P7)+SUM(grade_report!S7:T7)+MAX(grade_report!Q7:R7)+SUM(grade_report!U7:W7))/7,\nIF($I$2=\"פרקים 1-6\",(SUM(grade_report!P7)+SUM(grade_report!S7:T7)+MAX(grade_report!Q7:R7)+SUM(grade_report!U7:X7))/8,\nIF($I$2=\"פרקים 1-7\",(SUM(grade_report!P7)+SUM(grade_report!S7:T7)+MAX(grade_report!Q7:R7)+SUM(grade_report!U7:Y7))/9,0)))))))","v":0},{"$f":"IF($I$2=\"פרק 1\",SUM(grade_report!E7),\nIF($I$2=\"פרקים 1-2\",(SUM(grade_report!E7)+SUM(grade_report!H7:I7)+MAX(grade_report!F7:G7))/4,\nIF($I$2=\"פרקים 1-3\",(SUM(grade_report!E7)+SUM(grade_report!H7:I7)+MAX(grade_report!F7:G7)+SUM(grade_report!J7))/5,\nIF($I$2=\"פרקים 1-4\",(SUM(grade_report!E7)+SUM(grade_report!H7:I7)+MAX(grade_report!F7:G7)+SUM(grade_report!J7:K7))/6,\nIF($I$2=\"פרקים 1-5\",(SUM(grade_report!E7)+SUM(grade_report!H7:I7)+MAX(grade_report!F7:G7)+SUM(grade_report!J7:L7))/7,\nIF($I$2=\"פרקים 1-6\",(SUM(grade_report!E7)+SUM(grade_report!H7:I7)+MAX(grade_report!F7:G7)+SUM(grade_report!J7:M7))/8,\nIF($I$2=\"פרקים 1-7\",(SUM(grade_report!E7)+SUM(grade_report!H7:I7)+MAX(grade_report!F7:G7)+SUM(grade_report!J7:N7))/9,0)))))))","v":0.8125},{"$f":"COUNTIF(grade_report!AA7:AE7,\">=0.55\")","v":0}]
[{"$f":"grade_report!C8","v":"ליא גולדברג"},null,{"$f":"COUNTIF(grade_report!AG8:AK8,\">=0.55\")","v":0},"ללא",0.3,{"$f":"IF($I$2=\"פרק 1\",SUM(grade_report!P8),\nIF($I$2=\"פרקים 1-2\",(SUM(grade_report!P8)+SUM(grade_report!S8:T8)+MAX(grade_report!Q8:R8))/4,\nIF($I$2=\"פרקים 1-3\",(SUM(grade_report!P8)+SUM(grade_report!S8:T8)+MAX(grade_report!Q8:R8)+SUM(grade_report!U8))/5,\nIF($I$2=\"פרקים 1-4\",(SUM(grade_report!P8)+SUM(grade_report!S8:T8)+MAX(grade_report!Q8:R8)+SUM(grade_report!U8:V8))/6,\nIF($I$2=\"פרקים 1-5\",(SUM(grade_report!P8)+SUM(grade_report!S8:T8)+MAX(grade_report!Q8:R8)+SUM(grade_report!U8:W8))/7,\nIF($I$2=\"פרקים 1-6\",(SUM(grade_report!P8)+SUM(grade_report!S8:T8)+MAX(grade_report!Q8:R8)+SUM(grade_report!U8:X8))/8,\nIF($I$2=\"פרקים 1-7\",(SUM(grade_report!P8)+SUM(grade_report!S8:T8)+MAX(grade_report!Q8:R8)+SUM(grade_report!U8:Y8))/9,0)))))))","v":0},{"$f":"IF($I$2=\"פרק 1\",SUM(grade_report!E8),\nIF($I$2=\"פרקים 1-2\",(SUM(grade_report!E8)+SUM(grade_report!H8:I8)+MAX(grade_report!F8:G8))/4,\nIF($I$2=\"פרקים 1-3\",(SUM(grade_report!E8)+SUM(grade_report!H8:I8)+MAX(grade_report!F8:G8)+SUM(grade_report!J8))/5,\nIF($I$2=\"פרקים 1-4\",(SUM(grade_report!E8)+SUM(grade_report!H8:I8)+MAX(grade_report!F8:G8)+SUM(grade_report!J8:K8))/6,\nIF($I$2=\"פרקים 1-5\",(SUM(grade_report!E8)+SUM(grade_report!H8:I8)+MAX(grade_report!F8:G8)+SUM(grade_report!J8:L8))/7,\nIF($I$2=\"פרקים 1-6\",(SUM(grade_report!E8)+SUM(grade_report!H8:I8)+MAX(grade_report!F8:G8)+SUM(grade_report!J8:M8))/8,\nIF($I$2=\"פרקים 1-7\",(SUM(grade_report!E8)+SUM(grade_report!H8:I8)+MAX(grade_report!F8:G8)+SUM(grade_report!J8:N8))/9,0)))))))","v":1},{"$f":"COUNTIF(grade_report!AA8:AE8,\">=0.55\")","v":0}]
[{"$f":"grade_report!C9","v":"lihi_davidi"},null,{"$f":"COUNTIF(grade_report!AG9:AK9,\">=0.55\")","v":0},"ללא",0.28125,{"$f":"IF($I$2=\"פרק 1\",SUM(grade_report!P9),\nIF($I$2=\"פרקים 1-2\",(SUM(grade_report!P9)+SUM(grade_report!S9:T9)+MAX(grade_report!Q9:R9))/4,\nIF($I$2=\"פרקים 1-3\",(SUM(grade_report!P9)+SUM(grade_report!S9:T9)+MAX(grade_report!Q9:R9)+SUM(grade_report!U9))/5,\nIF($I$2=\"פרקים 1-4\",(SUM(grade_report!P9)+SUM(grade_report!S9:T9)+MAX(grade_report!Q9:R9)+SUM(grade_report!U9:V9))/6,\nIF($I$2=\"פרקים 1-5\",(SUM(grade_report!P9)+SUM(grade_report!S9:T9)+MAX(grade_report!Q9:R9)+SUM(grade_report!U9:W9))/7,\nIF($I$2=\"פרקים 1-6\",(SUM(grade_report!P9)+SUM(grade_report!S9:T9)+MAX(grade_report!Q9:R9)+SUM(grade_report!U9:X9))/8,\nIF($I$2=\"פרקים 1-7\",(SUM(grade_report!P9)+SUM(grade_report!S9:T9)+MAX(grade_report!Q9:R9)+SUM(grade_report!U9:Y9))/9,0)))))))","v":0},{"$f":"IF($I$2=\"פרק 1\",SUM(grade_report!E9),\nIF($I$2=\"פרקים 1-2\",(SUM(grade_report!E9)+SUM(grade_report!H9:I9)+MAX(grade_report!F9:G9))/4,\nIF($I$2=\"פרקים 1-3\",(SUM(grade_report!E9)+SUM(grade_report!H9:I9)+MAX(grade_report!F9:G9)+SUM(grade_report!J9))/5,\nIF($I$2=\"פרקים 1-4\",(SUM(grade_report!E9)+SUM(grade_report!H9:I9)+MAX(grade_report!F9:G9)+SUM(grade_report!J9:K9))/6,\nIF($I$2=\"פרקים 1-5\",(SUM(grade_report!E9)+SUM(grade_report!H9:I9)+MAX(grade_report!F9:G9)+SUM(grade_report!J9:L9))/7,\nIF($I$2=\"פרקים 1-6\",(SUM(grade_report!E9)+SUM(grade_report!H9:I9)+MAX(grade_report!F9:G9)+SUM(grade_report!J9:M9))/8,\nIF($I$2=\"פרקים 1-7\",(SUM(grade_report!E9)+SUM(grade_report!H9:I9)+MAX(grade_report!F9:G9)+SUM(grade_report!J9:N9))/9,0)))))))","v":0.9375},{"$f":"COUNTIF(grade_report!AA9:AE9,\">=0.55\")","v":0}]
[{"$f":"grade_report!C10","v":"oriziv06"},null,{"$f":"COUNTIF(grade_report!AG10:AK10,\">=0.55\")","v":0},"ללא",0,{"$f":"IF($I$2=\"פרק 1\",SUM(grade_report!P10),\nIF($I$2=\"פרקים 1-2\",(SUM(grade_report!P10)+SUM(grade_report!S10:T10)+MAX(grade_report!Q10:R10))/4,\nIF($I$2=\"פרקים 1-3\",(SUM(grade_report!P10)+SUM(grade_report!S10:T10)+MAX(grade_report!Q10:R10)+SUM(grade_report!U10))/5,\nIF($I$2=\"פרקים 1-4\",(SUM(grade_report!P10)+SUM(grade_report!S10:T10)+MAX(grade_report!Q10:R10)+SUM(grade_report!U10:V10))/6,\nIF($I$2=\"פרקים 1-5\",(SUM(grade_report!P10)+SUM(grade_report!S10:T10)+MAX(grade_report!Q10:R10)+SUM(grade_report!U10:W10))/7,\nIF($I$2=\"פרקים 1-6\",(SUM(grade_report!P10)+SUM(grade_report!S10:T10)+MAX(grade_report!Q10:R10)+SUM(grade_report!U10:X10))/8,\nIF($I$2=\"פרקים 1-7\",(SUM(grade_report!P10)+SUM(grade_report!S10:T10)+MAX(grade_report!Q10:R10)+SUM(grade_report!U10:Y10))/9,0)))))))","v":0},{"$f":"IF($I$2=\"פרק 1\",SUM(grade_report!E10),\nIF($I$2=\"פרקים 1-2\",(SUM(grade_report!E10)+SUM(grade_report!H10:I10)+MAX(grade_report!F10:G10))/4,\nIF($I$2=\"פרקים 1-3\",(SUM(grade_report!E10)+SUM(grade_report!H10:I10)+MAX(grade_report!F10:G10)+SUM(grade_report!J10))/5,\nIF($I$2=\"פרקים 1-4\",(SUM(grade_report!E10)+SUM(grade_report!H10:I10)+MAX(grade_report!F10:G10)+SUM(grade_report!J10:K10))/6,\nIF($I$2=\"פרקים 1-5\",(SUM(grade_report!E10)+SUM(grade_report!H10:I10)+MAX(grade_report!F10:G10)+SUM(grade_report!J10:L10))/7,\nIF($I$2=\"פרקים 1-6\",(SUM(grade_report!E10)+SUM(grade_report!H10:I10)+MAX(grade_report!F10:G10)+SUM(grade_report!J10:M10))/8,\nIF($I$2=\"פרקים 1-7\",(SUM(grade_report!E10)+SUM(grade_report!H10:I10)+MAX(grade_report!F10:G10)+SUM(grade_report!J10:N10))/9,0)))))))","v":0},{"$f":"COUNTIF(grade_report!AA10:AE10,\">=0.55\")","v":0}]
[{"$f":"grade_report!C11","v":"אריאלה_חן_יעקב_חי"},null,{"$f":"COUNTIF(grade_report!AG11:AK11,\">=0.55\")","v":0},"ללא",0.3,{"$f":"IF($I$2=\"פרק 1\",SUM(grade_report!P11),\nIF($I$2=\"פרקים 1-2\",(SUM(grade_report!P11)+SUM(grade_report!S11:T11)+MAX(grade_report!Q11:R11))/4,\nIF($I$2=\"פרקים 1-3\",(SUM(grade_report!P11)+SUM(grade_report!S11:T11)+MAX(grade_report!Q11:R11)+SUM(grade_report!U11))/5,\nIF($I$2=\"פרקים 1-4\",(SUM(grade_report!P11)+SUM(grade_report!S11:T11)+MAX(grade_report!Q11:R11)+SUM(grade_report!U11:V11))/6,\nIF($I$2=\"פרקים 1-5\",(SUM(grade_report!P11)+SUM(grade_report!S11:T11)+MAX(grade_report!Q11:R11)+SUM(grade_report!U11:W11))/7,\nIF($I$2=\"פרקים 1-6\",(SUM(grade_report!P11)+SUM(grade_report!S11:T11)+MAX(grade_report!Q11:R11)+SUM(grade_report!U11:X11))/8,\nIF($I$2=\"פרקים 1-7\",(SUM(grade_report!P11)+SUM(grade_report!S11:T11)+MAX(grade_report!Q11:R11)+SUM(grade_report!U11:Y11))/9,0)))))))","v":0},{"$f":"IF($I$2=\"פרק 1\",SUM(grade_report!E11),\nIF($I$2=\"פרקים 1-2\",(SUM(grade_report!E11)+SUM(grade_report!H11:I11)+MAX(grade_report!F11:G11))/4,\nIF($I$2=\"פרקים 1-3\",(SUM(grade_report!E11)+SUM(grade_report!H11:I11)+MAX(grade_report!F11:G11)+SUM(grade_report!J11))/5,\nIF($I$2=\"פרקים 1-4\",(SUM(grade_report!E11)+SUM(grade_report!H11:I11)+MAX(grade_report!F11:G11)+SUM(grade_report!J11:K11))/6,\nIF($I$2=\"פרקים 1-5\",(SUM(grade_report!E11)+SUM(grade_report!H11:I11)+MAX(grade_report!F11:G11)+SUM(grade_report!J11:L11))/7,\nIF($I$2=\"פרקים 1-6\",(SUM(grade_report!E11)+SUM(grade_report!H11:I11)+MAX(grade_report!F11:G11)+SUM(grade_report!J11:M11))/8,\nIF($I$2=\"פרקים 1-7\",(SUM(grade_report!E11)+SUM(grade_report!H11:I11)+MAX(grade_report!F11:G11)+SUM(grade_report!J11:N11))/9,0)))))))","v":1},{"$f":"COUNTIF(grade_report!AA11:AE11,\">=0.55\")","v":0}]
[{"$f":"grade_report!C12","v":"ליאם_פחימה"},null,{"$f":"COUNTIF(grade_report!AG12:AK12,\">=0.55\")","v":0},"ללא",0.3,{"$f":"IF($I$2=\"פרק 1\",SUM(grade_report!P12),\nIF($I$2=\"פרקים 1-2\",(SUM(grade_report!P12)+SUM(grade_report!S12:T12)+MAX(grade_report!Q12:R12))/4,\nIF($I$2=\"פרקים 1-3\",(SUM(grade_report!P12)+SUM(grade_report!S12:T12)+MAX(grade_report!Q12:R12)+SUM(grade_report!U12))/5,\nIF($I$2=\"פרקים 1-4\",(SUM(grade_report!P12)+SUM(grade_report!S12:T12)+MAX(grade_report!Q12:R12)+SUM(grade_report!U12:V12))/6,\nIF($I$2=\"פרקים 1-5\",(SUM(grade_report!P12)+SUM(grade_report!S12:T12)+MAX(grade_report!Q12:R12)+SUM(grade_report!U12:W12))/7,\nIF($I$2=\"פרקים 1-6\",(SUM(grade_report!P12)+SUM(grade_report!S12:T12)+MAX(grade_report!Q12:R12)+SUM(grade_report!U12:X12))/8,\nIF($I$2=\"פרקים 1-7\",(SUM(grade_report!P12)+SUM(grade_report!S12:T12)+MAX(grade_report!Q12:R12)+SUM(grade_report!U12:Y12))/9,0)))))))","v":0},{"$f":"IF($I$2=\"פרק 1\",SUM(grade_report!E12),\nIF($I$2=\"פרקים 1-2\",(SUM(grade_report!E12)+SUM(grade_report!H12:I12)+MAX(grade_report!F12:G12))/4,\nIF($I$2=\"פרקים 1-3\",(SUM(grade_report!E12)+SUM(grade_report!H12:I12)+MAX(grade_report!F12:G12)+SUM(grade_report!J12))/5,\nIF($I$2=\"פרקים 1-4\",(SUM(grade_report!E12)+SUM(grade_report!H12:I12)+MAX(grade_report!F12:G12)+SUM(grade_report!J12:K12))/6,\nIF($I$2=\"פרקים 1-5\",(SUM(grade_report!E12)+SUM(grade_report!H12:I12)+MAX(grade_report!F12:G12)+SUM(grade_report!J12:L12))/7,\nIF($I$2=\"פרקים 1-6\",(SUM(grade_report!E12)+SUM(grade_report!H12:I12)+MAX(grade_report!F12:G12)+SUM(grade_report!J12:M12))/8,\nIF($I$2=\"פרקים 1-7\",(SUM(grade_report!E12)+SUM(grade_report!H12:I12)+MAX(grade_report!F12:G12)+SUM(grade_report!J12:N12))/9,0)))))))","v":1},{"$f":"COUNTIF(grade_report!AA12:AE12,\">=0.55\")","v":0}]
[{"$f":"grade_report!C13","v":"אלה_רן"},null,{"$f":"COUNTIF(grade_report!AG13:AK13,\">=0.55\")","v":0},"ללא",0.28125,{"$f":"IF($I$2=\"פרק 1\",SUM(grade_report!P13),\nIF($I$2=\"פרקים 1-2\",(SUM(grade_report!P13)+SUM(grade_report!S13:T13)+MAX(grade_report!Q13:R13))/4,\nIF($I$2=\"פרקים 1-3\",(SUM(grade_report!P13)+SUM(grade_report!S13:T13)+MAX(grade_report!Q13:R13)+SUM(grade_report!U13))/5,\nIF($I$2=\"פרקים 1-4\",(SUM(grade_report!P13)+SUM(grade_report!S13:T13)+MAX(grade_report!Q13:R13)+SUM(grade_report!U13:V13))/6,\nIF($I$2=\"פרקים 1-5\",(SUM(grade_report!P13)+SUM(grade_report!S13:T13)+MAX(grade_report!Q13:R13)+SUM(grade_report!U13:W13))/7,\nIF($I$2=\"פרקים 1-6\",(SUM(grade_report!P13)+SUM(grade_report!S13:T13)+MAX(grade_report!Q13:R13)+SUM(grade_report!U13:X13))/8,\nIF($I$2=\"פרקים 1-7\",(SUM(grade_report!P13)+SUM(grade_report!S13:T13)+MAX(grade_report!Q13:R13)+SUM(grade_report!U13:Y13))/9,0)))))))","v":0},{"$f":"IF($I$2=\"פרק 1\",SUM(grade_report!E13),\nIF($I$2=\"פרקים 1-2\",(SUM(grade_report!E13)+SUM(grade_report!H13:I13)+MAX(grade_report!F13:G13))/4,\nIF($I$2=\"פרקים 1-3\",(SUM(grade_report!E13)+SUM(grade_report!H13:I13)+MAX(grade_report!F13:G13)+SUM(grade_report!J13))/5,\nIF($I$2=\"פרקים 1-4\",(SUM(grade_report!E13)+SUM(grade_report!H13:I13)+MAX(grade_report!F13:G13)+SUM(grade_report!J13:K13))/6,\nIF($I$2=\"פרקים 1-5\",(SUM(grade_report!E13)+SUM(grade_report!H13:I13)+MAX(grade_report!F13:G13)+SUM(grade_report!J13:L13))/7,\nIF($I$2=\"פרקים 1-6\",(SUM(grade_report!E13)+SUM(grade_report!H13:I13)+MAX(grade_report!F13:G13)+SUM(grade_report!J13:M13))/8,\nIF($I$2=\"פרקים 1-7\",(SUM(grade_report!E13)+SUM(grade_report!H13:I13)+MAX(grade_report!F13:G13)+SUM(grade_report!J13:N13))/9,0)))))))","v":0.9375},{"$f":"COUNTIF(grade_report!AA13:AE13,\">=0.55\")","v":0}]
[{"$f":"grade_report!C14","v":"אורי בלונדר"},null,{"$f":"COUNTIF(grade_report!AG14:AK14,\">=0.55\")","v":0},"ללא",0.28125,{"$f":"IF($I$2=\"פרק 1\",SUM(grade_report!P14),\nIF($I$2=\"פרקים 1-2\",(SUM(grade_report!P14)+SUM(grade_report!S14:T14)+MAX(grade_report!Q14:R14))/4,\nIF($I$2=\"פרקים 1-3\",(SUM(grade_report!P14)+SUM(grade_report!S14:T14)+MAX(grade_report!Q14:R14)+SUM(grade_report!U14))/5,\nIF($I$2=\"פרקים 1-4\",(SUM(grade_report!P14)+SUM(grade_report!S14:T14)+MAX(grade_report!Q14:R14)+SUM(grade_report!U14:V14))/6,\nIF($I$2=\"פרקים 1-5\",(SUM(grade_report!P14)+SUM(grade_report!S14:T14)+MAX(grade_report!Q14:R14)+SUM(grade_report!U14:W14))/7,\nIF($I$2=\"פרקים 1-6\",(SUM(grade_report!P14)+SUM(grade_report!S14:T14)+MAX(grade_report!Q14:R14)+SUM(grade_report!U14:X14))/8,\nIF($I$2=\"פרקים 1-7\",(SUM(grade_report!P14)+SUM(grade_report!S14:T14)+MAX(grade_report!Q14:R14)+SUM(grade_report!U14:Y14))/9,0)))))))","v":0},{"$f":"IF($I$2=\"פרק 1\",SUM(grade_report!E14),\nIF($I$2=\"פרקים 1-2\",(SUM(grade_report!E14)+SUM(grade_report!H14:I14)+MAX(grade_report!F14:G14))/4,\nIF($I$2=\"פרקים 1-3\",(SUM(grade_report!E14)+SUM(grade_report!H14:I14)+MAX(grade_report!F14:G14)+SUM(grade_report!J14))/5,\nIF($I$2=\"פרקים 1-4\",(SUM(grade_report!E14)+SUM(grade_report!H14:I14)+MAX(grade_report!F14:G14)+SUM(grade_report!J14:K14))/6,\nIF($I$2=\"פרקים 1-5\",(SUM(grade_report!E14)+SUM(grade_report!H14:I14)+MAX(grade_report!F14:G14)+SUM(grade_report!J14:L14))/7,\nIF($I$2=\"פרקים 1-6\",(SUM(grade_report!E14)+SUM(grade_report!H14:I14)+MAX(grade_report!F14:G14)+SUM(grade_report!J14:M14))/8,\nIF($I$2=\"פרקים 1-7\",(SUM(grade_report!E14)+SUM(grade_report!H14:I14)+MAX(grade_report!F14:G14)+SUM(grade_report!J14:N14))/9,0)))))))","v":0.9375},{"$f":"COUNTIF(grade_report!AA14:AE14,\">=0.55\")","v":0}]
[{"$f":"grade_report!C15","v":"יעל גרינוולד"},null,{"$f":"COUNTIF(grade_report!AG15:AK15,\">=0.55\")","v":0},"ללא",0.26093750000010002,{"$f":"IF($I$2=\"פרק 1\",SUM(grade_report!P15),\nIF($I$2=\"פרקים 1-2\",(SUM(grade_report!P15)+SUM(grade_report!S15:T15)+MAX(grade_report!Q15:R15))/4,\nIF($I$2=\"פרקים 1-3\",(SUM(grade_report!P15)+SUM(grade_report!S15:T15)+MAX(grade_report!Q15:R15)+SUM(grade_report!U15))/5,\nIF($I$2=\"פרקים 1-4\",(SUM(grade_report!P15)+SUM(grade_report!S15:T15)+MAX(grade_report!Q15:R15)+SUM(grade_report!U15:V15))/6,\nIF($I$2=\"פרקים 1-5\",(SUM(grade_report!P15)+SUM(grade_report!S15:T15)+MAX(grade_report!Q15:R15)+SUM(grade_report!U15:W15))/7,\nIF($I$2=\"פרקים 1-6\",(SUM(grade_report!P15)+SUM(grade_report!S15:T15)+MAX(grade_report!Q15:R15)+SUM(grade_report!U15:X15))/8,\nIF($I$2=\"פרקים 1-7\",(SUM(grade_report!P15)+SUM(grade_report!S15:T15)+MAX(grade_report!Q15:R15)+SUM(grade_report!U15:Y15))/9,0)))))))","v":0},{"$f":"IF($I$2=\"פרק 1\",SUM(grade_report!E15),\nIF($I$2=\"פרקים 1-2\",(SUM(grade_report!E15)+SUM(grade_report!H15:I15)+MAX(grade_report!F15:G15))/4,\nIF($I$2=\"פרקים 1-3\",(SUM(grade_report!E15)+SUM(grade_report!H15:I15)+MAX(grade_report!F15:G15)+SUM(grade_report!J15))/5,\nIF($I$2=\"פרקים 1-4\",(SUM(grade_report!E15)+SUM(grade_report!H15:I15)+MAX(grade_report!F15:G15)+SUM(grade_report!J15:K15))/6,\nIF($I$2=\"פרקים 1-5\",(SUM(grade_report!E15)+SUM(grade_report!H15:I15)+MAX(grade_report!F15:G15)+SUM(grade_report!J15:L15))/7,\nIF($I$2=\"פרקים 1-6\",(SUM(grade_report!E15)+SUM(grade_report!H15:I15)+MAX(grade_report!F15:G15)+SUM(grade_report!J15:M15))/8,\nIF($I$2=\"פרקים 1-7\",(SUM(grade_report!E15)+SUM(grade_report!H15:I15)+MAX(grade_report!F15:G15)+SUM(grade_report!J15:N15))/9,0)))))))","v":0.86979166666700003},{"$f":"COUNTIF(grade_report!AA15:AE15,\">=0.55\")","v":0}]
[{"$f":"grade_report!C16","v":"עדי_יוסף_3"},null,{"$f":"COUNTIF(grade_report!AG16:AK16,\">=0.55\")","v":0},"ללא",0.3,{"$f":"IF($I$2=\"פרק 1\",SUM(grade_report!P16),\nIF($I$2=\"פרקים 1-2\",(SUM(grade_report!P16)+SUM(grade_report!S16:T16)+MAX(grade_report!Q16:R16))/4,\nIF($I$2=\"פרקים 1-3\",(SUM(grade_report!P16)+SUM(grade_report!S16:T16)+MAX(grade_report!Q16:R16)+SUM(grade_report!U16))/5,\nIF($I$2=\"פרקים 1-4\",(SUM(grade_report!P16)+SUM(grade_report!S16:T16)+MAX(grade_report!Q16:R16)+SUM(grade_report!U16:V16))/6,\nIF($I$2=\"פרקים 1-5\",(SUM(grade_report!P16)+SUM(grade_report!S16:T16)+MAX(grade_report!Q16:R16)+SUM(grade_report!U16:W16))/7,\nIF($I$2=\"פרקים 1-6\",(SUM(grade_report!P16)+SUM(grade_report!S16:T16)+MAX(grade_report!Q16:R16)+SUM(grade_report!U16:X16))/8,\nIF($I$2=\"פרקים 1-7\",(SUM(grade_report!P16)+SUM(grade_report!S16:T16)+MAX(grade_report!Q16:R16)+SUM(grade_report!U16:Y16))/9,0)))))))","v":0},{"$f":"IF($I$2=\"פרק 1\",SUM(grade_report!E16),\nIF($I$2=\"פרקים 1-2\",(SUM(grade_report!E16)+SUM(grade_report!H16:I16)+MAX(grade_report!F16:G16))/4,\nIF($I$2=\"פרקים 1-3\",(SUM(grade_report!E16)+SUM(grade_report!H16:I16)+MAX(grade_report!F16:G16)+SUM(grade_report!J16))/5,\nIF($I$2=\"פרקים 1-4\",(SUM(grade_report!E16)+SUM(grade_report!H16:I16)+MAX(grade_report!F16:G16)+SUM(grade_report!J16:K16))/6,\nIF($I$2=\"פרקים 1-5\",(SUM(grade_report!E16)+SUM(grade_report!H16:I16)+MAX(grade_report!F16:G16)+SUM(grade_report!J16:L16))/7,\nIF($I$2=\"פרקים 1-6\",(SUM(grade_report!E16)+SUM(grade_report!H16:I16)+MAX(grade_report!F16:G16)+SUM(grade_report!J16:M16))/8,\nIF($I$2=\"פרקים 1-7\",(SUM(grade_report!E16)+SUM(grade_report!H16:I16)+MAX(grade_report!F16:G16)+SUM(grade_report!J16:N16))/9,0)))))))","v":1},{"$f":"COUNTIF(grade_report!AA16:AE16,\">=0.55\")","v":0}]
[{"$f":"grade_report!C17","v":"אליה תמרי"},null,{"$f":"COUNTIF(grade_report!AG17:AK17,\">=0.55\")","v":0},"ללא",0.3,{"$f":"IF($I$2=\"פרק 1\",SUM(grade_report!P17),\nIF($I$2=\"פרקים 1-2\",(SUM(grade_report!P17)+SUM(grade_report!S17:T17)+MAX(grade_report!Q17:R17))/4,\nIF($I$2=\"פרקים 1-3\",(SUM(grade_report!P17)+SUM(grade_report!S17:T17)+MAX(grade_report!Q17:R17)+SUM(grade_report!U17))/5,\nIF($I$2=\"פרקים 1-4\",(SUM(grade_report!P17)+SUM(grade_report!S17:T17)+MAX(grade_report!Q17:R17)+SUM(grade_report!U17:V17))/6,\nIF($I$2=\"פרקים 1-5\",(SUM(grade_report!P17)+SUM(grade_report!S17:T17)+MAX(grade_report!Q17:R17)+SUM(grade_report!U17:W17))/7,\nIF($I$2=\"פרקים 1-6\",(SUM(grade_report!P17)+SUM(grade_report!S17:T17)+MAX(grade_report!Q17:R17)+SUM(grade_report!U17:X17))/8,\nIF($I$2=\"פרקים 1-7\",(SUM(grade_report!P17)+SUM(grade_report!S17:T17)+MAX(grade_report!Q17:R17)+SUM(grade_report!U17:Y17))/9,0)))))))","v":0},{"$f":"IF($I$2=\"פרק 1\",SUM(grade_report!E17),\nIF($I$2=\"פרקים 1-2\",(SUM(grade_report!E17)+SUM(grade_report!H17:I17)+MAX(grade_report!F17:G17))/4,\nIF($I$2=\"פרקים 1-3\",(SUM(grade_report!E17)+SUM(grade_report!H17:I17)+MAX(grade_report!F17:G17)+SUM(grade_report!J17))/5,\nIF($I$2=\"פרקים 1-4\",(SUM(grade_report!E17)+SUM(grade_report!H17:I17)+MAX(grade_report!F17:G17)+SUM(grade_report!J17:K17))/6,\nIF($I$2=\"פרקים 1-5\",(SUM(grade_report!E17)+SUM(grade_report!H17:I17)+MAX(grade_report!F17:G17)+SUM(grade_report!J17:L17))/7,\nIF($I$2=\"פרקים 1-6\",(SUM(grade_report!E17)+SUM(grade_report!H17:I17)+MAX(grade_report!F17:G17)+SUM(grade_report!J17:M17))/8,\nIF($I$2=\"פרקים 1-7\",(SUM(grade_report!E17)+SUM(grade_report!H17:I17)+MAX(grade_report!F17:G17)+SUM(grade_report!J17:N17))/9,0)))))))","v":1},{"$f":"COUNTIF(grade_report!AA17:AE17,\">=0.55\")","v":0}]
[{"$f":"grade_report!C18","v":"אדירה_חנה_יעקב"},null,{"$f":"COUNTIF(grade_report!AG18:AK18,\">=0.55\")","v":0},"ללא",0.3,{"$f":"IF($I$2=\"פרק 1\",SUM(grade_report!P18),\nIF($I$2=\"פרקים 1-2\",(SUM(grade_report!P18)+SUM(grade_report!S18:T18)+MAX(grade_report!Q18:R18))/4,\nIF($I$2=\"פרקים 1-3\",(SUM(grade_report!P18)+SUM(grade_report!S18:T18)+MAX(grade_report!Q18:R18)+SUM(grade_report!U18))/5,\nIF($I$2=\"פרקים 1-4\",(SUM(grade_report!P18)+SUM(grade_report!S18:T18)+MAX(grade_report!Q18:R18)+SUM(grade_report!U18:V18))/6,\nIF($I$2=\"פרקים 1-5\",(SUM(grade_report!P18)+SUM(grade_report!S18:T18)+MAX(grade_report!Q18:R18)+SUM(grade_report!U18:W18))/7,\nIF($I$2=\"פרקים 1-6\",(SUM(grade_report!P18)+SUM(grade_report!S18:T18)+MAX(grade_report!Q18:R18)+SUM(grade_report!U18:X18))/8,\nIF($I$2=\"פרקים 1-7\",(SUM(grade_report!P18)+SUM(grade_report!S18:T18)+MAX(grade_report!Q18:R18)+SUM(grade_report!U18:Y18))/9,0)))))))","v":0},{"$f":"IF($I$2=\"פרק 1\",SUM(grade_report!E18),\nIF($I$2=\"פרקים 1-2\",(SUM(grade_report!E18)+SUM(grade_report!H18:I18)+MAX(grade_report!F18:G18))/4,\nIF($I$2=\"פרקים 1-3\",(SUM(grade_report!E18)+SUM(grade_report!H18:I18)+MAX(grade_report!F18:G18)+SUM(grade_report!J18))/5,\nIF($I$2=\"פרקים 1-4\",(SUM(grade_report!E18)+SUM(grade_report!H18:I18)+MAX(grade_report!F18:G18)+SUM(grade_report!J18:K18))/6,\nIF($I$2=\"פרקים 1-5\",(SUM(grade_report!E18)+SUM(grade_report!H18:I18)+MAX(grade_report!F18:G18)+SUM(grade_report!J18:L18))/7,\nIF($I$2=\"פרקים 1-6\",(SUM(grade_report!E18)+SUM(grade_report!H18:I18)+MAX(grade_report!F18:G18)+SUM(grade_report!J18:M18))/8,\nIF($I$2=\"פרקים 1-7\",(SUM(grade_report!E18)+SUM(grade_report!H18:I18)+MAX(grade_report!F18:G18)+SUM(grade_report!J18:N18))/9,0)))))))","v":1},{"$f":"COUNTIF(grade_report!AA18:AE18,\">=0.55\")","v":0}]
[{"$f":"grade_report!C19","v":"דולב_בן_צור"},null,{"$f":"COUNTIF(grade_report!AG19:AK19,\">=0.55\")","v":0},"ללא",0,{"$f":"IF($I$2=\"פרק 1\",SUM(grade_report!P19),\nIF($I$2=\"פרקים 1-2\",(SUM(grade_report!P19)+SUM(grade_report!S19:T19)+MAX(grade_report!Q19:R19))/4,\nIF($I$2=\"פרקים 1-3\",(SUM(grade_report!P19)+SUM(grade_report!S19:T19)+MAX(grade_report!Q19:R19)+SUM(grade_report!U19))/5,\nIF($I$2=\"פרקים 1-4\",(SUM(grade_report!P19)+SUM(grade_report!S19:T19)+MAX(grade_report!Q19:R19)+SUM(grade_report!U19:V19))/6,\nIF($I$2=\"פרקים 1-5\",(SUM(grade_report!P19)+SUM(grade_report!S19:T19)+MAX(grade_report!Q19:R19)+SUM(grade_report!U19:W19))/7,\nIF($I$2=\"פרקים 1-6\",(SUM(grade_report!P19)+SUM(grade_report!S19:T19)+MAX(grade_report!Q19:R19)+SUM(grade_report!U19:X19))/8,\nIF($I$2=\"פרקים 1-7\",(SUM(grade_report!P19)+SUM(grade_report!S19:T19)+MAX(grade_report!Q19:R19)+SUM(grade_report!U19:Y19))/9,0)))))))","v":0},{"$f":"IF($I$2=\"פרק 1\",SUM(grade_report!E19),\nIF($I$2=\"פרקים 1-2\",(SUM(grade_report!E19)+SUM(grade_report!H19:I19)+MAX(grade_report!F19:G19))/4,\nIF($I$2=\"פרקים 1-3\",(SUM(grade_report!E19)+SUM(grade_report!H19:I19)+MAX(grade_report!F19:G19)+SUM(grade_report!J19))/5,\nIF($I$2=\"פרקים 1-4\",(SUM(grade_report!E19)+SUM(grade_report!H19:I19)+MAX(grade_report!F19:G19)+SUM(grade_report!J19:K19))/6,\nIF($I$2=\"פרקים 1-5\",(SUM(grade_report!E19)+SUM(grade_report!H19:I19)+MAX(grade_report!F19:G19)+SUM(grade_report!J19:L19))/7,\nIF($I$2=\"פרקים 1-6\",(SUM(grade_report!E19)+SUM(grade_report!H19:I19)+MAX(grade_report!F19:G19)+SUM(grade_report!J19:M19))/8,\nIF($I$2=\"פרקים 1-7\",(SUM(grade_report!E19)+SUM(grade_report!H19:I19)+MAX(grade_report!F19:G19)+SUM(grade_report!J19:N19))/9,0)))))))","v":0},{"$f":"COUNTIF(grade_report!AA19:AE19,\">=0.55\")","v":0}]
[{"$f":"grade_report!C20","v":"טליה_דוד_1"},null,{"$f":"COUNTIF(grade_report!AG20:AK20,\">=0.55\")","v":0},"ללא",0.2984375000001,{"$f":"IF($I$2=\"פרק 1\",SUM(grade_report!P20),\nIF($I$2=\"פרקים 1-2\",(SUM(grade_report!P20)+SUM(grade_report!S20:T20)+MAX(grade_report!Q20:R20))/4,\nIF($I$2=\"פרקים 1-3\",(SUM(grade_report!P20)+SUM(grade_report!S20:T20)+MAX(grade_report!Q20:R20)+SUM(grade_report!U20))/5,\nIF($I$2=\"פרקים 1-4\",(SUM(grade_report!P20)+SUM(grade_report!S20:T20)+MAX(grade_report!Q20:R20)+SUM(grade_report!U20:V20))/6,\nIF($I$2=\"פרקים 1-5\",(SUM(grade_report!P20)+SUM(grade_report!S20:T20)+MAX(grade_report!Q20:R20)+SUM(grade_report!U20:W20))/7,\nIF($I$2=\"פרקים 1-6\",(SUM(grade_report!P20)+SUM(grade_report!S20:T20)+MAX(grade_report!Q20:R20)+SUM(grade_report!U20:X20))/8,\nIF($I$2=\"פרקים 1-7\",(SUM(grade_report!P20)+SUM(grade_report!S20:T20)+MAX(grade_report!Q20:R20)+SUM(grade_report!U20:Y20))/9,0)))))))","v":0},{"$f":"IF($I$2=\"פרק 1\",SUM(grade_report!E20),\nIF($I$2=\"פרקים 1-2\",(SUM(grade_report!E20)+SUM(grade_report!H20:I20)+MAX(grade_report!F20:G20))/4,\nIF($I$2=\"פרקים 1-3\",(SUM(grade_report!E20)+SUM(grade_report!H20:I20)+MAX(grade_report!F20:G20)+SUM(grade_report!J20))/5,\nIF($I$2=\"פרקים 1-4\",(SUM(grade_report!E20)+SUM(grade_report!H20:I20)+MAX(grade_report!F20:G20)+SUM(grade_report!J20:K20))/6,\nIF($I$2=\"פרקים 1-5\",(SUM(grade_report!E20)+SUM(grade_report!H20:I20)+MAX(grade_report!F20:G20)+SUM(grade_report!J20:L20))/7,\nIF($I$2=\"פרקים 1-6\",(SUM(grade_report!E20)+SUM(grade_report!H20:I20)+MAX(grade_report!F20:G20)+SUM(grade_report!J20:M20))/8,\nIF($I$2=\"פרקים 1-7\",(SUM(grade_report!E20)+SUM(grade_report!H20:I20)+MAX(grade_report!F20:G20)+SUM(grade_report!J20:N20))/9,0)))))))","v":0.99479166666700003},{"$f":"COUNTIF(grade_report!AA20:AE20,\">=0.55\")","v":0}]
[{"$f":"grade_report!C21","v":"נטע_הייזלר"},null,{"$f":"COUNTIF(grade_report!AG21:AK21,\">=0.55\")","v":0},"ללא",0,{"$f":"IF($I$2=\"פרק 1\",SUM(grade_report!P21),\nIF($I$2=\"פרקים 1-2\",(SUM(grade_report!P21)+SUM(grade_report!S21:T21)+MAX(grade_report!Q21:R21))/4,\nIF($I$2=\"פרקים 1-3\",(SUM(grade_report!P21)+SUM(grade_report!S21:T21)+MAX(grade_report!Q21:R21)+SUM(grade_report!U21))/5,\nIF($I$2=\"פרקים 1-4\",(SUM(grade_report!P21)+SUM(grade_report!S21:T21)+MAX(grade_report!Q21:R21)+SUM(grade_report!U21:V21))/6,\nIF($I$2=\"פרקים 1-5\",(SUM(grade_report!P21)+SUM(grade_report!S21:T21)+MAX(grade_report!Q21:R21)+SUM(grade_report!U21:W21))/7,\nIF($I$2=\"פרקים 1-6\",(SUM(grade_report!P21)+SUM(grade_report!S21:T21)+MAX(grade_report!Q21:R21)+SUM(grade_report!U21:X21))/8,\nIF($I$2=\"פרקים 1-7\",(SUM(grade_report!P21)+SUM(grade_report!S21:T21)+MAX(grade_report!Q21:R21)+SUM(grade_report!U21:Y21))/9,0)))))))","v":0},{"$f":"IF($I$2=\"פרק 1\",SUM(grade_report!E21),\nIF($I$2=\"פרקים 1-2\",(SUM(grade_report!E21)+SUM(grade_report!H21:I21)+MAX(grade_report!F21:G21))/4,\nIF($I$2=\"פרקים 1-3\",(SUM(grade_report!E21)+SUM(grade_report!H21:I21)+MAX(grade_report!F21:G21)+SUM(grade_report!J21))/5,\nIF($I$2=\"פרקים 1-4\",(SUM(grade_report!E21)+SUM(grade_report!H21:I21)+MAX(grade_report!F21:G21)+SUM(grade_report!J21:K21))/6,\nIF($I$2=\"פרקים 1-5\",(SUM(grade_report!E21)+SUM(grade_report!H21:I21)+MAX(grade_report!F21:G21)+SUM(grade_report!J21:L21))/7,\nIF($I$2=\"פרקים 1-6\",(SUM(grade_report!E21)+SUM(grade_report!H21:I21)+MAX(grade_report!F21:G21)+SUM(grade_report!J21:M21))/8,\nIF($I$2=\"פרקים 1-7\",(SUM(grade_report!E21)+SUM(grade_report!H21:I21)+MAX(grade_report!F21:G21)+SUM(grade_report!J21:N21))/9,0)))))))","v":0},{"$f":"COUNTIF(grade_report!AA21:AE21,\">=0.55\")","v":0}]
[{"$f":"grade_report!C22","v":"תהל_חזות"},null,{"$f":"COUNTIF(grade_report!AG22:AK22,\">=0.55\")","v":0},"ללא",0.3,{"$f":"IF($I$2=\"פרק 1\",SUM(grade_report!P22),\nIF($I$2=\"פרקים 1-2\",(SUM(grade_report!P22)+SUM(grade_report!S22:T22)+MAX(grade_report!Q22:R22))/4,\nIF($I$2=\"פרקים 1-3\",(SUM(grade_report!P22)+SUM(grade_report!S22:T22)+MAX(grade_report!Q22:R22)+SUM(grade_report!U22))/5,\nIF($I$2=\"פרקים 1-4\",(SUM(grade_report!P22)+SUM(grade_report!S22:T22)+MAX(grade_report!Q22:R22)+SUM(grade_report!U22:V22))/6,\nIF($I$2=\"פרקים 1-5\",(SUM(grade_report!P22)+SUM(grade_report!S22:T22)+MAX(grade_report!Q22:R22)+SUM(grade_report!U22:W22))/7,\nIF($I$2=\"פרקים 1-6\",(SUM(grade_report!P22)+SUM(grade_report!S22:T22)+MAX(grade_report!Q22:R22)+SUM(grade_report!U22:X22))/8,\nIF($I$2=\"פרקים 1-7\",(SUM(grade_report!P22)+SUM(grade_report!S22:T22)+MAX(grade_report!Q22:R22)+SUM(grade_report!U22:Y22))/9,0)))))))","v":0},{"$f":"IF($I$2=\"פרק 1\",SUM(grade_report!E22),\nIF($I$2=\"פרקים 1-2\",(SUM(grade_report!E22)+SUM(grade_report!H22:I22)+MAX(grade_report!F22:G22))/4,\nIF($I$2=\"פרקים 1-3\",(SUM(grade_report!E22)+SUM(grade_report!H22:I22)+MAX(grade_report!F22:G22)+SUM(grade_report!J22))/5,\nIF($I$2=\"פרקים 1-4\",(SUM(grade_report!E22)+SUM(grade_report!H22:I22)+MAX(grade_report!F22:G22)+SUM(grade_report!J22:K22))/6,\nIF($I$2=\"פרקים 1-5\",(SUM(grade_report!E22)+SUM(grade_report!H22:I22)+MAX(grade_report!F22:G22)+SUM(grade_report!J22:L22))/7,\nIF($I$2=\"פרקים 1-6\",(SUM(grade_report!E22)+SUM(grade_report!H22:I22)+MAX(grade_report!F22:G22)+SUM(grade_report!J22:M22))/8,\nIF($I$2=\"פרקים 1-7\",(SUM(grade_report!E22)+SUM(grade_report!H22:I22)+MAX(grade_report!F22:G22)+SUM(grade_report!J22:N22))/9,0)))))))","v":1},{"$f":"COUNTIF(grade_report!AA22:AE22,\">=0.55\")","v":0}]
[{"$f":"grade_report!C23","v":"לילך סמואל"},null,{"$f":"COUNTIF(grade_report!AG23:AK23,\">=0.55\")","v":0},"ללא",0.26250000000000001,{"$f":"IF($I$2=\"פרק 1\",SUM(grade_report!P23),\nIF($I$2=\"פרקים 1-2\",(SUM(grade_report!P23)+SUM(grade_report!S23:T23)+MAX(grade_report!Q23:R23))/4,\nIF($I$2=\"פרקים 1-3\",(SUM(grade_report!P23)+SUM(grade_report!S23:T23)+MAX(grade_report!Q23:R23)+SUM(grade_report!U23))/5,\nIF($I$2=\"פרקים 1-4\",(SUM(grade_report!P23)+SUM(grade_report!S23:T23)+MAX(grade_report!Q23:R23)+SUM(grade_report!U23:V23))/6,\nIF($I$2=\"פרקים 1-5\",(SUM(grade_report!P23)+SUM(grade_report!S23:T23)+MAX(grade_report!Q23:R23)+SUM(grade_report!U23:W23))/7,\nIF($I$2=\"פרקים 1-6\",(SUM(grade_report!P23)+SUM(grade_report!S23:T23)+MAX(grade_report!Q23:R23)+SUM(grade_report!U23:X23))/8,\nIF($I$2=\"פרקים 1-7\",(SUM(grade_report!P23)+SUM(grade_report!S23:T23)+MAX(grade_report!Q23:R23)+SUM(grade_report!U23:Y23))/9,0)))))))","v":0},{"$f":"IF($I$2=\"פרק 1\",SUM(grade_report!E23),\nIF($I$2=\"פרקים 1-2\",(SUM(grade_report!E23)+SUM(grade_report!H23:I23)+MAX(grade_report!F23:G23))/4,\nIF($I$2=\"פרקים 1-3\",(SUM(grade_report!E23)+SUM(grade_report!H23:I23)+MAX(grade_report!F23:G23)+SUM(grade_report!J23))/5,\nIF($I$2=\"פרקים 1-4\",(SUM(grade_report!E23)+SUM(grade_report!H23:I23)+MAX(grade_report!F23:G23)+SUM(grade_report!J23:K23))/6,\nIF($I$2=\"פרקים 1-5\",(SUM(grade_report!E23)+SUM(grade_report!H23:I23)+MAX(grade_report!F23:G23)+SUM(grade_report!J23:L23))/7,\nIF($I$2=\"פרקים 1-6\",(SUM(grade_report!E23)+SUM(grade_report!H23:I23)+MAX(grade_report!F23:G23)+SUM(grade_report!J23:M23))/8,\nIF($I$2=\"פרקים 1-7\",(SUM(grade_report!E23)+SUM(grade_report!H23:I23)+MAX(grade_report!F23:G23)+SUM(grade_report!J23:N23))/9,0)))))))","v":0.875},{"$f":"COUNTIF(grade_report!AA23:AE23,\">=0.55\")","v":0}]
[{"$f":"grade_report!C24","v":"שחר_68"},null,{"$f":"COUNTIF(grade_report!AG24:AK24,\">=0.55\")","v":0},"ללא",0,{"$f":"IF($I$2=\"פרק 1\",SUM(grade_report!P24),\nIF($I$2=\"פרקים 1-2\",(SUM(grade_report!P24)+SUM(grade_report!S24:T24)+MAX(grade_report!Q24:R24))/4,\nIF($I$2=\"פרקים 1-3\",(SUM(grade_report!P24)+SUM(grade_report!S24:T24)+MAX(grade_report!Q24:R24)+SUM(grade_report!U24))/5,\nIF($I$2=\"פרקים 1-4\",(SUM(grade_report!P24)+SUM(grade_report!S24:T24)+MAX(grade_report!Q24:R24)+SUM(grade_report!U24:V24))/6,\nIF($I$2=\"פרקים 1-5\",(SUM(grade_report!P24)+SUM(grade_report!S24:T24)+MAX(grade_report!Q24:R24)+SUM(grade_report!U24:W24))/7,\nIF($I$2=\"פרקים 1-6\",(SUM(grade_report!P24)+SUM(grade_report!S24:T24)+MAX(grade_report!Q24:R24)+SUM(grade_report!U24:X24))/8,\nIF($I$2=\"פרקים 1-7\",(SUM(grade_report!P24)+SUM(grade_report!S24:T24)+MAX(grade_report!Q24:R24)+SUM(grade_report!U24:Y24))/9,0)))))))","v":0},{"$f":"IF($I$2=\"פרק 1\",SUM(grade_report!E24),\nIF($I$2=\"פרקים 1-2\",(SUM(grade_report!E24)+SUM(grade_report!H24:I24)+MAX(grade_report!F24:G24))/4,\nIF($I$2=\"פרקים 1-3\",(SUM(grade_report!E24)+SUM(grade_report!H24:I24)+MAX(grade_report!F24:G24)+SUM(grade_report!J24))/5,\nIF($I$2=\"פרקים 1-4\",(SUM(grade_report!E24)+SUM(grade_report!H24:I24)+MAX(grade_report!F24:G24)+SUM(grade_report!J24:K24))/6,\nIF($I$2=\"פרקים 1-5\",(SUM(grade_report!E24)+SUM(grade_report!H24:I24)+MAX(grade_report!F24:G24)+SUM(grade_report!J24:L24))/7,\nIF($I$2=\"פרקים 1-6\",(SUM(grade_report!E24)+SUM(grade_report!H24:I24)+MAX(grade_report!F24:G24)+SUM(grade_report!J24:M24))/8,\nIF($I$2=\"פרקים 1-7\",(SUM(grade_report!E24)+SUM(grade_report!H24:I24)+MAX(grade_report!F24:G24)+SUM(grade_report!J24:N24))/9,0)))))))","v":0},{"$f":"COUNTIF(grade_report!AA24:AE24,\">=0.55\")","v":0}]
[{"$f":"grade_report!C25","v":"שחר_נוב"},null,{"$f":"COUNTIF(grade_report!AG25:AK25,\">=0.55\")","v":0},"ללא",0.3,{"$f":"IF($I$2=\"פרק 1\",SUM(grade_report!P25),\nIF($I$2=\"פרקים 1-2\",(SUM(grade_report!P25)+SUM(grade_report!S25:T25)+MAX(grade_report!Q25:R25))/4,\nIF($I$2=\"פרקים 1-3\",(SUM(grade_report!P25)+SUM(grade_report!S25:T25)+MAX(grade_report!Q25:R25)+SUM(grade_report!U25))/5,\nIF($I$2=\"פרקים 1-4\",(SUM(grade_report!P25)+SUM(grade_report!S25:T25)+MAX(grade_report!Q25:R25)+SUM(grade_report!U25:V25))/6,\nIF($I$2=\"פרקים 1-5\",(SUM(grade_report!P25)+SUM(grade_report!S25:T25)+MAX(grade_report!Q25:R25)+SUM(grade_report!U25:W25))/7,\nIF($I$2=\"פרקים 1-6\",(SUM(grade_report!P25)+SUM(grade_report!S25:T25)+MAX(grade_report!Q25:R25)+SUM(grade_report!U25:X25))/8,\nIF($I$2=\"פרקים 1-7\",(SUM(grade_report!P25)+SUM(grade_report!S25:T25)+MAX(grade_report!Q25:R25)+SUM(grade_report!U25:Y25))/9,0)))))))","v":0},{"$f":"IF($I$2=\"פרק 1\",SUM(grade_report!E25),\nIF($I$2=\"פרקים 1-2\",(SUM(grade_report!E25)+SUM(grade_report!H25:I25)+MAX(grade_report!F25:G25))/4,\nIF($I$2=\"פרקים 1-3\",(SUM(grade_report!E25)+SUM(grade_report!H25:I25)+MAX(grade_report!F25:G25)+SUM(grade_report!J25))/5,\nIF($I$2=\"פרקים 1-4\",(SUM(grade_report!E25)+SUM(grade_report!H25:I25)+MAX(grade_report!F25:G25)+SUM(grade_report!J25:K25))/6,\nIF($I$2=\"פרקים 1-5\",(SUM(grade_report!E25)+SUM(grade_report!H25:I25)+MAX(grade_report!F25:G25)+SUM(grade_report!J25:L25))/7,\nIF($I$2=\"פרקים 1-6\",(SUM(grade_report!E25)+SUM(grade_report!H25:I25)+MAX(grade_report!F25:G25)+SUM(grade_report!J25:M25))/8,\nIF($I$2=\"פרקים 1-7\",(SUM(grade_report!E25)+SUM(grade_report!H25:I25)+MAX(grade_report!F25:G25)+SUM(grade_report!J25:N25))/9,0)))))))","v":1},{"$f":"COUNTIF(grade_report!AA25:AE25,\">=0.55\")","v":0}]
[{"$f":"grade_report!C26","v":"shani_hirsch"},null,{"$f":"COUNTIF(grade_report!AG26:AK26,\">=0.55\")","v":0},"ללא",0.24374999999999999,{"$f":"IF($I$2=\"פרק 1\",SUM(grade_report!P26),\nIF($I$2=\"פרקים 1-2\",(SUM(grade_report!P26)+SUM(grade_report!S26:T26)+MAX(grade_report!Q26:R26))/4,\nIF($I$2=\"פרקים 1-3\",(SUM(grade_report!P26)+SUM(grade_report!S26:T26)+MAX(grade_report!Q26:R26)+SUM(grade_report!U26))/5,\nIF($I$2=\"פרקים 1-4\",(SUM(grade_report!P26)+SUM(grade_report!S26:T26)+MAX(grade_report!Q26:R26)+SUM(grade_report!U26:V26))/6,\nIF($I$2=\"פרקים 1-5\",(SUM(grade_report!P26)+SUM(grade_report!S26:T26)+MAX(grade_report!Q26:R26)+SUM(grade_report!U26:W26))/7,\nIF($I$2=\"פרקים 1-6\",(SUM(grade_report!P26)+SUM(grade_report!S26:T26)+MAX(grade_report!Q26:R26)+SUM(grade_report!U26:X26))/8,\nIF($I$2=\"פרקים 1-7\",(SUM(grade_report!P26)+SUM(grade_report!S26:T26)+MAX(grade_report!Q26:R26)+SUM(grade_report!U26:Y26))/9,0)))))))","v":0},{"$f":"IF($I$2=\"פרק 1\",SUM(grade_report!E26),\nIF($I$2=\"פרקים 1-2\",(SUM(grade_report!E26)+SUM(grade_report!H26:I26)+MAX(grade_report!F26:G26))/4,\nIF($I$2=\"פרקים 1-3\",(SUM(grade_report!E26)+SUM(grade_report!H26:I26)+MAX(grade_report!F26:G26)+SUM(grade_report!J26))/5,\nIF($I$2=\"פרקים 1-4\",(SUM(grade_report!E26)+SUM(grade_report!H26:I26)+MAX(grade_report!F26:G26)+SUM(grade_report!J26:K26))/6,\nIF($I$2=\"פרקים 1-5\",(SUM(grade_report!E26)+SUM(grade_report!H26:I26)+MAX(grade_report!F26:G26)+SUM(grade_report!J26:L26))/7,\nIF($I$2=\"פרקים 1-6\",(SUM(grade_report!E26)+SUM(grade_report!H26:I26)+MAX(grade_report!F26:G26)+SUM(grade_report!J26:M26))/8,\nIF($I$2=\"פרקים 1-7\",(SUM(grade_report!E26)+SUM(grade_report!H26:I26)+MAX(grade_report!F26:G26)+SUM(grade_report!J26:N26))/9,0)))))))","v":0.8125},{"$f":"COUNTIF(grade_report!AA26:AE26,\">=0.55\")","v":0}]
[{"$f":"grade_report!C27","v":"tal_tillinger"},null,{"$f":"COUNTIF(grade_report!AG27:AK27,\">=0.55\")","v":0},"ללא",0.3,{"$f":"IF($I$2=\"פרק 1\",SUM(grade_report!P27),\nIF($I$2=\"פרקים 1-2\",(SUM(grade_report!P27)+SUM(grade_report!S27:T27)+MAX(grade_report!Q27:R27))/4,\nIF($I$2=\"פרקים 1-3\",(SUM(grade_report!P27)+SUM(grade_report!S27:T27)+MAX(grade_report!Q27:R27)+SUM(grade_report!U27))/5,\nIF($I$2=\"פרקים 1-4\",(SUM(grade_report!P27)+SUM(grade_report!S27:T27)+MAX(grade_report!Q27:R27)+SUM(grade_report!U27:V27))/6,\nIF($I$2=\"פרקים 1-5\",(SUM(grade_report!P27)+SUM(grade_report!S27:T27)+MAX(grade_report!Q27:R27)+SUM(grade_report!U27:W27))/7,\nIF($I$2=\"פרקים 1-6\",(SUM(grade_report!P27)+SUM(grade_report!S27:T27)+MAX(grade_report!Q27:R27)+SUM(grade_report!U27:X27))/8,\nIF($I$2=\"פרקים 1-7\",(SUM(grade_report!P27)+SUM(grade_report!S27:T27)+MAX(grade_report!Q27:R27)+SUM(grade_report!U27:Y27))/9,0)))))))","v":0},{"$f":"IF($I$2=\"פרק 1\",SUM(grade_report!E27),\nIF($I$2=\"פרקים 1-2\",(SUM(grade_report!E27)+SUM(grade_report!H27:I27)+MAX(grade_report!F27:G27))/4,\nIF($I$2=\"פרקים 1-3\",(SUM(grade_report!E27)+SUM(grade_report!H27:I27)+MAX(grade_report!F27:G27)+SUM(grade_report!J27))/5,\nIF($I$2=\"פרקים 1-4\",(SUM(grade_report!E27)+SUM(grade_report!H27:I27)+MAX(grade_report!F27:G27)+SUM(grade_report!J27:K27))/6,\nIF($I$2=\"פרקים 1-5\",(SUM(grade_report!E27)+SUM(grade_report!H27:I27)+MAX(grade_report!F27:G27)+SUM(grade_report!J27:L27))/7,\nIF($I$2=\"פרקים 1-6\",(SUM(grade_report!E27)+SUM(grade_report!H27:I27)+MAX(grade_report!F27:G27)+SUM(grade_report!J27:M27))/8,\nIF($I$2=\"פרקים 1-7\",(SUM(grade_report!E27)+SUM(grade_report!H27:I27)+MAX(grade_report!F27:G27)+SUM(grade_report!J27:N27))/9,0)))))))","v":1},{"$f":"COUNTIF(grade_report!AA27:AE27,\">=0.55\")","v":0}]
[{"$f":"grade_report!C28","v":"תהל_יהושע"},null,{"$f":"COUNTIF(grade_report!AG28:AK28,\">=0.55\")","v":0},"ללא",0.3,{"$f":"IF($I$2=\"פרק 1\",SUM(grade_report!P28),\nIF($I$2=\"פרקים 1-2\",(SUM(grade_report!P28)+SUM(grade_report!S28:T28)+MAX(grade_report!Q28:R28))/4,\nIF($I$2=\"פרקים 1-3\",(SUM(grade_report!P28)+SUM(grade_report!S28:T28)+MAX(grade_report!Q28:R28)+SUM(grade_report!U28))/5,\nIF($I$2=\"פרקים 1-4\",(SUM(grade_report!P28)+SUM(grade_report!S28:T28)+MAX(grade_report!Q28:R28)+SUM(grade_report!U28:V28))/6,\nIF($I$2=\"פרקים 1-5\",(SUM(grade_report!P28)+SUM(grade_report!S28:T28)+MAX(grade_report!Q28:R28)+SUM(grade_report!U28:W28))/7,\nIF($I$2=\"פרקים 1-6\",(SUM(grade_report!P28)+SUM(grade_report!S28:T28)+MAX(grade_report!Q28:R28)+SUM(grade_report!U28:X28))/8,\nIF($I$2=\"פרקים 1-7\",(SUM(grade_report!P28)+SUM(grade_report!S28:T28)+MAX(grade_report!Q28:R28)+SUM(grade_report!U28:Y28))/9,0)))))))","v":0},{"$f":"IF($I$2=\"פרק 1\",SUM(grade_report!E28),\nIF($I$2=\"פרקים 1-2\",(SUM(grade_report!E28)+SUM(grade_report!H28:I28)+MAX(grade_report!F28:G28))/4,\nIF($I$2=\"פרקים 1-3\",(SUM(grade_report!E28)+SUM(grade_report!H28:I28)+MAX(grade_report!F28:G28)+SUM(grade_report!J28))/5,\nIF($I$2=\"פרקים 1-4\",(SUM(grade_report!E28)+SUM(grade_report!H28:I28)+MAX(grade_report!F28:G28)+SUM(grade_report!J28:K28))/6,\nIF($I$2=\"פרקים 1-5\",(SUM(grade_report!E28)+SUM(grade_report!H28:I28)+MAX(grade_report!F28:G28)+SUM(grade_report!J28:L28))/7,\nIF($I$2=\"פרקים 1-6\",(SUM(grade_report!E28)+SUM(grade_report!H28:I28)+MAX(grade_report!F28:G28)+SUM(grade_report!J28:M28))/8,\nIF($I$2=\"פרקים 1-7\",(SUM(grade_report!E28)+SUM(grade_report!H28:I28)+MAX(grade_report!F28:G28)+SUM(grade_report!J28:N28))/9,0)))))))","v":1},{"$f":"COUNTIF(grade_report!AA28:AE28,\">=0.55\")","v":0}]
[{"$f":"grade_report!C29","v":"ענבל_אברמזון"},null,{"$f":"COUNTIF(grade_report!AG29:AK29,\">=0.55\")","v":0},"ללא",0.3,{"$f":"IF($I$2=\"פרק 1\",SUM(grade_report!P29),\nIF($I$2=\"פרקים 1-2\",(SUM(grade_report!P29)+SUM(grade_report!S29:T29)+MAX(grade_report!Q29:R29))/4,\nIF($I$2=\"פרקים 1-3\",(SUM(grade_report!P29)+SUM(grade_report!S29:T29)+MAX(grade_report!Q29:R29)+SUM(grade_report!U29))/5,\nIF($I$2=\"פרקים 1-4\",(SUM(grade_report!P29)+SUM(grade_report!S29:T29)+MAX(grade_report!Q29:R29)+SUM(grade_report!U29:V29))/6,\nIF($I$2=\"פרקים 1-5\",(SUM(grade_report!P29)+SUM(grade_report!S29:T29)+MAX(grade_report!Q29:R29)+SUM(grade_report!U29:W29))/7,\nIF($I$2=\"פרקים 1-6\",(SUM(grade_report!P29)+SUM(grade_report!S29:T29)+MAX(grade_report!Q29:R29)+SUM(grade_report!U29:X29))/8,\nIF($I$2=\"פרקים 1-7\",(SUM(grade_report!P29)+SUM(grade_report!S29:T29)+MAX(grade_report!Q29:R29)+SUM(grade_report!U29:Y29))/9,0)))))))","v":0},{"$f":"IF($I$2=\"פרק 1\",SUM(grade_report!E29),\nIF($I$2=\"פרקים 1-2\",(SUM(grade_report!E29)+SUM(grade_report!H29:I29)+MAX(grade_report!F29:G29))/4,\nIF($I$2=\"פרקים 1-3\",(SUM(grade_report!E29)+SUM(grade_report!H29:I29)+MAX(grade_report!F29:G29)+SUM(grade_report!J29))/5,\nIF($I$2=\"פרקים 1-4\",(SUM(grade_report!E29)+SUM(grade_report!H29:I29)+MAX(grade_report!F29:G29)+SUM(grade_report!J29:K29))/6,\nIF($I$2=\"פרקים 1-5\",(SUM(grade_report!E29)+SUM(grade_report!H29:I29)+MAX(grade_report!F29:G29)+SUM(grade_report!J29:L29))/7,\nIF($I$2=\"פרקים 1-6\",(SUM(grade_report!E29)+SUM(grade_report!H29:I29)+MAX(grade_report!F29:G29)+SUM(grade_report!J29:M29))/8,\nIF($I$2=\"פרקים 1-7\",(SUM(grade_report!E29)+SUM(grade_report!H29:I29)+MAX(grade_report!F29:G29)+SUM(grade_report!J29:N29))/9,0)))))))","v":1},{"$f":"COUNTIF(grade_report!AA29:AE29,\">=0.55\")","v":0}]
[{"$f":"grade_report!C30","v":"יהלי_גיליס"},null,{"$f":"COUNTIF(grade_report!AG30:AK30,\">=0.55\")","v":0},"ללא",0.26250000000000001,{"$f":"IF($I$2=\"פרק 1\",SUM(grade_report!P30),\nIF($I$2=\"פרקים 1-2\",(SUM(grade_report!P30)+SUM(grade_report!S30:T30)+MAX(grade_report!Q30:R30))/4,\nIF($I$2=\"פרקים 1-3\",(SUM(grade_report!P30)+SUM(grade_report!S30:T30)+MAX(grade_report!Q30:R30)+SUM(grade_report!U30))/5,\nIF($I$2=\"פרקים 1-4\",(SUM(grade_report!P30)+SUM(grade_report!S30:T30)+MAX(grade_report!Q30:R30)+SUM(grade_report!U30:V30))/6,\nIF($I$2=\"פרקים 1-5\",(SUM(grade_report!P30)+SUM(grade_report!S30:T30)+MAX(grade_report!Q30:R30)+SUM(grade_report!U30:W30))/7,\nIF($I$2=\"פרקים 1-6\",(SUM(grade_report!P30)+SUM(grade_report!S30:T30)+MAX(grade_report!Q30:R30)+SUM(grade_report!U30:X30))/8,\nIF($I$2=\"פרקים 1-7\",(SUM(grade_report!P30)+SUM(grade_report!S30:T30)+MAX(grade_report!Q30:R30)+SUM(grade_report!U30:Y30))/9,0)))))))","v":0},{"$f":"IF($I$2=\"פרק 1\",SUM(grade_report!E30),\nIF($I$2=\"פרקים 1-2\",(SUM(grade_report!E30)+SUM(grade_report!H30:I30)+MAX(grade_report!F30:G30))/4,\nIF($I$2=\"פרקים 1-3\",(SUM(grade_report!E30)+SUM(grade_report!H30:I30)+MAX(grade_report!F30:G30)+SUM(grade_report!J30))/5,\nIF($I$2=\"פרקים 1-4\",(SUM(grade_report!E30)+SUM(grade_report!H30:I30)+MAX(grade_report!F30:G30)+SUM(grade_report!J30:K30))/6,\nIF($I$2=\"פרקים 1-5\",(SUM(grade_report!E30)+SUM(grade_report!H30:I30)+MAX(grade_report!F30:G30)+SUM(grade_report!J30:L30))/7,\nIF($I$2=\"פרקים 1-6\",(SUM(grade_report!E30)+SUM(grade_report!H30:I30)+MAX(grade_report!F30:G30)+SUM(grade_report!J30:M30))/8,\nIF($I$2=\"פרקים 1-7\",(SUM(grade_report!E30)+SUM(grade_report!H30:I30)+MAX(grade_report!F30:G30)+SUM(grade_report!J30:N30))/9,0)))))))","v":0.875},{"$f":"COUNTIF(grade_report!AA30:AE30,\">=0.55\")","v":0}]
[{"$f":"grade_report!C31","v":"אוריה_אלהרר"},null,{"$f":"COUNTIF(grade_report!AG31:AK31,\">=0.55\")","v":0},"ללא",0.26250000000000001,{"$f":"IF($I$2=\"פרק 1\",SUM(grade_report!P31),\nIF($I$2=\"פרקים 1-2\",(SUM(grade_report!P31)+SUM(grade_report!S31:T31)+MAX(grade_report!Q31:R31))/4,\nIF($I$2=\"פרקים 1-3\",(SUM(grade_report!P31)+SUM(grade_report!S31:T31)+MAX(grade_report!Q31:R31)+SUM(grade_report!U31))/5,\nIF($I$2=\"פרקים 1-4\",(SUM(grade_report!P31)+SUM(grade_report!S31:T31)+MAX(grade_report!Q31:R31)+SUM(grade_report!U31:V31))/6,\nIF($I$2=\"פרקים 1-5\",(SUM(grade_report!P31)+SUM(grade_report!S31:T31)+MAX(grade_report!Q31:R31)+SUM(grade_report!U31:W31))/7,\nIF($I$2=\"פרקים 1-6\",(SUM(grade_report!P31)+SUM(grade_report!S31:T31)+MAX(grade_report!Q31:R31)+SUM(grade_report!U31:X31))/8,\nIF($I$2=\"פרקים 1-7\",(SUM(grade_report!P31)+SUM(grade_report!S31:T31)+MAX(grade_report!Q31:R31)+SUM(grade_report!U31:Y31))/9,0)))))))","v":0},{"$f":"IF($I$2=\"פרק 1\",SUM(grade_report!E31),\nIF($I$2=\"פרקים 1-2\",(SUM(grade_report!E31)+SUM(grade_report!H31:I31)+MAX(grade_report!F31:G31))/4,\nIF($I$2=\"פרקים 1-3\",(SUM(grade_report!E31)+SUM(grade_report!H31:I31)+MAX(grade_report!F31:G31)+SUM(grade_report!J31))/5,\nIF($I$2=\"פרקים 1-4\",(SUM(grade_report!E31)+SUM(grade_report!H31:I31)+MAX(grade_report!F31:G31)+SUM(grade_report!J31:K31))/6,\nIF($I$2=\"פרקים 1-5\",(SUM(grade_report!E31)+SUM(grade_report!H31:I31)+MAX(grade_report!F31:G31)+SUM(grade_report!J31:L31))/7,\nIF($I$2=\"פרקים 1-6\",(SUM(grade_report!E31)+SUM(grade_report!H31:I31)+MAX(grade_report!F31:G31)+SUM(grade_report!J31:M31))/8,\nIF($I$2=\"פרקים 1-7\",(SUM(grade_report!E31)+SUM(grade_report!H31:I31)+MAX(grade_report!F31:G31)+SUM(grade_report!J31:N31))/9,0)))))))","v":0.875},{"$f":"COUNTIF(grade_report!AA31:AE31,\">=0.55\")","v":0}]
[{"$f":"grade_report!C32","v":0},null,{"$f":"COUNTIF(grade_report!AG32:AK32,\">=0.55\")","v":0},"ללא",0,{"$f":"IF($I$2=\"פרק 1\",SUM(grade_report!P32),\nIF($I$2=\"פרקים 1-2\",(SUM(grade_report!P32)+SUM(grade_report!S32:T32)+MAX(grade_report!Q32:R32))/4,\nIF($I$2=\"פרקים 1-3\",(SUM(grade_report!P32)+SUM(grade_report!S32:T32)+MAX(grade_report!Q32:R32)+SUM(grade_report!U32))/5,\nIF($I$2=\"פרקים 1-4\",(SUM(grade_report!P32)+SUM(grade_report!S32:T32)+MAX(grade_report!Q32:R32)+SUM(grade_report!U32:V32))/6,\nIF($I$2=\"פרקים 1-5\",(SUM(grade_report!P32)+SUM(grade_report!S32:T32)+MAX(grade_report!Q32:R32)+SUM(grade_report!U32:W32))/7,\nIF($I$2=\"פרקים 1-6\",(SUM(grade_report!P32)+SUM(grade_report!S32:T32)+MAX(grade_report!Q32:R32)+SUM(grade_report!U32:X32))/8,\nIF($I$2=\"פרקים 1-7\",(SUM(grade_report!P32)+SUM(grade_report!S32:T32)+MAX(grade_report!Q32:R32)+SUM(grade_report!U32:Y32))/9,0)))))))","v":0},{"$f":"IF($I$2=\"פרק 1\",SUM(grade_report!E32),\nIF($I$2=\"פרקים 1-2\",(SUM(grade_report!E32)+SUM(grade_report!H32:I32)+MAX(grade_report!F32:G32))/4,\nIF($I$2=\"פרקים 1-3\",(SUM(grade_report!E32)+SUM(grade_report!H32:I32)+MAX(grade_report!F32:G32)+SUM(grade_report!J32))/5,\nIF($I$2=\"פרקים 1-4\",(SUM(grade_report!E32)+SUM(grade_report!H32:I32)+MAX(grade_report!F32:G32)+SUM(grade_report!J32:K32))/6,\nIF($I$2=\"פרקים 1-5\",(SUM(grade_report!E32)+SUM(grade_report!H32:I32)+MAX(grade_report!F32:G32)+SUM(grade_report!J32:L32))/7,\nIF($I$2=\"פרקים 1-6\",(SUM(grade_report!E32)+SUM(grade_report!H32:I32)+MAX(grade_report!F32:G32)+SUM(grade_report!J32:M32))/8,\nIF($I$2=\"פרקים 1-7\",(SUM(grade_report!E32)+SUM(grade_report!H32:I32)+MAX(grade_report!F32:G32)+SUM(grade_report!J32:N32))/9,0)))))))","v":0},{"$f":"COUNTIF(grade_report!AA32:AE32,\">=0.55\")","v":0}]
[{"$f":"grade_report!C33","v":0},null,{"$f":"COUNTIF(grade_report!AG33:AK33,\">=0.55\")","v":0},"ללא",0,{"$f":"IF($I$2=\"פרק 1\",SUM(grade_report!P33),\nIF($I$2=\"פרקים 1-2\",(SUM(grade_report!P33)+SUM(grade_report!S33:T33)+MAX(grade_report!Q33:R33))/4,\nIF($I$2=\"פרקים 1-3\",(SUM(grade_report!P33)+SUM(grade_report!S33:T33)+MAX(grade_report!Q33:R33)+SUM(grade_report!U33))/5,\nIF($I$2=\"פרקים 1-4\",(SUM(grade_report!P33)+SUM(grade_report!S33:T33)+MAX(grade_report!Q33:R33)+SUM(grade_report!U33:V33))/6,\nIF($I$2=\"פרקים 1-5\",(SUM(grade_report!P33)+SUM(grade_report!S33:T33)+MAX(grade_report!Q33:R33)+SUM(grade_report!U33:W33))/7,\nIF($I$2=\"פרקים 1-6\",(SUM(grade_report!P33)+SUM(grade_report!S33:T33)+MAX(grade_report!Q33:R33)+SUM(grade_report!U33:X33))/8,\nIF($I$2=\"פרקים 1-7\",(SUM(grade_report!P33)+SUM(grade_report!S33:T33)+MAX(grade_report!Q33:R33)+SUM(grade_report!U33:Y33))/9,0)))))))","v":0},{"$f":"IF($I$2=\"פרק 1\",SUM(grade_report!E33),\nIF($I$2=\"פרקים 1-2\",(SUM(grade_report!E33)+SUM(grade_report!H33:I33)+MAX(grade_report!F33:G33))/4,\nIF($I$2=\"פרקים 1-3\",(SUM(grade_report!E33)+SUM(grade_report!H33:I33)+MAX(grade_report!F33:G33)+SUM(grade_report!J33))/5,\nIF($I$2=\"פרקים 1-4\",(SUM(grade_report!E33)+SUM(grade_report!H33:I33)+MAX(grade_report!F33:G33)+SUM(grade_report!J33:K33))/6,\nIF($I$2=\"פרקים 1-5\",(SUM(grade_report!E33)+SUM(grade_report!H33:I33)+MAX(grade_report!F33:G33)+SUM(grade_report!J33:L33))/7,\nIF($I$2=\"פרקים 1-6\",(SUM(grade_report!E33)+SUM(grade_report!H33:I33)+MAX(grade_report!F33:G33)+SUM(grade_report!J33:M33))/8,\nIF($I$2=\"פרקים 1-7\",(SUM(grade_report!E33)+SUM(grade_report!H33:I33)+MAX(grade_report!F33:G33)+SUM(grade_report!J33:N33))/9,0)))))))","v":0},{"$f":"COUNTIF(grade_report!AA33:AE33,\">=0.55\")","v":0}]
[{"$f":"grade_report!C34","v":0},null,{"$f":"COUNTIF(grade_report!AG34:AK34,\">=0.55\")","v":0},"ללא",0,{"$f":"IF($I$2=\"פרק 1\",SUM(grade_report!P34),\nIF($I$2=\"פרקים 1-2\",(SUM(grade_report!P34)+SUM(grade_report!S34:T34)+MAX(grade_report!Q34:R34))/4,\nIF($I$2=\"פרקים 1-3\",(SUM(grade_report!P34)+SUM(grade_report!S34:T34)+MAX(grade_report!Q34:R34)+SUM(grade_report!U34))/5,\nIF($I$2=\"פרקים 1-4\",(SUM(grade_report!P34)+SUM(grade_report!S34:T34)+MAX(grade_report!Q34:R34)+SUM(grade_report!U34:V34))/6,\nIF($I$2=\"פרקים 1-5\",(SUM(grade_report!P34)+SUM(grade_report!S34:T34)+MAX(grade_report!Q34:R34)+SUM(grade_report!U34:W34))/7,\nIF($I$2=\"פרקים 1-6\",(SUM(grade_report!P34)+SUM(grade_report!S34:T34)+MAX(grade_report!Q34:R34)+SUM(grade_report!U34:X34))/8,\nIF($I$2=\"פרקים 1-7\",(SUM(grade_report!P34)+SUM(grade_report!S34:T34)+MAX(grade_report!Q34:R34)+SUM(grade_report!U34:Y34))/9,0)))))))","v":0},{"$f":"IF($I$2=\"פרק 1\",SUM(grade_report!E34),\nIF($I$2=\"פרקים 1-2\",(SUM(grade_report!E34)+SUM(grade_report!H34:I34)+MAX(grade_report!F34:G34))/4,\nIF($I$2=\"פרקים 1-3\",(SUM(grade_report!E34)+SUM(grade_report!H34:I34)+MAX(grade_report!F34:G34)+SUM(grade_report!J34))/5,\nIF($I$2=\"פרקים 1-4\",(SUM(grade_report!E34)+SUM(grade_report!H34:I34)+MAX(grade_report!F34:G34)+SUM(grade_report!J34:K34))/6,\nIF($I$2=\"פרקים 1-5\",(SUM(grade_report!E34)+SUM(grade_report!H34:I34)+MAX(grade_report!F34:G34)+SUM(grade_report!J34:L34))/7,\nIF($I$2=\"פרקים 1-6\",(SUM(grade_report!E34)+SUM(grade_report!H34:I34)+MAX(grade_report!F34:G34)+SUM(grade_report!J34:M34))/8,\nIF($I$2=\"פרקים 1-7\",(SUM(grade_report!E34)+SUM(grade_report!H34:I34)+MAX(grade_report!F34:G34)+SUM(grade_report!J34:N34))/9,0)))))))","v":0},{"$f":"COUNTIF(grade_report!AA34:AE34,\">=0.55\")","v":0}]
[{"$f":"grade_report!C35","v":0},null,{"$f":"COUNTIF(grade_report!AG35:AK35,\">=0.55\")","v":0},"ללא",0,{"$f":"IF($I$2=\"פרק 1\",SUM(grade_report!P35),\nIF($I$2=\"פרקים 1-2\",(SUM(grade_report!P35)+SUM(grade_report!S35:T35)+MAX(grade_report!Q35:R35))/4,\nIF($I$2=\"פרקים 1-3\",(SUM(grade_report!P35)+SUM(grade_report!S35:T35)+MAX(grade_report!Q35:R35)+SUM(grade_report!U35))/5,\nIF($I$2=\"פרקים 1-4\",(SUM(grade_report!P35)+SUM(grade_report!S35:T35)+MAX(grade_report!Q35:R35)+SUM(grade_report!U35:V35))/6,\nIF($I$2=\"פרקים 1-5\",(SUM(grade_report!P35)+SUM(grade_report!S35:T35)+MAX(grade_report!Q35:R35)+SUM(grade_report!U35:W35))/7,\nIF($I$2=\"פרקים 1-6\",(SUM(grade_report!P35)+SUM(grade_report!S35:T35)+MAX(grade_report!Q35:R35)+SUM(grade_report!U35:X35))/8,\nIF($I$2=\"פרקים 1-7\",(SUM(grade_report!P35)+SUM(grade_report!S35:T35)+MAX(grade_report!Q35:R35)+SUM(grade_report!U35:Y35))/9,0)))))))","v":0},{"$f":"IF($I$2=\"פרק 1\",SUM(grade_report!E35),\nIF($I$2=\"פרקים 1-2\",(SUM(grade_report!E35)+SUM(grade_report!H35:I35)+MAX(grade_report!F35:G35))/4,\nIF($I$2=\"פרקים 1-3\",(SUM(grade_report!E35)+SUM(grade_report!H35:I35)+MAX(grade_report!F35:G35)+SUM(grade_report!J35))/5,\nIF($I$2=\"פרקים 1-4\",(SUM(grade_report!E35)+SUM(grade_report!H35:I35)+MAX(grade_report!F35:G35)+SUM(grade_report!J35:K35))/6,\nIF($I$2=\"פרקים 1-5\",(SUM(grade_report!E35)+SUM(grade_report!H35:I35)+MAX(grade_report!F35:G35)+SUM(grade_report!J35:L35))/7,\nIF($I$2=\"פרקים 1-6\",(SUM(grade_report!E35)+SUM(grade_report!H35:I35)+MAX(grade_report!F35:G35)+SUM(grade_report!J35:M35))/8,\nIF($I$2=\"פרקים 1-7\",(SUM(grade_report!E35)+SUM(grade_report!H35:I35)+MAX(grade_report!F35:G35)+SUM(grade_report!J35:N35))/9,0)))))))","v":0},{"$f":"COUNTIF(grade_report!AA35:AE35,\">=0.55\")","v":0}]
[{"$f":"grade_report!C36","v":0},null,{"$f":"COUNTIF(grade_report!AG36:AK36,\">=0.55\")","v":0},"ללא",0,{"$f":"IF($I$2=\"פרק 1\",SUM(grade_report!P36),\nIF($I$2=\"פרקים 1-2\",(SUM(grade_report!P36)+SUM(grade_report!S36:T36)+MAX(grade_report!Q36:R36))/4,\nIF($I$2=\"פרקים 1-3\",(SUM(grade_report!P36)+SUM(grade_report!S36:T36)+MAX(grade_report!Q36:R36)+SUM(grade_report!U36))/5,\nIF($I$2=\"פרקים 1-4\",(SUM(grade_report!P36)+SUM(grade_report!S36:T36)+MAX(grade_report!Q36:R36)+SUM(grade_report!U36:V36))/6,\nIF($I$2=\"פרקים 1-5\",(SUM(grade_report!P36)+SUM(grade_report!S36:T36)+MAX(grade_report!Q36:R36)+SUM(grade_report!U36:W36))/7,\nIF($I$2=\"פרקים 1-6\",(SUM(grade_report!P36)+SUM(grade_report!S36:T36)+MAX(grade_report!Q36:R36)+SUM(grade_report!U36:X36))/8,\nIF($I$2=\"פרקים 1-7\",(SUM(grade_report!P36)+SUM(grade_report!S36:T36)+MAX(grade_report!Q36:R36)+SUM(grade_report!U36:Y36))/9,0)))))))","v":0},{"$f":"IF($I$2=\"פרק 1\",SUM(grade_report!E36),\nIF($I$2=\"פרקים 1-2\",(SUM(grade_report!E36)+SUM(grade_report!H36:I36)+MAX(grade_report!F36:G36))/4,\nIF($I$2=\"פרקים 1-3\",(SUM(grade_report!E36)+SUM(grade_report!H36:I36)+MAX(grade_report!F36:G36)+SUM(grade_report!J36))/5,\nIF($I$2=\"פרקים 1-4\",(SUM(grade_report!E36)+SUM(grade_report!H36:I36)+MAX(grade_report!F36:G36)+SUM(grade_report!J36:K36))/6,\nIF($I$2=\"פרקים 1-5\",(SUM(grade_report!E36)+SUM(grade_report!H36:I36)+MAX(grade_report!F36:G36)+SUM(grade_report!J36:L36))/7,\nIF($I$2=\"פרקים 1-6\",(SUM(grade_report!E36)+SUM(grade_report!H36:I36)+MAX(grade_report!F36:G36)+SUM(grade_report!J36:M36))/8,\nIF($I$2=\"פרקים 1-7\",(SUM(grade_report!E36)+SUM(grade_report!H36:I36)+MAX(grade_report!F36:G36)+SUM(grade_report!J36:N36))/9,0)))))))","v":0},{"$f":"COUNTIF(grade_report!AA36:AE36,\">=0.55\")","v":0}]
[{"$f":"grade_report!C37","v":0},null,{"$f":"COUNTIF(grade_report!AG37:AK37,\">=0.55\")","v":0},"ללא",0,{"$f":"IF($I$2=\"פרק 1\",SUM(grade_report!P37),\nIF($I$2=\"פרקים 1-2\",(SUM(grade_report!P37)+SUM(grade_report!S37:T37)+MAX(grade_report!Q37:R37))/4,\nIF($I$2=\"פרקים 1-3\",(SUM(grade_report!P37)+SUM(grade_report!S37:T37)+MAX(grade_report!Q37:R37)+SUM(grade_report!U37))/5,\nIF($I$2=\"פרקים 1-4\",(SUM(grade_report!P37)+SUM(grade_report!S37:T37)+MAX(grade_report!Q37:R37)+SUM(grade_report!U37:V37))/6,\nIF($I$2=\"פרקים 1-5\",(SUM(grade_report!P37)+SUM(grade_report!S37:T37)+MAX(grade_report!Q37:R37)+SUM(grade_report!U37:W37))/7,\nIF($I$2=\"פרקים 1-6\",(SUM(grade_report!P37)+SUM(grade_report!S37:T37)+MAX(grade_report!Q37:R37)+SUM(grade_report!U37:X37))/8,\nIF($I$2=\"פרקים 1-7\",(SUM(grade_report!P37)+SUM(grade_report!S37:T37)+MAX(grade_report!Q37:R37)+SUM(grade_report!U37:Y37))/9,0)))))))","v":0},{"$f":"IF($I$2=\"פרק 1\",SUM(grade_report!E37),\nIF($I$2=\"פרקים 1-2\",(SUM(grade_report!E37)+SUM(grade_report!H37:I37)+MAX(grade_report!F37:G37))/4,\nIF($I$2=\"פרקים 1-3\",(SUM(grade_report!E37)+SUM(grade_report!H37:I37)+MAX(grade_report!F37:G37)+SUM(grade_report!J37))/5,\nIF($I$2=\"פרקים 1-4\",(SUM(grade_report!E37)+SUM(grade_report!H37:I37)+MAX(grade_report!F37:G37)+SUM(grade_report!J37:K37))/6,\nIF($I$2=\"פרקים 1-5\",(SUM(grade_report!E37)+SUM(grade_report!H37:I37)+MAX(grade_report!F37:G37)+SUM(grade_report!J37:L37))/7,\nIF($I$2=\"פרקים 1-6\",(SUM(grade_report!E37)+SUM(grade_report!H37:I37)+MAX(grade_report!F37:G37)+SUM(grade_report!J37:M37))/8,\nIF($I$2=\"פרקים 1-7\",(SUM(grade_report!E37)+SUM(grade_report!H37:I37)+MAX(grade_report!F37:G37)+SUM(grade_report!J37:N37))/9,0)))))))","v":0},{"$f":"COUNTIF(grade_report!AA37:AE37,\">=0.55\")","v":0}]
[{"$f":"grade_report!C38","v":0},null,{"$f":"COUNTIF(grade_report!AG38:AK38,\">=0.55\")","v":0},"ללא",0,{"$f":"IF($I$2=\"פרק 1\",SUM(grade_report!P38),\nIF($I$2=\"פרקים 1-2\",(SUM(grade_report!P38)+SUM(grade_report!S38:T38)+MAX(grade_report!Q38:R38))/4,\nIF($I$2=\"פרקים 1-3\",(SUM(grade_report!P38)+SUM(grade_report!S38:T38)+MAX(grade_report!Q38:R38)+SUM(grade_report!U38))/5,\nIF($I$2=\"פרקים 1-4\",(SUM(grade_report!P38)+SUM(grade_report!S38:T38)+MAX(grade_report!Q38:R38)+SUM(grade_report!U38:V38))/6,\nIF($I$2=\"פרקים 1-5\",(SUM(grade_report!P38)+SUM(grade_report!S38:T38)+MAX(grade_report!Q38:R38)+SUM(grade_report!U38:W38))/7,\nIF($I$2=\"פרקים 1-6\",(SUM(grade_report!P38)+SUM(grade_report!S38:T38)+MAX(grade_report!Q38:R38)+SUM(grade_report!U38:X38))/8,\nIF($I$2=\"פרקים 1-7\",(SUM(grade_report!P38)+SUM(grade_report!S38:T38)+MAX(grade_report!Q38:R38)+SUM(grade_report!U38:Y38))/9,0)))))))","v":0},{"$f":"IF($I$2=\"פרק 1\",SUM(grade_report!E38),\nIF($I$2=\"פרקים 1-2\",(SUM(grade_report!E38)+SUM(grade_report!H38:I38)+MAX(grade_report!F38:G38))/4,\nIF($I$2=\"פרקים 1-3\",(SUM(grade_report!E38)+SUM(grade_report!H38:I38)+MAX(grade_report!F38:G38)+SUM(grade_report!J38))/5,\nIF($I$2=\"פרקים 1-4\",(SUM(grade_report!E38)+SUM(grade_report!H38:I38)+MAX(grade_report!F38:G38)+SUM(grade_report!J38:K38))/6,\nIF($I$2=\"פרקים 1-5\",(SUM(grade_report!E38)+SUM(grade_report!H38:I38)+MAX(grade_report!F38:G38)+SUM(grade_report!J38:L38))/7,\nIF($I$2=\"פרקים 1-6\",(SUM(grade_report!E38)+SUM(grade_report!H38:I38)+MAX(grade_report!F38:G38)+SUM(grade_report!J38:M38))/8,\nIF($I$2=\"פרקים 1-7\",(SUM(grade_report!E38)+SUM(grade_report!H38:I38)+MAX(grade_report!F38:G38)+SUM(grade_report!J38:N38))/9,0)))))))","v":0},{"$f":"COUNTIF(grade_report!AA38:AE38,\">=0.55\")","v":0}]
[{"$f":"grade_report!C39","v":0},null,{"$f":"COUNTIF(grade_report!AG39:AK39,\">=0.55\")","v":0},"ללא",0,{"$f":"IF($I$2=\"פרק 1\",SUM(grade_report!P39),\nIF($I$2=\"פרקים 1-2\",(SUM(grade_report!P39)+SUM(grade_report!S39:T39)+MAX(grade_report!Q39:R39))/4,\nIF($I$2=\"פרקים 1-3\",(SUM(grade_report!P39)+SUM(grade_report!S39:T39)+MAX(grade_report!Q39:R39)+SUM(grade_report!U39))/5,\nIF($I$2=\"פרקים 1-4\",(SUM(grade_report!P39)+SUM(grade_report!S39:T39)+MAX(grade_report!Q39:R39)+SUM(grade_report!U39:V39))/6,\nIF($I$2=\"פרקים 1-5\",(SUM(grade_report!P39)+SUM(grade_report!S39:T39)+MAX(grade_report!Q39:R39)+SUM(grade_report!U39:W39))/7,\nIF($I$2=\"פרקים 1-6\",(SUM(grade_report!P39)+SUM(grade_report!S39:T39)+MAX(grade_report!Q39:R39)+SUM(grade_report!U39:X39))/8,\nIF($I$2=\"פרקים 1-7\",(SUM(grade_report!P39)+SUM(grade_report!S39:T39)+MAX(grade_report!Q39:R39)+SUM(grade_report!U39:Y39))/9,0)))))))","v":0},{"$f":"IF($I$2=\"פרק 1\",SUM(grade_report!E39),\nIF($I$2=\"פרקים 1-2\",(SUM(grade_report!E39)+SUM(grade_report!H39:I39)+MAX(grade_report!F39:G39))/4,\nIF($I$2=\"פרקים 1-3\",(SUM(grade_report!E39)+SUM(grade_report!H39:I39)+MAX(grade_report!F39:G39)+SUM(grade_report!J39))/5,\nIF($I$2=\"פרקים 1-4\",(SUM(grade_report!E39)+SUM(grade_report!H39:I39)+MAX(grade_report!F39:G39)+SUM(grade_report!J39:K39))/6,\nIF($I$2=\"פרקים 1-5\",(SUM(grade_report!E39)+SUM(grade_report!H39:I39)+MAX(grade_report!F39:G39)+SUM(grade_report!J39:L39))/7,\nIF($I$2=\"פרקים 1-6\",(SUM(grade_report!E39)+SUM(grade_report!H39:I39)+MAX(grade_report!F39:G39)+SUM(grade_report!J39:M39))/8,\nIF($I$2=\"פרקים 1-7\",(SUM(grade_report!E39)+SUM(grade_report!H39:I39)+MAX(grade_report!F39:G39)+SUM(grade_report!J39:N39))/9,0)))))))","v":0},{"$f":"COUNTIF(grade_report!AA39:AE39,\">=0.55\")","v":0}]
[{"$f":"grade_report!C40","v":0},null,{"$f":"COUNTIF(grade_report!AG40:AK40,\">=0.55\")","v":0},"ללא",0,{"$f":"IF($I$2=\"פרק 1\",SUM(grade_report!P40),\nIF($I$2=\"פרקים 1-2\",(SUM(grade_report!P40)+SUM(grade_report!S40:T40)+MAX(grade_report!Q40:R40))/4,\nIF($I$2=\"פרקים 1-3\",(SUM(grade_report!P40)+SUM(grade_report!S40:T40)+MAX(grade_report!Q40:R40)+SUM(grade_report!U40))/5,\nIF($I$2=\"פרקים 1-4\",(SUM(grade_report!P40)+SUM(grade_report!S40:T40)+MAX(grade_report!Q40:R40)+SUM(grade_report!U40:V40))/6,\nIF($I$2=\"פרקים 1-5\",(SUM(grade_report!P40)+SUM(grade_report!S40:T40)+MAX(grade_report!Q40:R40)+SUM(grade_report!U40:W40))/7,\nIF($I$2=\"פרקים 1-6\",(SUM(grade_report!P40)+SUM(grade_report!S40:T40)+MAX(grade_report!Q40:R40)+SUM(grade_report!U40:X40))/8,\nIF($I$2=\"פרקים 1-7\",(SUM(grade_report!P40)+SUM(grade_report!S40:T40)+MAX(grade_report!Q40:R40)+SUM(grade_report!U40:Y40))/9,0)))))))","v":0},{"$f":"IF($I$2=\"פרק 1\",SUM(grade_report!E40),\nIF($I$2=\"פרקים 1-2\",(SUM(grade_report!E40)+SUM(grade_report!H40:I40)+MAX(grade_report!F40:G40))/4,\nIF($I$2=\"פרקים 1-3\",(SUM(grade_report!E40)+SUM(grade_report!H40:I40)+MAX(grade_report!F40:G40)+SUM(grade_report!J40))/5,\nIF($I$2=\"פרקים 1-4\",(SUM(grade_report!E40)+SUM(grade_report!H40:I40)+MAX(grade_report!F40:G40)+SUM(grade_report!J40:K40))/6,\nIF($I$2=\"פרקים 1-5\",(SUM(grade_report!E40)+SUM(grade_report!H40:I40)+MAX(grade_report!F40:G40)+SUM(grade_report!J40:L40))/7,\nIF($I$2=\"פרקים 1-6\",(SUM(grade_report!E40)+SUM(grade_report!H40:I40)+MAX(grade_report!F40:G40)+SUM(grade_report!J40:M40))/8,\nIF($I$2=\"פרקים 1-7\",(SUM(grade_report!E40)+SUM(grade_report!H40:I40)+MAX(grade_report!F40:G40)+SUM(grade_report!J40:N40))/9,0)))))))","v":0},{"$f":"COUNTIF(grade_report!AA40:AE40,\">=0.55\")","v":0}]
[{"$f":"grade_report!C41","v":0},null,{"$f":"COUNTIF(grade_report!AG41:AK41,\">=0.55\")","v":0},"ללא",0,{"$f":"IF($I$2=\"פרק 1\",SUM(grade_report!P41),\nIF($I$2=\"פרקים 1-2\",(SUM(grade_report!P41)+SUM(grade_report!S41:T41)+MAX(grade_report!Q41:R41))/4,\nIF($I$2=\"פרקים 1-3\",(SUM(grade_report!P41)+SUM(grade_report!S41:T41)+MAX(grade_report!Q41:R41)+SUM(grade_report!U41))/5,\nIF($I$2=\"פרקים 1-4\",(SUM(grade_report!P41)+SUM(grade_report!S41:T41)+MAX(grade_report!Q41:R41)+SUM(grade_report!U41:V41))/6,\nIF($I$2=\"פרקים 1-5\",(SUM(grade_report!P41)+SUM(grade_report!S41:T41)+MAX(grade_report!Q41:R41)+SUM(grade_report!U41:W41))/7,\nIF($I$2=\"פרקים 1-6\",(SUM(grade_report!P41)+SUM(grade_report!S41:T41)+MAX(grade_report!Q41:R41)+SUM(grade_report!U41:X41))/8,\nIF($I$2=\"פרקים 1-7\",(SUM(grade_report!P41)+SUM(grade_report!S41:T41)+MAX(grade_report!Q41:R41)+SUM(grade_report!U41:Y41))/9,0)))))))","v":0},{"$f":"IF($I$2=\"פרק 1\",SUM(grade_report!E41),\nIF($I$2=\"פרקים 1-2\",(SUM(grade_report!E41)+SUM(grade_report!H41:I41)+MAX(grade_report!F41:G41))/4,\nIF($I$2=\"פרקים 1-3\",(SUM(grade_report!E41)+SUM(grade_report!H41:I41)+MAX(grade_report!F41:G41)+SUM(grade_report!J41))/5,\nIF($I$2=\"פרקים 1-4\",(SUM(grade_report!E41)+SUM(grade_report!H41:I41)+MAX(grade_report!F41:G41)+SUM(grade_report!J41:K41))/6,\nIF($I$2=\"פרקים 1-5\",(SUM(grade_report!E41)+SUM(grade_report!H41:I41)+MAX(grade_report!F41:G41)+SUM(grade_report!J41:L41))/7,\nIF($I$2=\"פרקים 1-6\",(SUM(grade_report!E41)+SUM(grade_report!H41:I41)+MAX(grade_report!F41:G41)+SUM(grade_report!J41:M41))/8,\nIF($I$2=\"פרקים 1-7\",(SUM(grade_report!E41)+SUM(grade_report!H41:I41)+MAX(grade_report!F41:G41)+SUM(grade_report!J41:N41))/9,0)))))))","v":0},{"$f":"COUNTIF(grade_report!AA41:AE41,\">=0.55\")","v":0}]
[{"$f":"grade_report!C42","v":0},null,{"$f":"COUNTIF(grade_report!AG42:AK42,\">=0.55\")","v":0},"ללא",0,{"$f":"IF($I$2=\"פרק 1\",SUM(grade_report!P42),\nIF($I$2=\"פרקים 1-2\",(SUM(grade_report!P42)+SUM(grade_report!S42:T42)+MAX(grade_report!Q42:R42))/4,\nIF($I$2=\"פרקים 1-3\",(SUM(grade_report!P42)+SUM(grade_report!S42:T42)+MAX(grade_report!Q42:R42)+SUM(grade_report!U42))/5,\nIF($I$2=\"פרקים 1-4\",(SUM(grade_report!P42)+SUM(grade_report!S42:T42)+MAX(grade_report!Q42:R42)+SUM(grade_report!U42:V42))/6,\nIF($I$2=\"פרקים 1-5\",(SUM(grade_report!P42)+SUM(grade_report!S42:T42)+MAX(grade_report!Q42:R42)+SUM(grade_report!U42:W42))/7,\nIF($I$2=\"פרקים 1-6\",(SUM(grade_report!P42)+SUM(grade_report!S42:T42)+MAX(grade_report!Q42:R42)+SUM(grade_report!U42:X42))/8,\nIF($I$2=\"פרקים 1-7\",(SUM(grade_report!P42)+SUM(grade_report!S42:T42)+MAX(grade_report!Q42:R42)+SUM(grade_report!U42:Y42))/9,0)))))))","v":0},{"$f":"IF($I$2=\"פרק 1\",SUM(grade_report!E42),\nIF($I$2=\"פרקים 1-2\",(SUM(grade_report!E42)+SUM(grade_report!H42:I42)+MAX(grade_report!F42:G42))/4,\nIF($I$2=\"פרקים 1-3\",(SUM(grade_report!E42)+SUM(grade_report!H42:I42)+MAX(grade_report!F42:G42)+SUM(grade_report!J42))/5,\nIF($I$2=\"פרקים 1-4\",(SUM(grade_report!E42)+SUM(grade_report!H42:I42)+MAX(grade_report!F42:G42)+SUM(grade_report!J42:K42))/6,\nIF($I$2=\"פרקים 1-5\",(SUM(grade_report!E42)+SUM(grade_report!H42:I42)+MAX(grade_report!F42:G42)+SUM(grade_report!J42:L42))/7,\nIF($I$2=\"פרקים 1-6\",(SUM(grade_report!E42)+SUM(grade_report!H42:I42)+MAX(grade_report!F42:G42)+SUM(grade_report!J42:M42))/8,\nIF($I$2=\"פרקים 1-7\",(SUM(grade_report!E42)+SUM(grade_report!H42:I42)+MAX(grade_report!F42:G42)+SUM(grade_report!J42:N42))/9,0)))))))","v":0},{"$f":"COUNTIF(grade_report!AA42:AE42,\">=0.55\")","v":0}]
[{"$f":"grade_report!C43","v":0},null,{"$f":"COUNTIF(grade_report!AG43:AK43,\">=0.55\")","v":0},"ללא",0,{"$f":"IF($I$2=\"פרק 1\",SUM(grade_report!P43),\nIF($I$2=\"פרקים 1-2\",(SUM(grade_report!P43)+SUM(grade_report!S43:T43)+MAX(grade_report!Q43:R43))/4,\nIF($I$2=\"פרקים 1-3\",(SUM(grade_report!P43)+SUM(grade_report!S43:T43)+MAX(grade_report!Q43:R43)+SUM(grade_report!U43))/5,\nIF($I$2=\"פרקים 1-4\",(SUM(grade_report!P43)+SUM(grade_report!S43:T43)+MAX(grade_report!Q43:R43)+SUM(grade_report!U43:V43))/6,\nIF($I$2=\"פרקים 1-5\",(SUM(grade_report!P43)+SUM(grade_report!S43:T43)+MAX(grade_report!Q43:R43)+SUM(grade_report!U43:W43))/7,\nIF($I$2=\"פרקים 1-6\",(SUM(grade_report!P43)+SUM(grade_report!S43:T43)+MAX(grade_report!Q43:R43)+SUM(grade_report!U43:X43))/8,\nIF($I$2=\"פרקים 1-7\",(SUM(grade_report!P43)+SUM(grade_report!S43:T43)+MAX(grade_report!Q43:R43)+SUM(grade_report!U43:Y43))/9,0)))))))","v":0},{"$f":"IF($I$2=\"פרק 1\",SUM(grade_report!E43),\nIF($I$2=\"פרקים 1-2\",(SUM(grade_report!E43)+SUM(grade_report!H43:I43)+MAX(grade_report!F43:G43))/4,\nIF($I$2=\"פרקים 1-3\",(SUM(grade_report!E43)+SUM(grade_report!H43:I43)+MAX(grade_report!F43:G43)+SUM(grade_report!J43))/5,\nIF($I$2=\"פרקים 1-4\",(SUM(grade_report!E43)+SUM(grade_report!H43:I43)+MAX(grade_report!F43:G43)+SUM(grade_report!J43:K43))/6,\nIF($I$2=\"פרקים 1-5\",(SUM(grade_report!E43)+SUM(grade_report!H43:I43)+MAX(grade_report!F43:G43)+SUM(grade_report!J43:L43))/7,\nIF($I$2=\"פרקים 1-6\",(SUM(grade_report!E43)+SUM(grade_report!H43:I43)+MAX(grade_report!F43:G43)+SUM(grade_report!J43:M43))/8,\nIF($I$2=\"פרקים 1-7\",(SUM(grade_report!E43)+SUM(grade_report!H43:I43)+MAX(grade_report!F43:G43)+SUM(grade_report!J43:N43))/9,0)))))))","v":0},{"$f":"COUNTIF(grade_report!AA43:AE43,\">=0.55\")","v":0}]
[{"$f":"grade_report!C44","v":0},null,{"$f":"COUNTIF(grade_report!AG44:AK44,\">=0.55\")","v":0},"ללא",0,{"$f":"IF($I$2=\"פרק 1\",SUM(grade_report!P44),\nIF($I$2=\"פרקים 1-2\",(SUM(grade_report!P44)+SUM(grade_report!S44:T44)+MAX(grade_report!Q44:R44))/4,\nIF($I$2=\"פרקים 1-3\",(SUM(grade_report!P44)+SUM(grade_report!S44:T44)+MAX(grade_report!Q44:R44)+SUM(grade_report!U44))/5,\nIF($I$2=\"פרקים 1-4\",(SUM(grade_report!P44)+SUM(grade_report!S44:T44)+MAX(grade_report!Q44:R44)+SUM(grade_report!U44:V44))/6,\nIF($I$2=\"פרקים 1-5\",(SUM(grade_report!P44)+SUM(grade_report!S44:T44)+MAX(grade_report!Q44:R44)+SUM(grade_report!U44:W44))/7,\nIF($I$2=\"פרקים 1-6\",(SUM(grade_report!P44)+SUM(grade_report!S44:T44)+MAX(grade_report!Q44:R44)+SUM(grade_report!U44:X44))/8,\nIF($I$2=\"פרקים 1-7\",(SUM(grade_report!P44)+SUM(grade_report!S44:T44)+MAX(grade_report!Q44:R44)+SUM(grade_report!U44:Y44))/9,0)))))))","v":0},{"$f":"IF($I$2=\"פרק 1\",SUM(grade_report!E44),\nIF($I$2=\"פרקים 1-2\",(SUM(grade_report!E44)+SUM(grade_report!H44:I44)+MAX(grade_report!F44:G44))/4,\nIF($I$2=\"פרקים 1-3\",(SUM(grade_report!E44)+SUM(grade_report!H44:I44)+MAX(grade_report!F44:G44)+SUM(grade_report!J44))/5,\nIF($I$2=\"פרקים 1-4\",(SUM(grade_report!E44)+SUM(grade_report!H44:I44)+MAX(grade_report!F44:G44)+SUM(grade_report!J44:K44))/6,\nIF($I$2=\"פרקים 1-5\",(SUM(grade_report!E44)+SUM(grade_report!H44:I44)+MAX(grade_report!F44:G44)+SUM(grade_report!J44:L44))/7,\nIF($I$2=\"פרקים 1-6\",(SUM(grade_report!E44)+SUM(grade_report!H44:I44)+MAX(grade_report!F44:G44)+SUM(grade_report!J44:M44))/8,\nIF($I$2=\"פרקים 1-7\",(SUM(grade_report!E44)+SUM(grade_report!H44:I44)+MAX(grade_report!F44:G44)+SUM(grade_report!J44:N44))/9,0)))))))","v":0},{"$f":"COUNTIF(grade_report!AA44:AE44,\">=0.55\")","v":0}]
[{"$f":"grade_report!C45","v":0},null,{"$f":"COUNTIF(grade_report!AG45:AK45,\">=0.55\")","v":0},"ללא",0,{"$f":"IF($I$2=\"פרק 1\",SUM(grade_report!P45),\nIF($I$2=\"פרקים 1-2\",(SUM(grade_report!P45)+SUM(grade_report!S45:T45)+MAX(grade_report!Q45:R45))/4,\nIF($I$2=\"פרקים 1-3\",(SUM(grade_report!P45)+SUM(grade_report!S45:T45)+MAX(grade_report!Q45:R45)+SUM(grade_report!U45))/5,\nIF($I$2=\"פרקים 1-4\",(SUM(grade_report!P45)+SUM(grade_report!S45:T45)+MAX(grade_report!Q45:R45)+SUM(grade_report!U45:V45))/6,\nIF($I$2=\"פרקים 1-5\",(SUM(grade_report!P45)+SUM(grade_report!S45:T45)+MAX(grade_report!Q45:R45)+SUM(grade_report!U45:W45))/7,\nIF($I$2=\"פרקים 1-6\",(SUM(grade_report!P45)+SUM(grade_report!S45:T45)+MAX(grade_report!Q45:R45)+SUM(grade_report!U45:X45))/8,\nIF($I$2=\"פרקים 1-7\",(SUM(grade_report!P45)+SUM(grade_report!S45:T45)+MAX(grade_report!Q45:R45)+SUM(grade_report!U45:Y45))/9,0)))))))","v":0},{"$f":"IF($I$2=\"פרק 1\",SUM(grade_report!E45),\nIF($I$2=\"פרקים 1-2\",(SUM(grade_report!E45)+SUM(grade_report!H45:I45)+MAX(grade_report!F45:G45))/4,\nIF($I$2=\"פרקים 1-3\",(SUM(grade_report!E45)+SUM(grade_report!H45:I45)+MAX(grade_report!F45:G45)+SUM(grade_report!J45))/5,\nIF($I$2=\"פרקים 1-4\",(SUM(grade_report!E45)+SUM(grade_report!H45:I45)+MAX(grade_report!F45:G45)+SUM(grade_report!J45:K45))/6,\nIF($I$2=\"פרקים 1-5\",(SUM(grade_report!E45)+SUM(grade_report!H45:I45)+MAX(grade_report!F45:G45)+SUM(grade_report!J45:L45))/7,\nIF($I$2=\"פרקים 1-6\",(SUM(grade_report!E45)+SUM(grade_report!H45:I45)+MAX(grade_report!F45:G45)+SUM(grade_report!J45:M45))/8,\nIF($I$2=\"פרקים 1-7\",(SUM(grade_report!E45)+SUM(grade_report!H45:I45)+MAX(grade_report!F45:G45)+SUM(grade_report!J45:N45))/9,0)))))))","v":0},{"$f":"COUNTIF(grade_report!AA45:AE45,\">=0.55\")","v":0}]
[{"$f":"grade_report!C46","v":0},null,{"$f":"COUNTIF(grade_report!AG46:AK46,\">=0.55\")","v":0},"ללא",0,{"$f":"IF($I$2=\"פרק 1\",SUM(grade_report!P46),\nIF($I$2=\"פרקים 1-2\",(SUM(grade_report!P46)+SUM(grade_report!S46:T46)+MAX(grade_report!Q46:R46))/4,\nIF($I$2=\"פרקים 1-3\",(SUM(grade_report!P46)+SUM(grade_report!S46:T46)+MAX(grade_report!Q46:R46)+SUM(grade_report!U46))/5,\nIF($I$2=\"פרקים 1-4\",(SUM(grade_report!P46)+SUM(grade_report!S46:T46)+MAX(grade_report!Q46:R46)+SUM(grade_report!U46:V46))/6,\nIF($I$2=\"פרקים 1-5\",(SUM(grade_report!P46)+SUM(grade_report!S46:T46)+MAX(grade_report!Q46:R46)+SUM(grade_report!U46:W46))/7,\nIF($I$2=\"פרקים 1-6\",(SUM(grade_report!P46)+SUM(grade_report!S46:T46)+MAX(grade_report!Q46:R46)+SUM(grade_report!U46:X46))/8,\nIF($I$2=\"פרקים 1-7\",(SUM(grade_report!P46)+SUM(grade_report!S46:T46)+MAX(grade_report!Q46:R46)+SUM(grade_report!U46:Y46))/9,0)))))))","v":0},{"$f":"IF($I$2=\"פרק 1\",SUM(grade_report!E46),\nIF($I$2=\"פרקים 1-2\",(SUM(grade_report!E46)+SUM(grade_report!H46:I46)+MAX(grade_report!F46:G46))/4,\nIF($I$2=\"פרקים 1-3\",(SUM(grade_report!E46)+SUM(grade_report!H46:I46)+MAX(grade_report!F46:G46)+SUM(grade_report!J46))/5,\nIF($I$2=\"פרקים 1-4\",(SUM(grade_report!E46)+SUM(grade_report!H46:I46)+MAX(grade_report!F46:G46)+SUM(grade_report!J46:K46))/6,\nIF($I$2=\"פרקים 1-5\",(SUM(grade_report!E46)+SUM(grade_report!H46:I46)+MAX(grade_report!F46:G46)+SUM(grade_report!J46:L46))/7,\nIF($I$2=\"פרקים 1-6\",(SUM(grade_report!E46)+SUM(grade_report!H46:I46)+MAX(grade_report!F46:G46)+SUM(grade_report!J46:M46))/8,\nIF($I$2=\"פרקים 1-7\",(SUM(grade_report!E46)+SUM(grade_report!H46:I46)+MAX(grade_report!F46:G46)+SUM(grade_report!J46:N46))/9,0)))))))","v":0},{"$f":"COUNTIF(grade_report!AA46:AE46,\">=0.55\")","v":0}]
[{"$f":"grade_report!C47","v":0},null,{"$f":"COUNTIF(grade_report!AG47:AK47,\">=0.55\")","v":0},"ללא",0,{"$f":"IF($I$2=\"פרק 1\",SUM(grade_report!P47),\nIF($I$2=\"פרקים 1-2\",(SUM(grade_report!P47)+SUM(grade_report!S47:T47)+MAX(grade_report!Q47:R47))/4,\nIF($I$2=\"פרקים 1-3\",(SUM(grade_report!P47)+SUM(grade_report!S47:T47)+MAX(grade_report!Q47:R47)+SUM(grade_report!U47))/5,\nIF($I$2=\"פרקים 1-4\",(SUM(grade_report!P47)+SUM(grade_report!S47:T47)+MAX(grade_report!Q47:R47)+SUM(grade_report!U47:V47))/6,\nIF($I$2=\"פרקים 1-5\",(SUM(grade_report!P47)+SUM(grade_report!S47:T47)+MAX(grade_report!Q47:R47)+SUM(grade_report!U47:W47))/7,\nIF($I$2=\"פרקים 1-6\",(SUM(grade_report!P47)+SUM(grade_report!S47:T47)+MAX(grade_report!Q47:R47)+SUM(grade_report!U47:X47))/8,\nIF($I$2=\"פרקים 1-7\",(SUM(grade_report!P47)+SUM(grade_report!S47:T47)+MAX(grade_report!Q47:R47)+SUM(grade_report!U47:Y47))/9,0)))))))","v":0},{"$f":"IF($I$2=\"פרק 1\",SUM(grade_report!E47),\nIF($I$2=\"פרקים 1-2\",(SUM(grade_report!E47)+SUM(grade_report!H47:I47)+MAX(grade_report!F47:G47))/4,\nIF($I$2=\"פרקים 1-3\",(SUM(grade_report!E47)+SUM(grade_report!H47:I47)+MAX(grade_report!F47:G47)+SUM(grade_report!J47))/5,\nIF($I$2=\"פרקים 1-4\",(SUM(grade_report!E47)+SUM(grade_report!H47:I47)+MAX(grade_report!F47:G47)+SUM(grade_report!J47:K47))/6,\nIF($I$2=\"פרקים 1-5\",(SUM(grade_report!E47)+SUM(grade_report!H47:I47)+MAX(grade_report!F47:G47)+SUM(grade_report!J47:L47))/7,\nIF($I$2=\"פרקים 1-6\",(SUM(grade_report!E47)+SUM(grade_report!H47:I47)+MAX(grade_report!F47:G47)+SUM(grade_report!J47:M47))/8,\nIF($I$2=\"פרקים 1-7\",(SUM(grade_report!E47)+SUM(grade_report!H47:I47)+MAX(grade_report!F47:G47)+SUM(grade_report!J47:N47))/9,0)))))))","v":0},{"$f":"COUNTIF(grade_report!AA47:AE47,\">=0.55\")","v":0}]
[{"$f":"grade_report!C48","v":0},null,{"$f":"COUNTIF(grade_report!AG48:AK48,\">=0.55\")","v":0},"ללא",0,{"$f":"IF($I$2=\"פרק 1\",SUM(grade_report!P48),\nIF($I$2=\"פרקים 1-2\",(SUM(grade_report!P48)+SUM(grade_report!S48:T48)+MAX(grade_report!Q48:R48))/4,\nIF($I$2=\"פרקים 1-3\",(SUM(grade_report!P48)+SUM(grade_report!S48:T48)+MAX(grade_report!Q48:R48)+SUM(grade_report!U48))/5,\nIF($I$2=\"פרקים 1-4\",(SUM(grade_report!P48)+SUM(grade_report!S48:T48)+MAX(grade_report!Q48:R48)+SUM(grade_report!U48:V48))/6,\nIF($I$2=\"פרקים 1-5\",(SUM(grade_report!P48)+SUM(grade_report!S48:T48)+MAX(grade_report!Q48:R48)+SUM(grade_report!U48:W48))/7,\nIF($I$2=\"פרקים 1-6\",(SUM(grade_report!P48)+SUM(grade_report!S48:T48)+MAX(grade_report!Q48:R48)+SUM(grade_report!U48:X48))/8,\nIF($I$2=\"פרקים 1-7\",(SUM(grade_report!P48)+SUM(grade_report!S48:T48)+MAX(grade_report!Q48:R48)+SUM(grade_report!U48:Y48))/9,0)))))))","v":0},{"$f":"IF($I$2=\"פרק 1\",SUM(grade_report!E48),\nIF($I$2=\"פרקים 1-2\",(SUM(grade_report!E48)+SUM(grade_report!H48:I48)+MAX(grade_report!F48:G48))/4,\nIF($I$2=\"פרקים 1-3\",(SUM(grade_report!E48)+SUM(grade_report!H48:I48)+MAX(grade_report!F48:G48)+SUM(grade_report!J48))/5,\nIF($I$2=\"פרקים 1-4\",(SUM(grade_report!E48)+SUM(grade_report!H48:I48)+MAX(grade_report!F48:G48)+SUM(grade_report!J48:K48))/6,\nIF($I$2=\"פרקים 1-5\",(SUM(grade_report!E48)+SUM(grade_report!H48:I48)+MAX(grade_report!F48:G48)+SUM(grade_report!J48:L48))/7,\nIF($I$2=\"פרקים 1-6\",(SUM(grade_report!E48)+SUM(grade_report!H48:I48)+MAX(grade_report!F48:G48)+SUM(grade_report!J48:M48))/8,\nIF($I$2=\"פרקים 1-7\",(SUM(grade_report!E48)+SUM(grade_report!H48:I48)+MAX(grade_report!F48:G48)+SUM(grade_report!J48:N48))/9,0)))))))","v":0},{"$f":"COUNTIF(grade_report!AA48:AE48,\">=0.55\")","v":0}]
[{"$f":"grade_report!C49","v":0},null,{"$f":"COUNTIF(grade_report!AG49:AK49,\">=0.55\")","v":0},"ללא",0,{"$f":"IF($I$2=\"פרק 1\",SUM(grade_report!P49),\nIF($I$2=\"פרקים 1-2\",(SUM(grade_report!P49)+SUM(grade_report!S49:T49)+MAX(grade_report!Q49:R49))/4,\nIF($I$2=\"פרקים 1-3\",(SUM(grade_report!P49)+SUM(grade_report!S49:T49)+MAX(grade_report!Q49:R49)+SUM(grade_report!U49))/5,\nIF($I$2=\"פרקים 1-4\",(SUM(grade_report!P49)+SUM(grade_report!S49:T49)+MAX(grade_report!Q49:R49)+SUM(grade_report!U49:V49))/6,\nIF($I$2=\"פרקים 1-5\",(SUM(grade_report!P49)+SUM(grade_report!S49:T49)+MAX(grade_report!Q49:R49)+SUM(grade_report!U49:W49))/7,\nIF($I$2=\"פרקים 1-6\",(SUM(grade_report!P49)+SUM(grade_report!S49:T49)+MAX(grade_report!Q49:R49)+SUM(grade_report!U49:X49))/8,\nIF($I$2=\"פרקים 1-7\",(SUM(grade_report!P49)+SUM(grade_report!S49:T49)+MAX(grade_report!Q49:R49)+SUM(grade_report!U49:Y49))/9,0)))))))","v":0},{"$f":"IF($I$2=\"פרק 1\",SUM(grade_report!E49),\nIF($I$2=\"פרקים 1-2\",(SUM(grade_report!E49)+SUM(grade_report!H49:I49)+MAX(grade_report!F49:G49))/4,\nIF($I$2=\"פרקים 1-3\",(SUM(grade_report!E49)+SUM(grade_report!H49:I49)+MAX(grade_report!F49:G49)+SUM(grade_report!J49))/5,\nIF($I$2=\"פרקים 1-4\",(SUM(grade_report!E49)+SUM(grade_report!H49:I49)+MAX(grade_report!F49:G49)+SUM(grade_report!J49:K49))/6,\nIF($I$2=\"פרקים 1-5\",(SUM(grade_report!E49)+SUM(grade_report!H49:I49)+MAX(grade_report!F49:G49)+SUM(grade_report!J49:L49))/7,\nIF($I$2=\"פרקים 1-6\",(SUM(grade_report!E49)+SUM(grade_report!H49:I49)+MAX(grade_report!F49:G49)+SUM(grade_report!J49:M49))/8,\nIF($I$2=\"פרקים 1-7\",(SUM(grade_report!E49)+SUM(grade_report!H49:I49)+MAX(grade_report!F49:G49)+SUM(grade_report!J49:N49))/9,0)))))))","v":0},{"$f":"COUNTIF(grade_report!AA49:AE49,\">=0.55\")","v":0}]
[{"$f":"grade_report!C50","v":0},null,{"$f":"COUNTIF(grade_report!AG50:AK50,\">=0.55\")","v":0},"ללא",0,{"$f":"IF($I$2=\"פרק 1\",SUM(grade_report!P50),\nIF($I$2=\"פרקים 1-2\",(SUM(grade_report!P50)+SUM(grade_report!S50:T50)+MAX(grade_report!Q50:R50))/4,\nIF($I$2=\"פרקים 1-3\",(SUM(grade_report!P50)+SUM(grade_report!S50:T50)+MAX(grade_report!Q50:R50)+SUM(grade_report!U50))/5,\nIF($I$2=\"פרקים 1-4\",(SUM(grade_report!P50)+SUM(grade_report!S50:T50)+MAX(grade_report!Q50:R50)+SUM(grade_report!U50:V50))/6,\nIF($I$2=\"פרקים 1-5\",(SUM(grade_report!P50)+SUM(grade_report!S50:T50)+MAX(grade_report!Q50:R50)+SUM(grade_report!U50:W50))/7,\nIF($I$2=\"פרקים 1-6\",(SUM(grade_report!P50)+SUM(grade_report!S50:T50)+MAX(grade_report!Q50:R50)+SUM(grade_report!U50:X50))/8,\nIF($I$2=\"פרקים 1-7\",(SUM(grade_report!P50)+SUM(grade_report!S50:T50)+MAX(grade_report!Q50:R50)+SUM(grade_report!U50:Y50))/9,0)))))))","v":0},{"$f":"IF($I$2=\"פרק 1\",SUM(grade_report!E50),\nIF($I$2=\"פרקים 1-2\",(SUM(grade_report!E50)+SUM(grade_report!H50:I50)+MAX(grade_report!F50:G50))/4,\nIF($I$2=\"פרקים 1-3\",(SUM(grade_report!E50)+SUM(grade_report!H50:I50)+MAX(grade_report!F50:G50)+SUM(grade_report!J50))/5,\nIF($I$2=\"פרקים 1-4\",(SUM(grade_report!E50)+SUM(grade_report!H50:I50)+MAX(grade_report!F50:G50)+SUM(grade_report!J50:K50))/6,\nIF($I$2=\"פרקים 1-5\",(SUM(grade_report!E50)+SUM(grade_report!H50:I50)+MAX(grade_report!F50:G50)+SUM(grade_report!J50:L50))/7,\nIF($I$2=\"פרקים 1-6\",(SUM(grade_report!E50)+SUM(grade_report!H50:I50)+MAX(grade_report!F50:G50)+SUM(grade_report!J50:M50))/8,\nIF($I$2=\"פרקים 1-7\",(SUM(grade_report!E50)+SUM(grade_report!H50:I50)+MAX(grade_report!F50:G50)+SUM(grade_report!J50:N50))/9,0)))))))","v":0},{"$f":"COUNTIF(grade_report!AA50:AE50,\">=0.55\")","v":0}]
[{"$f":"grade_report!C51","v":0},null,{"$f":"COUNTIF(grade_report!AG51:AK51,\">=0.55\")","v":0},"ללא",0,{"$f":"IF($I$2=\"פרק 1\",SUM(grade_report!P51),\nIF($I$2=\"פרקים 1-2\",(SUM(grade_report!P51)+SUM(grade_report!S51:T51)+MAX(grade_report!Q51:R51))/4,\nIF($I$2=\"פרקים 1-3\",(SUM(grade_report!P51)+SUM(grade_report!S51:T51)+MAX(grade_report!Q51:R51)+SUM(grade_report!U51))/5,\nIF($I$2=\"פרקים 1-4\",(SUM(grade_report!P51)+SUM(grade_report!S51:T51)+MAX(grade_report!Q51:R51)+SUM(grade_report!U51:V51))/6,\nIF($I$2=\"פרקים 1-5\",(SUM(grade_report!P51)+SUM(grade_report!S51:T51)+MAX(grade_report!Q51:R51)+SUM(grade_report!U51:W51))/7,\nIF($I$2=\"פרקים 1-6\",(SUM(grade_report!P51)+SUM(grade_report!S51:T51)+MAX(grade_report!Q51:R51)+SUM(grade_report!U51:X51))/8,\nIF($I$2=\"פרקים 1-7\",(SUM(grade_report!P51)+SUM(grade_report!S51:T51)+MAX(grade_report!Q51:R51)+SUM(grade_report!U51:Y51))/9,0)))))))","v":0},{"$f":"IF($I$2=\"פרק 1\",SUM(grade_report!E51),\nIF($I$2=\"פרקים 1-2\",(SUM(grade_report!E51)+SUM(grade_report!H51:I51)+MAX(grade_report!F51:G51))/4,\nIF($I$2=\"פרקים 1-3\",(SUM(grade_report!E51)+SUM(grade_report!H51:I51)+MAX(grade_report!F51:G51)+SUM(grade_report!J51))/5,\nIF($I$2=\"פרקים 1-4\",(SUM(grade_report!E51)+SUM(grade_report!H51:I51)+MAX(grade_report!F51:G51)+SUM(grade_report!J51:K51))/6,\nIF($I$2=\"פרקים 1-5\",(SUM(grade_report!E51)+SUM(grade_report!H51:I51)+MAX(grade_report!F51:G51)+SUM(grade_report!J51:L51))/7,\nIF($I$2=\"פרקים 1-6\",(SUM(grade_report!E51)+SUM(grade_report!H51:I51)+MAX(grade_report!F51:G51)+SUM(grade_report!J51:M51))/8,\nIF($I$2=\"פרקים 1-7\",(SUM(grade_report!E51)+SUM(grade_report!H51:I51)+MAX(grade_report!F51:G51)+SUM(grade_report!J51:N51))/9,0)))))))","v":0},{"$f":"COUNTIF(grade_report!AA51:AE51,\">=0.55\")","v":0}]
[{"$f":"grade_report!C52","v":0},null,{"$f":"COUNTIF(grade_report!AG52:AK52,\">=0.55\")","v":0},"ללא",0,{"$f":"IF($I$2=\"פרק 1\",SUM(grade_report!P52),\nIF($I$2=\"פרקים 1-2\",(SUM(grade_report!P52)+SUM(grade_report!S52:T52)+MAX(grade_report!Q52:R52))/4,\nIF($I$2=\"פרקים 1-3\",(SUM(grade_report!P52)+SUM(grade_report!S52:T52)+MAX(grade_report!Q52:R52)+SUM(grade_report!U52))/5,\nIF($I$2=\"פרקים 1-4\",(SUM(grade_report!P52)+SUM(grade_report!S52:T52)+MAX(grade_report!Q52:R52)+SUM(grade_report!U52:V52))/6,\nIF($I$2=\"פרקים 1-5\",(SUM(grade_report!P52)+SUM(grade_report!S52:T52)+MAX(grade_report!Q52:R52)+SUM(grade_report!U52:W52))/7,\nIF($I$2=\"פרקים 1-6\",(SUM(grade_report!P52)+SUM(grade_report!S52:T52)+MAX(grade_report!Q52:R52)+SUM(grade_report!U52:X52))/8,\nIF($I$2=\"פרקים 1-7\",(SUM(grade_report!P52)+SUM(grade_report!S52:T52)+MAX(grade_report!Q52:R52)+SUM(grade_report!U52:Y52))/9,0)))))))","v":0},{"$f":"IF($I$2=\"פרק 1\",SUM(grade_report!E52),\nIF($I$2=\"פרקים 1-2\",(SUM(grade_report!E52)+SUM(grade_report!H52:I52)+MAX(grade_report!F52:G52))/4,\nIF($I$2=\"פרקים 1-3\",(SUM(grade_report!E52)+SUM(grade_report!H52:I52)+MAX(grade_report!F52:G52)+SUM(grade_report!J52))/5,\nIF($I$2=\"פרקים 1-4\",(SUM(grade_report!E52)+SUM(grade_report!H52:I52)+MAX(grade_report!F52:G52)+SUM(grade_report!J52:K52))/6,\nIF($I$2=\"פרקים 1-5\",(SUM(grade_report!E52)+SUM(grade_report!H52:I52)+MAX(grade_report!F52:G52)+SUM(grade_report!J52:L52))/7,\nIF($I$2=\"פרקים 1-6\",(SUM(grade_report!E52)+SUM(grade_report!H52:I52)+MAX(grade_report!F52:G52)+SUM(grade_report!J52:M52))/8,\nIF($I$2=\"פרקים 1-7\",(SUM(grade_report!E52)+SUM(grade_report!H52:I52)+MAX(grade_report!F52:G52)+SUM(grade_report!J52:N52))/9,0)))))))","v":0},{"$f":"COUNTIF(grade_report!AA52:AE52,\">=0.55\")","v":0}]
[{"$f":"grade_report!C53","v":0},null,{"$f":"COUNTIF(grade_report!AG53:AK53,\">=0.55\")","v":0},"ללא",0,{"$f":"IF($I$2=\"פרק 1\",SUM(grade_report!P53),\nIF($I$2=\"פרקים 1-2\",(SUM(grade_report!P53)+SUM(grade_report!S53:T53)+MAX(grade_report!Q53:R53))/4,\nIF($I$2=\"פרקים 1-3\",(SUM(grade_report!P53)+SUM(grade_report!S53:T53)+MAX(grade_report!Q53:R53)+SUM(grade_report!U53))/5,\nIF($I$2=\"פרקים 1-4\",(SUM(grade_report!P53)+SUM(grade_report!S53:T53)+MAX(grade_report!Q53:R53)+SUM(grade_report!U53:V53))/6,\nIF($I$2=\"פרקים 1-5\",(SUM(grade_report!P53)+SUM(grade_report!S53:T53)+MAX(grade_report!Q53:R53)+SUM(grade_report!U53:W53))/7,\nIF($I$2=\"פרקים 1-6\",(SUM(grade_report!P53)+SUM(grade_report!S53:T53)+MAX(grade_report!Q53:R53)+SUM(grade_report!U53:X53))/8,\nIF($I$2=\"פרקים 1-7\",(SUM(grade_report!P53)+SUM(grade_report!S53:T53)+MAX(grade_report!Q53:R53)+SUM(grade_report!U53:Y53))/9,0)))))))","v":0},{"$f":"IF($I$2=\"פרק 1\",SUM(grade_report!E53),\nIF($I$2=\"פרקים 1-2\",(SUM(grade_report!E53)+SUM(grade_report!H53:I53)+MAX(grade_report!F53:G53))/4,\nIF($I$2=\"פרקים 1-3\",(SUM(grade_report!E53)+SUM(grade_report!H53:I53)+MAX(grade_report!F53:G53)+SUM(grade_report!J53))/5,\nIF($I$2=\"פרקים 1-4\",(SUM(grade_report!E53)+SUM(grade_report!H53:I53)+MAX(grade_report!F53:G53)+SUM(grade_report!J53:K53))/6,\nIF($I$2=\"פרקים 1-5\",(SUM(grade_report!E53)+SUM(grade_report!H53:I53)+MAX(grade_report!F53:G53)+SUM(grade_report!J53:L53))/7,\nIF($I$2=\"פרקים 1-6\",(SUM(grade_report!E53)+SUM(grade_report!H53:I53)+MAX(grade_report!F53:G53)+SUM(grade_report!J53:M53))/8,\nIF($I$2=\"פרקים 1-7\",(SUM(grade_report!E53)+SUM(grade_report!H53:I53)+MAX(grade_report!F53:G53)+SUM(grade_report!J53:N53))/9,0)))))))","v":0},{"$f":"COUNTIF(grade_report!AA53:AE53,\">=0.55\")","v":0}]
[{"$f":"grade_report!C54","v":0},null,{"$f":"COUNTIF(grade_report!AG54:AK54,\">=0.55\")","v":0},"ללא",0,{"$f":"IF($I$2=\"פרק 1\",SUM(grade_report!P54),\nIF($I$2=\"פרקים 1-2\",(SUM(grade_report!P54)+SUM(grade_report!S54:T54)+MAX(grade_report!Q54:R54))/4,\nIF($I$2=\"פרקים 1-3\",(SUM(grade_report!P54)+SUM(grade_report!S54:T54)+MAX(grade_report!Q54:R54)+SUM(grade_report!U54))/5,\nIF($I$2=\"פרקים 1-4\",(SUM(grade_report!P54)+SUM(grade_report!S54:T54)+MAX(grade_report!Q54:R54)+SUM(grade_report!U54:V54))/6,\nIF($I$2=\"פרקים 1-5\",(SUM(grade_report!P54)+SUM(grade_report!S54:T54)+MAX(grade_report!Q54:R54)+SUM(grade_report!U54:W54))/7,\nIF($I$2=\"פרקים 1-6\",(SUM(grade_report!P54)+SUM(grade_report!S54:T54)+MAX(grade_report!Q54:R54)+SUM(grade_report!U54:X54))/8,\nIF($I$2=\"פרקים 1-7\",(SUM(grade_report!P54)+SUM(grade_report!S54:T54)+MAX(grade_report!Q54:R54)+SUM(grade_report!U54:Y54))/9,0)))))))","v":0},{"$f":"IF($I$2=\"פרק 1\",SUM(grade_report!E54),\nIF($I$2=\"פרקים 1-2\",(SUM(grade_report!E54)+SUM(grade_report!H54:I54)+MAX(grade_report!F54:G54))/4,\nIF($I$2=\"פרקים 1-3\",(SUM(grade_report!E54)+SUM(grade_report!H54:I54)+MAX(grade_report!F54:G54)+SUM(grade_report!J54))/5,\nIF($I$2=\"פרקים 1-4\",(SUM(grade_report!E54)+SUM(grade_report!H54:I54)+MAX(grade_report!F54:G54)+SUM(grade_report!J54:K54))/6,\nIF($I$2=\"פרקים 1-5\",(SUM(grade_report!E54)+SUM(grade_report!H54:I54)+MAX(grade_report!F54:G54)+SUM(grade_report!J54:L54))/7,\nIF($I$2=\"פרקים 1-6\",(SUM(grade_report!E54)+SUM(grade_report!H54:I54)+MAX(grade_report!F54:G54)+SUM(grade_report!J54:M54))/8,\nIF($I$2=\"פרקים 1-7\",(SUM(grade_report!E54)+SUM(grade_report!H54:I54)+MAX(grade_report!F54:G54)+SUM(grade_report!J54:N54))/9,0)))))))","v":0},{"$f":"COUNTIF(grade_report!AA54:AE54,\">=0.55\")","v":0}]
[{"$f":"grade_report!C55","v":0},null,{"$f":"COUNTIF(grade_report!AG55:AK55,\">=0.55\")","v":0},"ללא",0,{"$f":"IF($I$2=\"פרק 1\",SUM(grade_report!P55),\nIF($I$2=\"פרקים 1-2\",(SUM(grade_report!P55)+SUM(grade_report!S55:T55)+MAX(grade_report!Q55:R55))/4,\nIF($I$2=\"פרקים 1-3\",(SUM(grade_report!P55)+SUM(grade_report!S55:T55)+MAX(grade_report!Q55:R55)+SUM(grade_report!U55))/5,\nIF($I$2=\"פרקים 1-4\",(SUM(grade_report!P55)+SUM(grade_report!S55:T55)+MAX(grade_report!Q55:R55)+SUM(grade_report!U55:V55))/6,\nIF($I$2=\"פרקים 1-5\",(SUM(grade_report!P55)+SUM(grade_report!S55:T55)+MAX(grade_report!Q55:R55)+SUM(grade_report!U55:W55))/7,\nIF($I$2=\"פרקים 1-6\",(SUM(grade_report!P55)+SUM(grade_report!S55:T55)+MAX(grade_report!Q55:R55)+SUM(grade_report!U55:X55))/8,\nIF($I$2=\"פרקים 1-7\",(SUM(grade_report!P55)+SUM(grade_report!S55:T55)+MAX(grade_report!Q55:R55)+SUM(grade_report!U55:Y55))/9,0)))))))","v":0},{"$f":"IF($I$2=\"פרק 1\",SUM(grade_report!E55),\nIF($I$2=\"פרקים 1-2\",(SUM(grade_report!E55)+SUM(grade_report!H55:I55)+MAX(grade_report!F55:G55))/4,\nIF($I$2=\"פרקים 1-3\",(SUM(grade_report!E55)+SUM(grade_report!H55:I55)+MAX(grade_report!F55:G55)+SUM(grade_report!J55))/5,\nIF($I$2=\"פרקים 1-4\",(SUM(grade_report!E55)+SUM(grade_report!H55:I55)+MAX(grade_report!F55:G55)+SUM(grade_report!J55:K55))/6,\nIF($I$2=\"פרקים 1-5\",(SUM(grade_report!E55)+SUM(grade_report!H55:I55)+MAX(grade_report!F55:G55)+SUM(grade_report!J55:L55))/7,\nIF($I$2=\"פרקים 1-6\",(SUM(grade_report!E55)+SUM(grade_report!H55:I55)+MAX(grade_report!F55:G55)+SUM(grade_report!J55:M55))/8,\nIF($I$2=\"פרקים 1-7\",(SUM(grade_report!E55)+SUM(grade_report!H55:I55)+MAX(grade_report!F55:G55)+SUM(grade_report!J55:N55))/9,0)))))))","v":0},{"$f":"COUNTIF(grade_report!AA55:AE55,\">=0.55\")","v":0}]
[{"$f":"grade_report!C56","v":0},null,{"$f":"COUNTIF(grade_report!AG56:AK56,\">=0.55\")","v":0},"ללא",0,{"$f":"IF($I$2=\"פרק 1\",SUM(grade_report!P56),\nIF($I$2=\"פרקים 1-2\",(SUM(grade_report!P56)+SUM(grade_report!S56:T56)+MAX(grade_report!Q56:R56))/4,\nIF($I$2=\"פרקים 1-3\",(SUM(grade_report!P56)+SUM(grade_report!S56:T56)+MAX(grade_report!Q56:R56)+SUM(grade_report!U56))/5,\nIF($I$2=\"פרקים 1-4\",(SUM(grade_report!P56)+SUM(grade_report!S56:T56)+MAX(grade_report!Q56:R56)+SUM(grade_report!U56:V56))/6,\nIF($I$2=\"פרקים 1-5\",(SUM(grade_report!P56)+SUM(grade_report!S56:T56)+MAX(grade_report!Q56:R56)+SUM(grade_report!U56:W56))/7,\nIF($I$2=\"פרקים 1-6\",(SUM(grade_report!P56)+SUM(grade_report!S56:T56)+MAX(grade_report!Q56:R56)+SUM(grade_report!U56:X56))/8,\nIF($I$2=\"פרקים 1-7\",(SUM(grade_report!P56)+SUM(grade_report!S56:T56)+MAX(grade_report!Q56:R56)+SUM(grade_report!U56:Y56))/9,0)))))))","v":0},{"$f":"IF($I$2=\"פרק 1\",SUM(grade_report!E56),\nIF($I$2=\"פרקים 1-2\",(SUM(grade_report!E56)+SUM(grade_report!H56:I56)+MAX(grade_report!F56:G56))/4,\nIF($I$2=\"פרקים 1-3\",(SUM(grade_report!E56)+SUM(grade_report!H56:I56)+MAX(grade_report!F56:G56)+SUM(grade_report!J56))/5,\nIF($I$2=\"פרקים 1-4\",(SUM(grade_report!E56)+SUM(grade_report!H56:I56)+MAX(grade_report!F56:G56)+SUM(grade_report!J56:K56))/6,\nIF($I$2=\"פרקים 1-5\",(SUM(grade_report!E56)+SUM(grade_report!H56:I56)+MAX(grade_report!F56:G56)+SUM(grade_report!J56:L56))/7,\nIF($I$2=\"פרקים 1-6\",(SUM(grade_report!E56)+SUM(grade_report!H56:I56)+MAX(grade_report!F56:G56)+SUM(grade_report!J56:M56))/8,\nIF($I$2=\"פרקים 1-7\",(SUM(grade_report!E56)+SUM(grade_report!H56:I56)+MAX(grade_report!F56:G56)+SUM(grade_report!J56:N56))/9,0)))))))","v":0},{"$f":"COUNTIF(grade_report!AA56:AE56,\">=0.55\")","v":0}]
[{"$f":"grade_report!C57","v":0},null,{"$f":"COUNTIF(grade_report!AG57:AK57,\">=0.55\")","v":0},"ללא",0,{"$f":"IF($I$2=\"פרק 1\",SUM(grade_report!P57),\nIF($I$2=\"פרקים 1-2\",(SUM(grade_report!P57)+SUM(grade_report!S57:T57)+MAX(grade_report!Q57:R57))/4,\nIF($I$2=\"פרקים 1-3\",(SUM(grade_report!P57)+SUM(grade_report!S57:T57)+MAX(grade_report!Q57:R57)+SUM(grade_report!U57))/5,\nIF($I$2=\"פרקים 1-4\",(SUM(grade_report!P57)+SUM(grade_report!S57:T57)+MAX(grade_report!Q57:R57)+SUM(grade_report!U57:V57))/6,\nIF($I$2=\"פרקים 1-5\",(SUM(grade_report!P57)+SUM(grade_report!S57:T57)+MAX(grade_report!Q57:R57)+SUM(grade_report!U57:W57))/7,\nIF($I$2=\"פרקים 1-6\",(SUM(grade_report!P57)+SUM(grade_report!S57:T57)+MAX(grade_report!Q57:R57)+SUM(grade_report!U57:X57))/8,\nIF($I$2=\"פרקים 1-7\",(SUM(grade_report!P57)+SUM(grade_report!S57:T57)+MAX(grade_report!Q57:R57)+SUM(grade_report!U57:Y57))/9,0)))))))","v":0},{"$f":"IF($I$2=\"פרק 1\",SUM(grade_report!E57),\nIF($I$2=\"פרקים 1-2\",(SUM(grade_report!E57)+SUM(grade_report!H57:I57)+MAX(grade_report!F57:G57))/4,\nIF($I$2=\"פרקים 1-3\",(SUM(grade_report!E57)+SUM(grade_report!H57:I57)+MAX(grade_report!F57:G57)+SUM(grade_report!J57))/5,\nIF($I$2=\"פרקים 1-4\",(SUM(grade_report!E57)+SUM(grade_report!H57:I57)+MAX(grade_report!F57:G57)+SUM(grade_report!J57:K57))/6,\nIF($I$2=\"פרקים 1-5\",(SUM(grade_report!E57)+SUM(grade_report!H57:I57)+MAX(grade_report!F57:G57)+SUM(grade_report!J57:L57))/7,\nIF($I$2=\"פרקים 1-6\",(SUM(grade_report!E57)+SUM(grade_report!H57:I57)+MAX(grade_report!F57:G57)+SUM(grade_report!J57:M57))/8,\nIF($I$2=\"פרקים 1-7\",(SUM(grade_report!E57)+SUM(grade_report!H57:I57)+MAX(grade_report!F57:G57)+SUM(grade_report!J57:N57))/9,0)))))))","v":0},{"$f":"COUNTIF(grade_report!AA57:AE57,\">=0.55\")","v":0}]
[{"$f":"grade_report!C58","v":0},null,{"$f":"COUNTIF(grade_report!AG58:AK58,\">=0.55\")","v":0},"ללא",0,{"$f":"IF($I$2=\"פרק 1\",SUM(grade_report!P58),\nIF($I$2=\"פרקים 1-2\",(SUM(grade_report!P58)+SUM(grade_report!S58:T58)+MAX(grade_report!Q58:R58))/4,\nIF($I$2=\"פרקים 1-3\",(SUM(grade_report!P58)+SUM(grade_report!S58:T58)+MAX(grade_report!Q58:R58)+SUM(grade_report!U58))/5,\nIF($I$2=\"פרקים 1-4\",(SUM(grade_report!P58)+SUM(grade_report!S58:T58)+MAX(grade_report!Q58:R58)+SUM(grade_report!U58:V58))/6,\nIF($I$2=\"פרקים 1-5\",(SUM(grade_report!P58)+SUM(grade_report!S58:T58)+MAX(grade_report!Q58:R58)+SUM(grade_report!U58:W58))/7,\nIF($I$2=\"פרקים 1-6\",(SUM(grade_report!P58)+SUM(grade_report!S58:T58)+MAX(grade_report!Q58:R58)+SUM(grade_report!U58:X58))/8,\nIF($I$2=\"פרקים 1-7\",(SUM(grade_report!P58)+SUM(grade_report!S58:T58)+MAX(grade_report!Q58:R58)+SUM(grade_report!U58:Y58))/9,0)))))))","v":0},{"$f":"IF($I$2=\"פרק 1\",SUM(grade_report!E58),\nIF($I$2=\"פרקים 1-2\",(SUM(grade_report!E58)+SUM(grade_report!H58:I58)+MAX(grade_report!F58:G58))/4,\nIF($I$2=\"פרקים 1-3\",(SUM(grade_report!E58)+SUM(grade_report!H58:I58)+MAX(grade_report!F58:G58)+SUM(grade_report!J58))/5,\nIF($I$2=\"פרקים 1-4\",(SUM(grade_report!E58)+SUM(grade_report!H58:I58)+MAX(grade_report!F58:G58)+SUM(grade_report!J58:K58))/6,\nIF($I$2=\"פרקים 1-5\",(SUM(grade_report!E58)+SUM(grade_report!H58:I58)+MAX(grade_report!F58:G58)+SUM(grade_report!J58:L58))/7,\nIF($I$2=\"פרקים 1-6\",(SUM(grade_report!E58)+SUM(grade_report!H58:I58)+MAX(grade_report!F58:G58)+SUM(grade_report!J58:M58))/8,\nIF($I$2=\"פרקים 1-7\",(SUM(grade_report!E58)+SUM(grade_report!H58:I58)+MAX(grade_report!F58:G58)+SUM(grade_report!J58:N58))/9,0)))))))","v":0},{"$f":"COUNTIF(grade_report!AA58:AE58,\">=0.55\")","v":0}]
[{"$f":"grade_report!C59","v":0},null,{"$f":"COUNTIF(grade_report!AG59:AK59,\">=0.55\")","v":0},"ללא",0,{"$f":"IF($I$2=\"פרק 1\",SUM(grade_report!P59),\nIF($I$2=\"פרקים 1-2\",(SUM(grade_report!P59)+SUM(grade_report!S59:T59)+MAX(grade_report!Q59:R59))/4,\nIF($I$2=\"פרקים 1-3\",(SUM(grade_report!P59)+SUM(grade_report!S59:T59)+MAX(grade_report!Q59:R59)+SUM(grade_report!U59))/5,\nIF($I$2=\"פרקים 1-4\",(SUM(grade_report!P59)+SUM(grade_report!S59:T59)+MAX(grade_report!Q59:R59)+SUM(grade_report!U59:V59))/6,\nIF($I$2=\"פרקים 1-5\",(SUM(grade_report!P59)+SUM(grade_report!S59:T59)+MAX(grade_report!Q59:R59)+SUM(grade_report!U59:W59))/7,\nIF($I$2=\"פרקים 1-6\",(SUM(grade_report!P59)+SUM(grade_report!S59:T59)+MAX(grade_report!Q59:R59)+SUM(grade_report!U59:X59))/8,\nIF($I$2=\"פרקים 1-7\",(SUM(grade_report!P59)+SUM(grade_report!S59:T59)+MAX(grade_report!Q59:R59)+SUM(grade_report!U59:Y59))/9,0)))))))","v":0},{"$f":"IF($I$2=\"פרק 1\",SUM(grade_report!E59),\nIF($I$2=\"פרקים 1-2\",(SUM(grade_report!E59)+SUM(grade_report!H59:I59)+MAX(grade_report!F59:G59))/4,\nIF($I$2=\"פרקים 1-3\",(SUM(grade_report!E59)+SUM(grade_report!H59:I59)+MAX(grade_report!F59:G59)+SUM(grade_report!J59))/5,\nIF($I$2=\"פרקים 1-4\",(SUM(grade_report!E59)+SUM(grade_report!H59:I59)+MAX(grade_report!F59:G59)+SUM(grade_report!J59:K59))/6,\nIF($I$2=\"פרקים 1-5\",(SUM(grade_report!E59)+SUM(grade_report!H59:I59)+MAX(grade_report!F59:G59)+SUM(grade_report!J59:L59))/7,\nIF($I$2=\"פרקים 1-6\",(SUM(grade_report!E59)+SUM(grade_report!H59:I59)+MAX(grade_report!F59:G59)+SUM(grade_report!J59:M59))/8,\nIF($I$2=\"פרקים 1-7\",(SUM(grade_report!E59)+SUM(grade_report!H59:I59)+MAX(grade_report!F59:G59)+SUM(grade_report!J59:N59))/9,0)))))))","v":0},{"$f":"COUNTIF(grade_report!AA59:AE59,\">=0.55\")","v":0}]
[{"$f":"grade_report!C60","v":0},null,{"$f":"COUNTIF(grade_report!AG60:AK60,\">=0.55\")","v":0},"ללא",0,{"$f":"IF($I$2=\"פרק 1\",SUM(grade_report!P60),\nIF($I$2=\"פרקים 1-2\",(SUM(grade_report!P60)+SUM(grade_report!S60:T60)+MAX(grade_report!Q60:R60))/4,\nIF($I$2=\"פרקים 1-3\",(SUM(grade_report!P60)+SUM(grade_report!S60:T60)+MAX(grade_report!Q60:R60)+SUM(grade_report!U60))/5,\nIF($I$2=\"פרקים 1-4\",(SUM(grade_report!P60)+SUM(grade_report!S60:T60)+MAX(grade_report!Q60:R60)+SUM(grade_report!U60:V60))/6,\nIF($I$2=\"פרקים 1-5\",(SUM(grade_report!P60)+SUM(grade_report!S60:T60)+MAX(grade_report!Q60:R60)+SUM(grade_report!U60:W60))/7,\nIF($I$2=\"פרקים 1-6\",(SUM(grade_report!P60)+SUM(grade_report!S60:T60)+MAX(grade_report!Q60:R60)+SUM(grade_report!U60:X60))/8,\nIF($I$2=\"פרקים 1-7\",(SUM(grade_report!P60)+SUM(grade_report!S60:T60)+MAX(grade_report!Q60:R60)+SUM(grade_report!U60:Y60))/9,0)))))))","v":0},{"$f":"IF($I$2=\"פרק 1\",SUM(grade_report!E60),\nIF($I$2=\"פרקים 1-2\",(SUM(grade_report!E60)+SUM(grade_report!H60:I60)+MAX(grade_report!F60:G60))/4,\nIF($I$2=\"פרקים 1-3\",(SUM(grade_report!E60)+SUM(grade_report!H60:I60)+MAX(grade_report!F60:G60)+SUM(grade_report!J60))/5,\nIF($I$2=\"פרקים 1-4\",(SUM(grade_report!E60)+SUM(grade_report!H60:I60)+MAX(grade_report!F60:G60)+SUM(grade_report!J60:K60))/6,\nIF($I$2=\"פרקים 1-5\",(SUM(grade_report!E60)+SUM(grade_report!H60:I60)+MAX(grade_report!F60:G60)+SUM(grade_report!J60:L60))/7,\nIF($I$2=\"פרקים 1-6\",(SUM(grade_report!E60)+SUM(grade_report!H60:I60)+MAX(grade_report!F60:G60)+SUM(grade_report!J60:M60))/8,\nIF($I$2=\"פרקים 1-7\",(SUM(grade_report!E60)+SUM(grade_report!H60:I60)+MAX(grade_report!F60:G60)+SUM(grade_report!J60:N60))/9,0)))))))","v":0},{"$f":"COUNTIF(grade_report!AA60:AE60,\">=0.55\")","v":0}]
[{"$f":"grade_report!C61","v":0},null,{"$f":"COUNTIF(grade_report!AG61:AK61,\">=0.55\")","v":0},"ללא",0,{"$f":"IF($I$2=\"פרק 1\",SUM(grade_report!P61),\nIF($I$2=\"פרקים 1-2\",(SUM(grade_report!P61)+SUM(grade_report!S61:T61)+MAX(grade_report!Q61:R61))/4,\nIF($I$2=\"פרקים 1-3\",(SUM(grade_report!P61)+SUM(grade_report!S61:T61)+MAX(grade_report!Q61:R61)+SUM(grade_report!U61))/5,\nIF($I$2=\"פרקים 1-4\",(SUM(grade_report!P61)+SUM(grade_report!S61:T61)+MAX(grade_report!Q61:R61)+SUM(grade_report!U61:V61))/6,\nIF($I$2=\"פרקים 1-5\",(SUM(grade_report!P61)+SUM(grade_report!S61:T61)+MAX(grade_report!Q61:R61)+SUM(grade_report!U61:W61))/7,\nIF($I$2=\"פרקים 1-6\",(SUM(grade_report!P61)+SUM(grade_report!S61:T61)+MAX(grade_report!Q61:R61)+SUM(grade_report!U61:X61))/8,\nIF($I$2=\"פרקים 1-7\",(SUM(grade_report!P61)+SUM(grade_report!S61:T61)+MAX(grade_report!Q61:R61)+SUM(grade_report!U61:Y61))/9,0)))))))","v":0},{"$f":"IF($I$2=\"פרק 1\",SUM(grade_report!E61),\nIF($I$2=\"פרקים 1-2\",(SUM(grade_report!E61)+SUM(grade_report!H61:I61)+MAX(grade_report!F61:G61))/4,\nIF($I$2=\"פרקים 1-3\",(SUM(grade_report!E61)+SUM(grade_report!H61:I61)+MAX(grade_report!F61:G61)+SUM(grade_report!J61))/5,\nIF($I$2=\"פרקים 1-4\",(SUM(grade_report!E61)+SUM(grade_report!H61:I61)+MAX(grade_report!F61:G61)+SUM(grade_report!J61:K61))/6,\nIF($I$2=\"פרקים 1-5\",(SUM(grade_report!E61)+SUM(grade_report!H61:I61)+MAX(grade_report!F61:G61)+SUM(grade_report!J61:L61))/7,\nIF($I$2=\"פרקים 1-6\",(SUM(grade_report!E61)+SUM(grade_report!H61:I61)+MAX(grade_report!F61:G61)+SUM(grade_report!J61:M61))/8,\nIF($I$2=\"פרקים 1-7\",(SUM(grade_report!E61)+SUM(grade_report!H61:I61)+MAX(grade_report!F61:G61)+SUM(grade_report!J61:N61))/9,0)))))))","v":0},{"$f":"COUNTIF(grade_report!AA61:AE61,\">=0.55\")","v":0}]
[{"$f":"grade_report!C62","v":0},null,{"$f":"COUNTIF(grade_report!AG62:AK62,\">=0.55\")","v":0},"ללא",0,{"$f":"IF($I$2=\"פרק 1\",SUM(grade_report!P62),\nIF($I$2=\"פרקים 1-2\",(SUM(grade_report!P62)+SUM(grade_report!S62:T62)+MAX(grade_report!Q62:R62))/4,\nIF($I$2=\"פרקים 1-3\",(SUM(grade_report!P62)+SUM(grade_report!S62:T62)+MAX(grade_report!Q62:R62)+SUM(grade_report!U62))/5,\nIF($I$2=\"פרקים 1-4\",(SUM(grade_report!P62)+SUM(grade_report!S62:T62)+MAX(grade_report!Q62:R62)+SUM(grade_report!U62:V62))/6,\nIF($I$2=\"פרקים 1-5\",(SUM(grade_report!P62)+SUM(grade_report!S62:T62)+MAX(grade_report!Q62:R62)+SUM(grade_report!U62:W62))/7,\nIF($I$2=\"פרקים 1-6\",(SUM(grade_report!P62)+SUM(grade_report!S62:T62)+MAX(grade_report!Q62:R62)+SUM(grade_report!U62:X62))/8,\nIF($I$2=\"פרקים 1-7\",(SUM(grade_report!P62)+SUM(grade_report!S62:T62)+MAX(grade_report!Q62:R62)+SUM(grade_report!U62:Y62))/9,0)))))))","v":0},{"$f":"IF($I$2=\"פרק 1\",SUM(grade_report!E62),\nIF($I$2=\"פרקים 1-2\",(SUM(grade_report!E62)+SUM(grade_report!H62:I62)+MAX(grade_report!F62:G62))/4,\nIF($I$2=\"פרקים 1-3\",(SUM(grade_report!E62)+SUM(grade_report!H62:I62)+MAX(grade_report!F62:G62)+SUM(grade_report!J62))/5,\nIF($I$2=\"פרקים 1-4\",(SUM(grade_report!E62)+SUM(grade_report!H62:I62)+MAX(grade_report!F62:G62)+SUM(grade_report!J62:K62))/6,\nIF($I$2=\"פרקים 1-5\",(SUM(grade_report!E62)+SUM(grade_report!H62:I62)+MAX(grade_report!F62:G62)+SUM(grade_report!J62:L62))/7,\nIF($I$2=\"פרקים 1-6\",(SUM(grade_report!E62)+SUM(grade_report!H62:I62)+MAX(grade_report!F62:G62)+SUM(grade_report!J62:M62))/8,\nIF($I$2=\"פרקים 1-7\",(SUM(grade_report!E62)+SUM(grade_report!H62:I62)+MAX(grade_report!F62:G62)+SUM(grade_report!J62:N62))/9,0)))))))","v":0},{"$f":"COUNTIF(grade_report!AA62:AE62,\">=0.55\")","v":0}]
[{"$f":"grade_report!C63","v":0},null,{"$f":"COUNTIF(grade_report!AG63:AK63,\">=0.55\")","v":0},"ללא",0,{"$f":"IF($I$2=\"פרק 1\",SUM(grade_report!P63),\nIF($I$2=\"פרקים 1-2\",(SUM(grade_report!P63)+SUM(grade_report!S63:T63)+MAX(grade_report!Q63:R63))/4,\nIF($I$2=\"פרקים 1-3\",(SUM(grade_report!P63)+SUM(grade_report!S63:T63)+MAX(grade_report!Q63:R63)+SUM(grade_report!U63))/5,\nIF($I$2=\"פרקים 1-4\",(SUM(grade_report!P63)+SUM(grade_report!S63:T63)+MAX(grade_report!Q63:R63)+SUM(grade_report!U63:V63))/6,\nIF($I$2=\"פרקים 1-5\",(SUM(grade_report!P63)+SUM(grade_report!S63:T63)+MAX(grade_report!Q63:R63)+SUM(grade_report!U63:W63))/7,\nIF($I$2=\"פרקים 1-6\",(SUM(grade_report!P63)+SUM(grade_report!S63:T63)+MAX(grade_report!Q63:R63)+SUM(grade_report!U63:X63))/8,\nIF($I$2=\"פרקים 1-7\",(SUM(grade_report!P63)+SUM(grade_report!S63:T63)+MAX(grade_report!Q63:R63)+SUM(grade_report!U63:Y63))/9,0)))))))","v":0},{"$f":"IF($I$2=\"פרק 1\",SUM(grade_report!E63),\nIF($I$2=\"פרקים 1-2\",(SUM(grade_report!E63)+SUM(grade_report!H63:I63)+MAX(grade_report!F63:G63))/4,\nIF($I$2=\"פרקים 1-3\",(SUM(grade_report!E63)+SUM(grade_report!H63:I63)+MAX(grade_report!F63:G63)+SUM(grade_report!J63))/5,\nIF($I$2=\"פרקים 1-4\",(SUM(grade_report!E63)+SUM(grade_report!H63:I63)+MAX(grade_report!F63:G63)+SUM(grade_report!J63:K63))/6,\nIF($I$2=\"פרקים 1-5\",(SUM(grade_report!E63)+SUM(grade_report!H63:I63)+MAX(grade_report!F63:G63)+SUM(grade_report!J63:L63))/7,\nIF($I$2=\"פרקים 1-6\",(SUM(grade_report!E63)+SUM(grade_report!H63:I63)+MAX(grade_report!F63:G63)+SUM(grade_report!J63:M63))/8,\nIF($I$2=\"פרקים 1-7\",(SUM(grade_report!E63)+SUM(grade_report!H63:I63)+MAX(grade_report!F63:G63)+SUM(grade_report!J63:N63))/9,0)))))))","v":0},{"$f":"COUNTIF(grade_report!AA63:AE63,\">=0.55\")","v":0}]
[{"$f":"grade_report!C64","v":0},null,{"$f":"COUNTIF(grade_report!AG64:AK64,\">=0.55\")","v":0},"ללא",0,{"$f":"IF($I$2=\"פרק 1\",SUM(grade_report!P64),\nIF($I$2=\"פרקים 1-2\",(SUM(grade_report!P64)+SUM(grade_report!S64:T64)+MAX(grade_report!Q64:R64))/4,\nIF($I$2=\"פרקים 1-3\",(SUM(grade_report!P64)+SUM(grade_report!S64:T64)+MAX(grade_report!Q64:R64)+SUM(grade_report!U64))/5,\nIF($I$2=\"פרקים 1-4\",(SUM(grade_report!P64)+SUM(grade_report!S64:T64)+MAX(grade_report!Q64:R64)+SUM(grade_report!U64:V64))/6,\nIF($I$2=\"פרקים 1-5\",(SUM(grade_report!P64)+SUM(grade_report!S64:T64)+MAX(grade_report!Q64:R64)+SUM(grade_report!U64:W64))/7,\nIF($I$2=\"פרקים 1-6\",(SUM(grade_report!P64)+SUM(grade_report!S64:T64)+MAX(grade_report!Q64:R64)+SUM(grade_report!U64:X64))/8,\nIF($I$2=\"פרקים 1-7\",(SUM(grade_report!P64)+SUM(grade_report!S64:T64)+MAX(grade_report!Q64:R64)+SUM(grade_report!U64:Y64))/9,0)))))))","v":0},{"$f":"IF($I$2=\"פרק 1\",SUM(grade_report!E64),\nIF($I$2=\"פרקים 1-2\",(SUM(grade_report!E64)+SUM(grade_report!H64:I64)+MAX(grade_report!F64:G64))/4,\nIF($I$2=\"פרקים 1-3\",(SUM(grade_report!E64)+SUM(grade_report!H64:I64)+MAX(grade_report!F64:G64)+SUM(grade_report!J64))/5,\nIF($I$2=\"פרקים 1-4\",(SUM(grade_report!E64)+SUM(grade_report!H64:I64)+MAX(grade_report!F64:G64)+SUM(grade_report!J64:K64))/6,\nIF($I$2=\"פרקים 1-5\",(SUM(grade_report!E64)+SUM(grade_report!H64:I64)+MAX(grade_report!F64:G64)+SUM(grade_report!J64:L64))/7,\nIF($I$2=\"פרקים 1-6\",(SUM(grade_report!E64)+SUM(grade_report!H64:I64)+MAX(grade_report!F64:G64)+SUM(grade_report!J64:M64))/8,\nIF($I$2=\"פרקים 1-7\",(SUM(grade_report!E64)+SUM(grade_report!H64:I64)+MAX(grade_report!F64:G64)+SUM(grade_report!J64:N64))/9,0)))))))","v":0},{"$f":"COUNTIF(grade_report!AA64:AE64,\">=0.55\")","v":0}]
[{"$f":"grade_report!C65","v":0},null,{"$f":"COUNTIF(grade_report!AG65:AK65,\">=0.55\")","v":0},"ללא",0,{"$f":"IF($I$2=\"פרק 1\",SUM(grade_report!P65),\nIF($I$2=\"פרקים 1-2\",(SUM(grade_report!P65)+SUM(grade_report!S65:T65)+MAX(grade_report!Q65:R65))/4,\nIF($I$2=\"פרקים 1-3\",(SUM(grade_report!P65)+SUM(grade_report!S65:T65)+MAX(grade_report!Q65:R65)+SUM(grade_report!U65))/5,\nIF($I$2=\"פרקים 1-4\",(SUM(grade_report!P65)+SUM(grade_report!S65:T65)+MAX(grade_report!Q65:R65)+SUM(grade_report!U65:V65))/6,\nIF($I$2=\"פרקים 1-5\",(SUM(grade_report!P65)+SUM(grade_report!S65:T65)+MAX(grade_report!Q65:R65)+SUM(grade_report!U65:W65))/7,\nIF($I$2=\"פרקים 1-6\",(SUM(grade_report!P65)+SUM(grade_report!S65:T65)+MAX(grade_report!Q65:R65)+SUM(grade_report!U65:X65))/8,\nIF($I$2=\"פרקים 1-7\",(SUM(grade_report!P65)+SUM(grade_report!S65:T65)+MAX(grade_report!Q65:R65)+SUM(grade_report!U65:Y65))/9,0)))))))","v":0},{"$f":"IF($I$2=\"פרק 1\",SUM(grade_report!E65),\nIF($I$2=\"פרקים 1-2\",(SUM(grade_report!E65)+SUM(grade_report!H65:I65)+MAX(grade_report!F65:G65))/4,\nIF($I$2=\"פרקים 1-3\",(SUM(grade_report!E65)+SUM(grade_report!H65:I65)+MAX(grade_report!F65:G65)+SUM(grade_report!J65))/5,\nIF($I$2=\"פרקים 1-4\",(SUM(grade_report!E65)+SUM(grade_report!H65:I65)+MAX(grade_report!F65:G65)+SUM(grade_report!J65:K65))/6,\nIF($I$2=\"פרקים 1-5\",(SUM(grade_report!E65)+SUM(grade_report!H65:I65)+MAX(grade_report!F65:G65)+SUM(grade_report!J65:L65))/7,\nIF($I$2=\"פרקים 1-6\",(SUM(grade_report!E65)+SUM(grade_report!H65:I65)+MAX(grade_report!F65:G65)+SUM(grade_report!J65:M65))/8,\nIF($I$2=\"פרקים 1-7\",(SUM(grade_report!E65)+SUM(grade_report!H65:I65)+MAX(grade_report!F65:G65)+SUM(grade_report!J65:N65))/9,0)))))))","v":0},{"$f":"COUNTIF(grade_report!AA65:AE65,\">=0.55\")","v":0}]
[{"$f":"grade_report!C66","v":0},null,{"$f":"COUNTIF(grade_report!AG66:AK66,\">=0.55\")","v":0},"ללא",0,{"$f":"IF($I$2=\"פרק 1\",SUM(grade_report!P66),\nIF($I$2=\"פרקים 1-2\",(SUM(grade_report!P66)+SUM(grade_report!S66:T66)+MAX(grade_report!Q66:R66))/4,\nIF($I$2=\"פרקים 1-3\",(SUM(grade_report!P66)+SUM(grade_report!S66:T66)+MAX(grade_report!Q66:R66)+SUM(grade_report!U66))/5,\nIF($I$2=\"פרקים 1-4\",(SUM(grade_report!P66)+SUM(grade_report!S66:T66)+MAX(grade_report!Q66:R66)+SUM(grade_report!U66:V66))/6,\nIF($I$2=\"פרקים 1-5\",(SUM(grade_report!P66)+SUM(grade_report!S66:T66)+MAX(grade_report!Q66:R66)+SUM(grade_report!U66:W66))/7,\nIF($I$2=\"פרקים 1-6\",(SUM(grade_report!P66)+SUM(grade_report!S66:T66)+MAX(grade_report!Q66:R66)+SUM(grade_report!U66:X66))/8,\nIF($I$2=\"פרקים 1-7\",(SUM(grade_report!P66)+SUM(grade_report!S66:T66)+MAX(grade_report!Q66:R66)+SUM(grade_report!U66:Y66))/9,0)))))))","v":0},{"$f":"IF($I$2=\"פרק 1\",SUM(grade_report!E66),\nIF($I$2=\"פרקים 1-2\",(SUM(grade_report!E66)+SUM(grade_report!H66:I66)+MAX(grade_report!F66:G66))/4,\nIF($I$2=\"פרקים 1-3\",(SUM(grade_report!E66)+SUM(grade_report!H66:I66)+MAX(grade_report!F66:G66)+SUM(grade_report!J66))/5,\nIF($I$2=\"פרקים 1-4\",(SUM(grade_report!E66)+SUM(grade_report!H66:I66)+MAX(grade_report!F66:G66)+SUM(grade_report!J66:K66))/6,\nIF($I$2=\"פרקים 1-5\",(SUM(grade_report!E66)+SUM(grade_report!H66:I66)+MAX(grade_report!F66:G66)+SUM(grade_report!J66:L66))/7,\nIF($I$2=\"פרקים 1-6\",(SUM(grade_report!E66)+SUM(grade_report!H66:I66)+MAX(grade_report!F66:G66)+SUM(grade_report!J66:M66))/8,\nIF($I$2=\"פרקים 1-7\",(SUM(grade_report!E66)+SUM(grade_report!H66:I66)+MAX(grade_report!F66:G66)+SUM(grade_report!J66:N66))/9,0)))))))","v":0},{"$f":"COUNTIF(grade_report!AA66:AE66,\">=0.55\")","v":0}]
[{"$f":"grade_report!C67","v":0},null,{"$f":"COUNTIF(grade_report!AG67:AK67,\">=0.55\")","v":0},"ללא",0,{"$f":"IF($I$2=\"פרק 1\",SUM(grade_report!P67),\nIF($I$2=\"פרקים 1-2\",(SUM(grade_report!P67)+SUM(grade_report!S67:T67)+MAX(grade_report!Q67:R67))/4,\nIF($I$2=\"פרקים 1-3\",(SUM(grade_report!P67)+SUM(grade_report!S67:T67)+MAX(grade_report!Q67:R67)+SUM(grade_report!U67))/5,\nIF($I$2=\"פרקים 1-4\",(SUM(grade_report!P67)+SUM(grade_report!S67:T67)+MAX(grade_report!Q67:R67)+SUM(grade_report!U67:V67))/6,\nIF($I$2=\"פרקים 1-5\",(SUM(grade_report!P67)+SUM(grade_report!S67:T67)+MAX(grade_report!Q67:R67)+SUM(grade_report!U67:W67))/7,\nIF($I$2=\"פרקים 1-6\",(SUM(grade_report!P67)+SUM(grade_report!S67:T67)+MAX(grade_report!Q67:R67)+SUM(grade_report!U67:X67))/8,\nIF($I$2=\"פרקים 1-7\",(SUM(grade_report!P67)+SUM(grade_report!S67:T67)+MAX(grade_report!Q67:R67)+SUM(grade_report!U67:Y67))/9,0)))))))","v":0},{"$f":"IF($I$2=\"פרק 1\",SUM(grade_report!E67),\nIF($I$2=\"פרקים 1-2\",(SUM(grade_report!E67)+SUM(grade_report!H67:I67)+MAX(grade_report!F67:G67))/4,\nIF($I$2=\"פרקים 1-3\",(SUM(grade_report!E67)+SUM(grade_report!H67:I67)+MAX(grade_report!F67:G67)+SUM(grade_report!J67))/5,\nIF($I$2=\"פרקים 1-4\",(SUM(grade_report!E67)+SUM(grade_report!H67:I67)+MAX(grade_report!F67:G67)+SUM(grade_report!J67:K67))/6,\nIF($I$2=\"פרקים 1-5\",(SUM(grade_report!E67)+SUM(grade_report!H67:I67)+MAX(grade_report!F67:G67)+SUM(grade_report!J67:L67))/7,\nIF($I$2=\"פרקים 1-6\",(SUM(grade_report!E67)+SUM(grade_report!H67:I67)+MAX(grade_report!F67:G67)+SUM(grade_report!J67:M67))/8,\nIF($I$2=\"פרקים 1-7\",(SUM(grade_report!E67)+SUM(grade_report!H67:I67)+MAX(grade_report!F67:G67)+SUM(grade_report!J67:N67))/9,0)))))))","v":0},{"$f":"COUNTIF(grade_report!AA67:AE67,\">=0.55\")","v":0}]
[{"$f":"grade_report!C68","v":0},null,{"$f":"COUNTIF(grade_report!AG68:AK68,\">=0.55\")","v":0},"ללא",0,{"$f":"IF($I$2=\"פרק 1\",SUM(grade_report!P68),\nIF($I$2=\"פרקים 1-2\",(SUM(grade_report!P68)+SUM(grade_report!S68:T68)+MAX(grade_report!Q68:R68))/4,\nIF($I$2=\"פרקים 1-3\",(SUM(grade_report!P68)+SUM(grade_report!S68:T68)+MAX(grade_report!Q68:R68)+SUM(grade_report!U68))/5,\nIF($I$2=\"פרקים 1-4\",(SUM(grade_report!P68)+SUM(grade_report!S68:T68)+MAX(grade_report!Q68:R68)+SUM(grade_report!U68:V68))/6,\nIF($I$2=\"פרקים 1-5\",(SUM(grade_report!P68)+SUM(grade_report!S68:T68)+MAX(grade_report!Q68:R68)+SUM(grade_report!U68:W68))/7,\nIF($I$2=\"פרקים 1-6\",(SUM(grade_report!P68)+SUM(grade_report!S68:T68)+MAX(grade_report!Q68:R68)+SUM(grade_report!U68:X68))/8,\nIF($I$2=\"פרקים 1-7\",(SUM(grade_report!P68)+SUM(grade_report!S68:T68)+MAX(grade_report!Q68:R68)+SUM(grade_report!U68:Y68))/9,0)))))))","v":0},{"$f":"IF($I$2=\"פרק 1\",SUM(grade_report!E68),\nIF($I$2=\"פרקים 1-2\",(SUM(grade_report!E68)+SUM(grade_report!H68:I68)+MAX(grade_report!F68:G68))/4,\nIF($I$2=\"פרקים 1-3\",(SUM(grade_report!E68)+SUM(grade_report!H68:I68)+MAX(grade_report!F68:G68)+SUM(grade_report!J68))/5,\nIF($I$2=\"פרקים 1-4\",(SUM(grade_report!E68)+SUM(grade_report!H68:I68)+MAX(grade_report!F68:G68)+SUM(grade_report!J68:K68))/6,\nIF($I$2=\"פרקים 1-5\",(SUM(grade_report!E68)+SUM(grade_report!H68:I68)+MAX(grade_report!F68:G68)+SUM(grade_report!J68:L68))/7,\nIF($I$2=\"פרקים 1-6\",(SUM(grade_report!E68)+SUM(grade_report!H68:I68)+MAX(grade_report!F68:G68)+SUM(grade_report!J68:M68))/8,\nIF($I$2=\"פרקים 1-7\",(SUM(grade_report!E68)+SUM(grade_report!H68:I68)+MAX(grade_report!F68:G68)+SUM(grade_report!J68:N68))/9,0)))))))","v":0},{"$f":"COUNTIF(grade_report!AA68:AE68,\">=0.55\")","v":0}]
[{"$f":"grade_report!C69","v":0},null,{"$f":"COUNTIF(grade_report!AG69:AK69,\">=0.55\")","v":0},{"$f":"IF(C68=0,\"ללא\",IF(C68=1,\"עבודה אחת\",IF(C68=2,\"שתי עבודות\",IF(C68>=3,\"שלוש עבודות או יותר\"))))","v":"ללא"},{"$f":"G68*(0.15/0.5)+F68*(0.35/0.5)","v":0},{"$f":"IF($I$2=\"פרק 1\",SUM(grade_report!P69),\nIF($I$2=\"פרקים 1-2\",(SUM(grade_report!P69)+SUM(grade_report!S69:T69)+MAX(grade_report!Q69:R69))/4,\nIF($I$2=\"פרקים 1-3\",(SUM(grade_report!P69)+SUM(grade_report!S69:T69)+MAX(grade_report!Q69:R69)+SUM(grade_report!U69))/5,\nIF($I$2=\"פרקים 1-4\",(SUM(grade_report!P69)+SUM(grade_report!S69:T69)+MAX(grade_report!Q69:R69)+SUM(grade_report!U69:V69))/6,\nIF($I$2=\"פרקים 1-5\",(SUM(grade_report!P69)+SUM(grade_report!S69:T69)+MAX(grade_report!Q69:R69)+SUM(grade_report!U69:W69))/7,\nIF($I$2=\"פרקים 1-6\",(SUM(grade_report!P69)+SUM(grade_report!S69:T69)+MAX(grade_report!Q69:R69)+SUM(grade_report!U69:X69))/8,\nIF($I$2=\"פרקים 1-7\",(SUM(grade_report!P69)+SUM(grade_report!S69:T69)+MAX(grade_report!Q69:R69)+SUM(grade_report!U69:Y69))/9,0)))))))","v":0},{"$f":"IF($I$2=\"פרק 1\",SUM(grade_report!E69),\nIF($I$2=\"פרקים 1-2\",(SUM(grade_report!E69)+SUM(grade_report!H69:I69)+MAX(grade_report!F69:G69))/4,\nIF($I$2=\"פרקים 1-3\",(SUM(grade_report!E69)+SUM(grade_report!H69:I69)+MAX(grade_report!F69:G69)+SUM(grade_report!J69))/5,\nIF($I$2=\"פרקים 1-4\",(SUM(grade_report!E69)+SUM(grade_report!H69:I69)+MAX(grade_report!F69:G69)+SUM(grade_report!J69:K69))/6,\nIF($I$2=\"פרקים 1-5\",(SUM(grade_report!E69)+SUM(grade_report!H69:I69)+MAX(grade_report!F69:G69)+SUM(grade_report!J69:L69))/7,\nIF($I$2=\"פרקים 1-6\",(SUM(grade_report!E69)+SUM(grade_report!H69:I69)+MAX(grade_report!F69:G69)+SUM(grade_report!J69:M69))/8,\nIF($I$2=\"פרקים 1-7\",(SUM(grade_report!E69)+SUM(grade_report!H69:I69)+MAX(grade_report!F69:G69)+SUM(grade_report!J69:N69))/9,0)))))))","v":0},{"$f":"COUNTIF(grade_report!AA69:AE69,\">=0.55\")","v":0}]
[{"$f":"grade_report!C70","v":0},null,{"$f":"COUNTIF(grade_report!AG70:AK70,\">=0.55\")","v":0},"ללא",0,{"$f":"IF($I$2=\"פרק 1\",SUM(grade_report!P70),\nIF($I$2=\"פרקים 1-2\",(SUM(grade_report!P70)+SUM(grade_report!S70:T70)+MAX(grade_report!Q70:R70))/4,\nIF($I$2=\"פרקים 1-3\",(SUM(grade_report!P70)+SUM(grade_report!S70:T70)+MAX(grade_report!Q70:R70)+SUM(grade_report!U70))/5,\nIF($I$2=\"פרקים 1-4\",(SUM(grade_report!P70)+SUM(grade_report!S70:T70)+MAX(grade_report!Q70:R70)+SUM(grade_report!U70:V70))/6,\nIF($I$2=\"פרקים 1-5\",(SUM(grade_report!P70)+SUM(grade_report!S70:T70)+MAX(grade_report!Q70:R70)+SUM(grade_report!U70:W70))/7,\nIF($I$2=\"פרקים 1-6\",(SUM(grade_report!P70)+SUM(grade_report!S70:T70)+MAX(grade_report!Q70:R70)+SUM(grade_report!U70:X70))/8,\nIF($I$2=\"פרקים 1-7\",(SUM(grade_report!P70)+SUM(grade_report!S70:T70)+MAX(grade_report!Q70:R70)+SUM(grade_report!U70:Y70))/9,0)))))))","v":0},{"$f":"IF($I$2=\"פרק 1\",SUM(grade_report!E70),\nIF($I$2=\"פרקים 1-2\",(SUM(grade_report!E70)+SUM(grade_report!H70:I70)+MAX(grade_report!F70:G70))/4,\nIF($I$2=\"פרקים 1-3\",(SUM(grade_report!E70)+SUM(grade_report!H70:I70)+MAX(grade_report!F70:G70)+SUM(grade_report!J70))/5,\nIF($I$2=\"פרקים 1-4\",(SUM(grade_report!E70)+SUM(grade_report!H70:I70)+MAX(grade_report!F70:G70)+SUM(grade_report!J70:K70))/6,\nIF($I$2=\"פרקים 1-5\",(SUM(grade_report!E70)+SUM(grade_report!H70:I70)+MAX(grade_report!F70:G70)+SUM(grade_report!J70:L70))/7,\nIF($I$2=\"פרקים 1-6\",(SUM(grade_report!E70)+SUM(grade_report!H70:I70)+MAX(grade_report!F70:G70)+SUM(grade_report!J70:M70))/8,\nIF($I$2=\"פרקים 1-7\",(SUM(grade_report!E70)+SUM(grade_report!H70:I70)+MAX(grade_report!F70:G70)+SUM(grade_report!J70:N70))/9,0)))))))","v":0},{"$f":"COUNTIF(grade_report!AA70:AE70,\">=0.55\")","v":0}]
[{"$f":"grade_report!C71","v":0},null,{"$f":"COUNTIF(grade_report!AG71:AK71,\">=0.55\")","v":0},"ללא",0,{"$f":"IF($I$2=\"פרק 1\",SUM(grade_report!P71),\nIF($I$2=\"פרקים 1-2\",(SUM(grade_report!P71)+SUM(grade_report!S71:T71)+MAX(grade_report!Q71:R71))/4,\nIF($I$2=\"פרקים 1-3\",(SUM(grade_report!P71)+SUM(grade_report!S71:T71)+MAX(grade_report!Q71:R71)+SUM(grade_report!U71))/5,\nIF($I$2=\"פרקים 1-4\",(SUM(grade_report!P71)+SUM(grade_report!S71:T71)+MAX(grade_report!Q71:R71)+SUM(grade_report!U71:V71))/6,\nIF($I$2=\"פרקים 1-5\",(SUM(grade_report!P71)+SUM(grade_report!S71:T71)+MAX(grade_report!Q71:R71)+SUM(grade_report!U71:W71))/7,\nIF($I$2=\"פרקים 1-6\",(SUM(grade_report!P71)+SUM(grade_report!S71:T71)+MAX(grade_report!Q71:R71)+SUM(grade_report!U71:X71))/8,\nIF($I$2=\"פרקים 1-7\",(SUM(grade_report!P71)+SUM(grade_report!S71:T71)+MAX(grade_report!Q71:R71)+SUM(grade_report!U71:Y71))/9,0)))))))","v":0},{"$f":"IF($I$2=\"פרק 1\",SUM(grade_report!E71),\nIF($I$2=\"פרקים 1-2\",(SUM(grade_report!E71)+SUM(grade_report!H71:I71)+MAX(grade_report!F71:G71))/4,\nIF($I$2=\"פרקים 1-3\",(SUM(grade_report!E71)+SUM(grade_report!H71:I71)+MAX(grade_report!F71:G71)+SUM(grade_report!J71))/5,\nIF($I$2=\"פרקים 1-4\",(SUM(grade_report!E71)+SUM(grade_report!H71:I71)+MAX(grade_report!F71:G71)+SUM(grade_report!J71:K71))/6,\nIF($I$2=\"פרקים 1-5\",(SUM(grade_report!E71)+SUM(grade_report!H71:I71)+MAX(grade_report!F71:G71)+SUM(grade_report!J71:L71))/7,\nIF($I$2=\"פרקים 1-6\",(SUM(grade_report!E71)+SUM(grade_report!H71:I71)+MAX(grade_report!F71:G71)+SUM(grade_report!J71:M71))/8,\nIF($I$2=\"פרקים 1-7\",(SUM(grade_report!E71)+SUM(grade_report!H71:I71)+MAX(grade_report!F71:G71)+SUM(grade_report!J71:N71))/9,0)))))))","v":0},{"$f":"COUNTIF(grade_report!AA71:AE71,\">=0.55\")","v":0}]
[{"$f":"grade_report!C72","v":0},null,{"$f":"COUNTIF(grade_report!AG72:AK72,\">=0.55\")","v":0},"ללא",0,{"$f":"IF($I$2=\"פרק 1\",SUM(grade_report!P72),\nIF($I$2=\"פרקים 1-2\",(SUM(grade_report!P72)+SUM(grade_report!S72:T72)+MAX(grade_report!Q72:R72))/4,\nIF($I$2=\"פרקים 1-3\",(SUM(grade_report!P72)+SUM(grade_report!S72:T72)+MAX(grade_report!Q72:R72)+SUM(grade_report!U72))/5,\nIF($I$2=\"פרקים 1-4\",(SUM(grade_report!P72)+SUM(grade_report!S72:T72)+MAX(grade_report!Q72:R72)+SUM(grade_report!U72:V72))/6,\nIF($I$2=\"פרקים 1-5\",(SUM(grade_report!P72)+SUM(grade_report!S72:T72)+MAX(grade_report!Q72:R72)+SUM(grade_report!U72:W72))/7,\nIF($I$2=\"פרקים 1-6\",(SUM(grade_report!P72)+SUM(grade_report!S72:T72)+MAX(grade_report!Q72:R72)+SUM(grade_report!U72:X72))/8,\nIF($I$2=\"פרקים 1-7\",(SUM(grade_report!P72)+SUM(grade_report!S72:T72)+MAX(grade_report!Q72:R72)+SUM(grade_report!U72:Y72))/9,0)))))))","v":0},{"$f":"IF($I$2=\"פרק 1\",SUM(grade_report!E72),\nIF($I$2=\"פרקים 1-2\",(SUM(grade_report!E72)+SUM(grade_report!H72:I72)+MAX(grade_report!F72:G72))/4,\nIF($I$2=\"פרקים 1-3\",(SUM(grade_report!E72)+SUM(grade_report!H72:I72)+MAX(grade_report!F72:G72)+SUM(grade_report!J72))/5,\nIF($I$2=\"פרקים 1-4\",(SUM(grade_report!E72)+SUM(grade_report!H72:I72)+MAX(grade_report!F72:G72)+SUM(grade_report!J72:K72))/6,\nIF($I$2=\"פרקים 1-5\",(SUM(grade_report!E72)+SUM(grade_report!H72:I72)+MAX(grade_report!F72:G72)+SUM(grade_report!J72:L72))/7,\nIF($I$2=\"פרקים 1-6\",(SUM(grade_report!E72)+SUM(grade_report!H72:I72)+MAX(grade_report!F72:G72)+SUM(grade_report!J72:M72))/8,\nIF($I$2=\"פרקים 1-7\",(SUM(grade_report!E72)+SUM(grade_report!H72:I72)+MAX(grade_report!F72:G72)+SUM(grade_report!J72:N72))/9,0)))))))","v":0},{"$f":"COUNTIF(grade_report!AA72:AE72,\">=0.55\")","v":0}]
[{"$f":"grade_report!C73","v":0},null,{"$f":"COUNTIF(grade_report!AG73:AK73,\">=0.55\")","v":0},"ללא",0,{"$f":"IF($I$2=\"פרק 1\",SUM(grade_report!P73),\nIF($I$2=\"פרקים 1-2\",(SUM(grade_report!P73)+SUM(grade_report!S73:T73)+MAX(grade_report!Q73:R73))/4,\nIF($I$2=\"פרקים 1-3\",(SUM(grade_report!P73)+SUM(grade_report!S73:T73)+MAX(grade_report!Q73:R73)+SUM(grade_report!U73))/5,\nIF($I$2=\"פרקים 1-4\",(SUM(grade_report!P73)+SUM(grade_report!S73:T73)+MAX(grade_report!Q73:R73)+SUM(grade_report!U73:V73))/6,\nIF($I$2=\"פרקים 1-5\",(SUM(grade_report!P73)+SUM(grade_report!S73:T73)+MAX(grade_report!Q73:R73)+SUM(grade_report!U73:W73))/7,\nIF($I$2=\"פרקים 1-6\",(SUM(grade_report!P73)+SUM(grade_report!S73:T73)+MAX(grade_report!Q73:R73)+SUM(grade_report!U73:X73))/8,\nIF($I$2=\"פרקים 1-7\",(SUM(grade_report!P73)+SUM(grade_report!S73:T73)+MAX(grade_report!Q73:R73)+SUM(grade_report!U73:Y73))/9,0)))))))","v":0},{"$f":"IF($I$2=\"פרק 1\",SUM(grade_report!E73),\nIF($I$2=\"פרקים 1-2\",(SUM(grade_report!E73)+SUM(grade_report!H73:I73)+MAX(grade_report!F73:G73))/4,\nIF($I$2=\"פרקים 1-3\",(SUM(grade_report!E73)+SUM(grade_report!H73:I73)+MAX(grade_report!F73:G73)+SUM(grade_report!J73))/5,\nIF($I$2=\"פרקים 1-4\",(SUM(grade_report!E73)+SUM(grade_report!H73:I73)+MAX(grade_report!F73:G73)+SUM(grade_report!J73:K73))/6,\nIF($I$2=\"פרקים 1-5\",(SUM(grade_report!E73)+SUM(grade_report!H73:I73)+MAX(grade_report!F73:G73)+SUM(grade_report!J73:L73))/7,\nIF($I$2=\"פרקים 1-6\",(SUM(grade_report!E73)+SUM(grade_report!H73:I73)+MAX(grade_report!F73:G73)+SUM(grade_report!J73:M73))/8,\nIF($I$2=\"פרקים 1-7\",(SUM(grade_report!E73)+SUM(grade_report!H73:I73)+MAX(grade_report!F73:G73)+SUM(grade_report!J73:N73))/9,0)))))))","v":0},{"$f":"COUNTIF(grade_report!AA73:AE73,\">=0.55\")","v":0}]
[{"$f":"grade_report!C74","v":0},null,{"$f":"COUNTIF(grade_report!AG74:AK74,\">=0.55\")","v":0},"ללא",0,{"$f":"IF($I$2=\"פרק 1\",SUM(grade_report!P74),\nIF($I$2=\"פרקים 1-2\",(SUM(grade_report!P74)+SUM(grade_report!S74:T74)+MAX(grade_report!Q74:R74))/4,\nIF($I$2=\"פרקים 1-3\",(SUM(grade_report!P74)+SUM(grade_report!S74:T74)+MAX(grade_report!Q74:R74)+SUM(grade_report!U74))/5,\nIF($I$2=\"פרקים 1-4\",(SUM(grade_report!P74)+SUM(grade_report!S74:T74)+MAX(grade_report!Q74:R74)+SUM(grade_report!U74:V74))/6,\nIF($I$2=\"פרקים 1-5\",(SUM(grade_report!P74)+SUM(grade_report!S74:T74)+MAX(grade_report!Q74:R74)+SUM(grade_report!U74:W74))/7,\nIF($I$2=\"פרקים 1-6\",(SUM(grade_report!P74)+SUM(grade_report!S74:T74)+MAX(grade_report!Q74:R74)+SUM(grade_report!U74:X74))/8,\nIF($I$2=\"פרקים 1-7\",(SUM(grade_report!P74)+SUM(grade_report!S74:T74)+MAX(grade_report!Q74:R74)+SUM(grade_report!U74:Y74))/9,0)))))))","v":0},{"$f":"IF($I$2=\"פרק 1\",SUM(grade_report!E74),\nIF($I$2=\"פרקים 1-2\",(SUM(grade_report!E74)+SUM(grade_report!H74:I74)+MAX(grade_report!F74:G74))/4,\nIF($I$2=\"פרקים 1-3\",(SUM(grade_report!E74)+SUM(grade_report!H74:I74)+MAX(grade_report!F74:G74)+SUM(grade_report!J74))/5,\nIF($I$2=\"פרקים 1-4\",(SUM(grade_report!E74)+SUM(grade_report!H74:I74)+MAX(grade_report!F74:G74)+SUM(grade_report!J74:K74))/6,\nIF($I$2=\"פרקים 1-5\",(SUM(grade_report!E74)+SUM(grade_report!H74:I74)+MAX(grade_report!F74:G74)+SUM(grade_report!J74:L74))/7,\nIF($I$2=\"פרקים 1-6\",(SUM(grade_report!E74)+SUM(grade_report!H74:I74)+MAX(grade_report!F74:G74)+SUM(grade_report!J74:M74))/8,\nIF($I$2=\"פרקים 1-7\",(SUM(grade_report!E74)+SUM(grade_report!H74:I74)+MAX(grade_report!F74:G74)+SUM(grade_report!J74:N74))/9,0)))))))","v":0},{"$f":"COUNTIF(grade_report!AA74:AE74,\">=0.55\")","v":0}]
[{"$f":"grade_report!C75","v":0},null,{"$f":"COUNTIF(grade_report!AG75:AK75,\">=0.55\")","v":0},"ללא",0,{"$f":"IF($I$2=\"פרק 1\",SUM(grade_report!P75),\nIF($I$2=\"פרקים 1-2\",(SUM(grade_report!P75)+SUM(grade_report!S75:T75)+MAX(grade_report!Q75:R75))/4,\nIF($I$2=\"פרקים 1-3\",(SUM(grade_report!P75)+SUM(grade_report!S75:T75)+MAX(grade_report!Q75:R75)+SUM(grade_report!U75))/5,\nIF($I$2=\"פרקים 1-4\",(SUM(grade_report!P75)+SUM(grade_report!S75:T75)+MAX(grade_report!Q75:R75)+SUM(grade_report!U75:V75))/6,\nIF($I$2=\"פרקים 1-5\",(SUM(grade_report!P75)+SUM(grade_report!S75:T75)+MAX(grade_report!Q75:R75)+SUM(grade_report!U75:W75))/7,\nIF($I$2=\"פרקים 1-6\",(SUM(grade_report!P75)+SUM(grade_report!S75:T75)+MAX(grade_report!Q75:R75)+SUM(grade_report!U75:X75))/8,\nIF($I$2=\"פרקים 1-7\",(SUM(grade_report!P75)+SUM(grade_report!S75:T75)+MAX(grade_report!Q75:R75)+SUM(grade_report!U75:Y75))/9,0)))))))","v":0},{"$f":"IF($I$2=\"פרק 1\",SUM(grade_report!E75),\nIF($I$2=\"פרקים 1-2\",(SUM(grade_report!E75)+SUM(grade_report!H75:I75)+MAX(grade_report!F75:G75))/4,\nIF($I$2=\"פרקים 1-3\",(SUM(grade_report!E75)+SUM(grade_report!H75:I75)+MAX(grade_report!F75:G75)+SUM(grade_report!J75))/5,\nIF($I$2=\"פרקים 1-4\",(SUM(grade_report!E75)+SUM(grade_report!H75:I75)+MAX(grade_report!F75:G75)+SUM(grade_report!J75:K75))/6,\nIF($I$2=\"פרקים 1-5\",(SUM(grade_report!E75)+SUM(grade_report!H75:I75)+MAX(grade_report!F75:G75)+SUM(grade_report!J75:L75))/7,\nIF($I$2=\"פרקים 1-6\",(SUM(grade_report!E75)+SUM(grade_report!H75:I75)+MAX(grade_report!F75:G75)+SUM(grade_report!J75:M75))/8,\nIF($I$2=\"פרקים 1-7\",(SUM(grade_report!E75)+SUM(grade_report!H75:I75)+MAX(grade_report!F75:G75)+SUM(grade_report!J75:N75))/9,0)))))))","v":0},{"$f":"COUNTIF(grade_report!AA75:AE75,\">=0.55\")","v":0}]
[{"$f":"grade_report!C76","v":0},null,{"$f":"COUNTIF(grade_report!AG76:AK76,\">=0.55\")","v":0},"ללא",0,{"$f":"IF($I$2=\"פרק 1\",SUM(grade_report!P76),\nIF($I$2=\"פרקים 1-2\",(SUM(grade_report!P76)+SUM(grade_report!S76:T76)+MAX(grade_report!Q76:R76))/4,\nIF($I$2=\"פרקים 1-3\",(SUM(grade_report!P76)+SUM(grade_report!S76:T76)+MAX(grade_report!Q76:R76)+SUM(grade_report!U76))/5,\nIF($I$2=\"פרקים 1-4\",(SUM(grade_report!P76)+SUM(grade_report!S76:T76)+MAX(grade_report!Q76:R76)+SUM(grade_report!U76:V76))/6,\nIF($I$2=\"פרקים 1-5\",(SUM(grade_report!P76)+SUM(grade_report!S76:T76)+MAX(grade_report!Q76:R76)+SUM(grade_report!U76:W76))/7,\nIF($I$2=\"פרקים 1-6\",(SUM(grade_report!P76)+SUM(grade_report!S76:T76)+MAX(grade_report!Q76:R76)+SUM(grade_report!U76:X76))/8,\nIF($I$2=\"פרקים 1-7\",(SUM(grade_report!P76)+SUM(grade_report!S76:T76)+MAX(grade_report!Q76:R76)+SUM(grade_report!U76:Y76))/9,0)))))))","v":0},{"$f":"IF($I$2=\"פרק 1\",SUM(grade_report!E76),\nIF($I$2=\"פרקים 1-2\",(SUM(grade_report!E76)+SUM(grade_report!H76:I76)+MAX(grade_report!F76:G76))/4,\nIF($I$2=\"פרקים 1-3\",(SUM(grade_report!E76)+SUM(grade_report!H76:I76)+MAX(grade_report!F76:G76)+SUM(grade_report!J76))/5,\nIF($I$2=\"פרקים 1-4\",(SUM(grade_report!E76)+SUM(grade_report!H76:I76)+MAX(grade_report!F76:G76)+SUM(grade_report!J76:K76))/6,\nIF($I$2=\"פרקים 1-5\",(SUM(grade_report!E76)+SUM(grade_report!H76:I76)+MAX(grade_report!F76:G76)+SUM(grade_report!J76:L76))/7,\nIF($I$2=\"פרקים 1-6\",(SUM(grade_report!E76)+SUM(grade_report!H76:I76)+MAX(grade_report!F76:G76)+SUM(grade_report!J76:M76))/8,\nIF($I$2=\"פרקים 1-7\",(SUM(grade_report!E76)+SUM(grade_report!H76:I76)+MAX(grade_report!F76:G76)+SUM(grade_report!J76:N76))/9,0)))))))","v":0},{"$f":"COUNTIF(grade_report!AA76:AE76,\">=0.55\")","v":0}]
[{"$f":"grade_report!C77","v":0},null,{"$f":"COUNTIF(grade_report!AG77:AK77,\">=0.55\")","v":0},"ללא",0,{"$f":"IF($I$2=\"פרק 1\",SUM(grade_report!P77),\nIF($I$2=\"פרקים 1-2\",(SUM(grade_report!P77)+SUM(grade_report!S77:T77)+MAX(grade_report!Q77:R77))/4,\nIF($I$2=\"פרקים 1-3\",(SUM(grade_report!P77)+SUM(grade_report!S77:T77)+MAX(grade_report!Q77:R77)+SUM(grade_report!U77))/5,\nIF($I$2=\"פרקים 1-4\",(SUM(grade_report!P77)+SUM(grade_report!S77:T77)+MAX(grade_report!Q77:R77)+SUM(grade_report!U77:V77))/6,\nIF($I$2=\"פרקים 1-5\",(SUM(grade_report!P77)+SUM(grade_report!S77:T77)+MAX(grade_report!Q77:R77)+SUM(grade_report!U77:W77))/7,\nIF($I$2=\"פרקים 1-6\",(SUM(grade_report!P77)+SUM(grade_report!S77:T77)+MAX(grade_report!Q77:R77)+SUM(grade_report!U77:X77))/8,\nIF($I$2=\"פרקים 1-7\",(SUM(grade_report!P77)+SUM(grade_report!S77:T77)+MAX(grade_report!Q77:R77)+SUM(grade_report!U77:Y77))/9,0)))))))","v":0},{"$f":"IF($I$2=\"פרק 1\",SUM(grade_report!E77),\nIF($I$2=\"פרקים 1-2\",(SUM(grade_report!E77)+SUM(grade_report!H77:I77)+MAX(grade_report!F77:G77))/4,\nIF($I$2=\"פרקים 1-3\",(SUM(grade_report!E77)+SUM(grade_report!H77:I77)+MAX(grade_report!F77:G77)+SUM(grade_report!J77))/5,\nIF($I$2=\"פרקים 1-4\",(SUM(grade_report!E77)+SUM(grade_report!H77:I77)+MAX(grade_report!F77:G77)+SUM(grade_report!J77:K77))/6,\nIF($I$2=\"פרקים 1-5\",(SUM(grade_report!E77)+SUM(grade_report!H77:I77)+MAX(grade_report!F77:G77)+SUM(grade_report!J77:L77))/7,\nIF($I$2=\"פרקים 1-6\",(SUM(grade_report!E77)+SUM(grade_report!H77:I77)+MAX(grade_report!F77:G77)+SUM(grade_report!J77:M77))/8,\nIF($I$2=\"פרקים 1-7\",(SUM(grade_report!E77)+SUM(grade_report!H77:I77)+MAX(grade_report!F77:G77)+SUM(grade_report!J77:N77))/9,0)))))))","v":0},{"$f":"COUNTIF(grade_report!AA77:AE77,\">=0.55\")","v":0}]
[{"$f":"grade_report!C78","v":0},null,{"$f":"COUNTIF(grade_report!AG78:AK78,\">=0.55\")","v":0},"ללא",0,{"$f":"IF($I$2=\"פרק 1\",SUM(grade_report!P78),\nIF($I$2=\"פרקים 1-2\",(SUM(grade_report!P78)+SUM(grade_report!S78:T78)+MAX(grade_report!Q78:R78))/4,\nIF($I$2=\"פרקים 1-3\",(SUM(grade_report!P78)+SUM(grade_report!S78:T78)+MAX(grade_report!Q78:R78)+SUM(grade_report!U78))/5,\nIF($I$2=\"פרקים 1-4\",(SUM(grade_report!P78)+SUM(grade_report!S78:T78)+MAX(grade_report!Q78:R78)+SUM(grade_report!U78:V78))/6,\nIF($I$2=\"פרקים 1-5\",(SUM(grade_report!P78)+SUM(grade_report!S78:T78)+MAX(grade_report!Q78:R78)+SUM(grade_report!U78:W78))/7,\nIF($I$2=\"פרקים 1-6\",(SUM(grade_report!P78)+SUM(grade_report!S78:T78)+MAX(grade_report!Q78:R78)+SUM(grade_report!U78:X78))/8,\nIF($I$2=\"פרקים 1-7\",(SUM(grade_report!P78)+SUM(grade_report!S78:T78)+MAX(grade_report!Q78:R78)+SUM(grade_report!U78:Y78))/9,0)))))))","v":0},{"$f":"IF($I$2=\"פרק 1\",SUM(grade_report!E78),\nIF($I$2=\"פרקים 1-2\",(SUM(grade_report!E78)+SUM(grade_report!H78:I78)+MAX(grade_report!F78:G78))/4,\nIF($I$2=\"פרקים 1-3\",(SUM(grade_report!E78)+SUM(grade_report!H78:I78)+MAX(grade_report!F78:G78)+SUM(grade_report!J78))/5,\nIF($I$2=\"פרקים 1-4\",(SUM(grade_report!E78)+SUM(grade_report!H78:I78)+MAX(grade_report!F78:G78)+SUM(grade_report!J78:K78))/6,\nIF($I$2=\"פרקים 1-5\",(SUM(grade_report!E78)+SUM(grade_report!H78:I78)+MAX(grade_report!F78:G78)+SUM(grade_report!J78:L78))/7,\nIF($I$2=\"פרקים 1-6\",(SUM(grade_report!E78)+SUM(grade_report!H78:I78)+MAX(grade_report!F78:G78)+SUM(grade_report!J78:M78))/8,\nIF($I$2=\"פרקים 1-7\",(SUM(grade_report!E78)+SUM(grade_report!H78:I78)+MAX(grade_report!F78:G78)+SUM(grade_report!J78:N78))/9,0)))))))","v":0},{"$f":"COUNTIF(grade_report!AA78:AE78,\">=0.55\")","v":0}]
[{"$f":"grade_report!C79","v":0},null,{"$f":"COUNTIF(grade_report!AG79:AK79,\">=0.55\")","v":0},"ללא",0,{"$f":"IF($I$2=\"פרק 1\",SUM(grade_report!P79),\nIF($I$2=\"פרקים 1-2\",(SUM(grade_report!P79)+SUM(grade_report!S79:T79)+MAX(grade_report!Q79:R79))/4,\nIF($I$2=\"פרקים 1-3\",(SUM(grade_report!P79)+SUM(grade_report!S79:T79)+MAX(grade_report!Q79:R79)+SUM(grade_report!U79))/5,\nIF($I$2=\"פרקים 1-4\",(SUM(grade_report!P79)+SUM(grade_report!S79:T79)+MAX(grade_report!Q79:R79)+SUM(grade_report!U79:V79))/6,\nIF($I$2=\"פרקים 1-5\",(SUM(grade_report!P79)+SUM(grade_report!S79:T79)+MAX(grade_report!Q79:R79)+SUM(grade_report!U79:W79))/7,\nIF($I$2=\"פרקים 1-6\",(SUM(grade_report!P79)+SUM(grade_report!S79:T79)+MAX(grade_report!Q79:R79)+SUM(grade_report!U79:X79))/8,\nIF($I$2=\"פרקים 1-7\",(SUM(grade_report!P79)+SUM(grade_report!S79:T79)+MAX(grade_report!Q79:R79)+SUM(grade_report!U79:Y79))/9,0)))))))","v":0},{"$f":"IF($I$2=\"פרק 1\",SUM(grade_report!E79),\nIF($I$2=\"פרקים 1-2\",(SUM(grade_report!E79)+SUM(grade_report!H79:I79)+MAX(grade_report!F79:G79))/4,\nIF($I$2=\"פרקים 1-3\",(SUM(grade_report!E79)+SUM(grade_report!H79:I79)+MAX(grade_report!F79:G79)+SUM(grade_report!J79))/5,\nIF($I$2=\"פרקים 1-4\",(SUM(grade_report!E79)+SUM(grade_report!H79:I79)+MAX(grade_report!F79:G79)+SUM(grade_report!J79:K79))/6,\nIF($I$2=\"פרקים 1-5\",(SUM(grade_report!E79)+SUM(grade_report!H79:I79)+MAX(grade_report!F79:G79)+SUM(grade_report!J79:L79))/7,\nIF($I$2=\"פרקים 1-6\",(SUM(grade_report!E79)+SUM(grade_report!H79:I79)+MAX(grade_report!F79:G79)+SUM(grade_report!J79:M79))/8,\nIF($I$2=\"פרקים 1-7\",(SUM(grade_report!E79)+SUM(grade_report!H79:I79)+MAX(grade_report!F79:G79)+SUM(grade_report!J79:N79))/9,0)))))))","v":0},{"$f":"COUNTIF(grade_report!AA79:AE79,\">=0.55\")","v":0}]
[{"$f":"grade_report!C80","v":0},null,{"$f":"COUNTIF(grade_report!AG80:AK80,\">=0.55\")","v":0},"ללא",0,{"$f":"IF($I$2=\"פרק 1\",SUM(grade_report!P80),\nIF($I$2=\"פרקים 1-2\",(SUM(grade_report!P80)+SUM(grade_report!S80:T80)+MAX(grade_report!Q80:R80))/4,\nIF($I$2=\"פרקים 1-3\",(SUM(grade_report!P80)+SUM(grade_report!S80:T80)+MAX(grade_report!Q80:R80)+SUM(grade_report!U80))/5,\nIF($I$2=\"פרקים 1-4\",(SUM(grade_report!P80)+SUM(grade_report!S80:T80)+MAX(grade_report!Q80:R80)+SUM(grade_report!U80:V80))/6,\nIF($I$2=\"פרקים 1-5\",(SUM(grade_report!P80)+SUM(grade_report!S80:T80)+MAX(grade_report!Q80:R80)+SUM(grade_report!U80:W80))/7,\nIF($I$2=\"פרקים 1-6\",(SUM(grade_report!P80)+SUM(grade_report!S80:T80)+MAX(grade_report!Q80:R80)+SUM(grade_report!U80:X80))/8,\nIF($I$2=\"פרקים 1-7\",(SUM(grade_report!P80)+SUM(grade_report!S80:T80)+MAX(grade_report!Q80:R80)+SUM(grade_report!U80:Y80))/9,0)))))))","v":0},{"$f":"IF($I$2=\"פרק 1\",SUM(grade_report!E80),\nIF($I$2=\"פרקים 1-2\",(SUM(grade_report!E80)+SUM(grade_report!H80:I80)+MAX(grade_report!F80:G80))/4,\nIF($I$2=\"פרקים 1-3\",(SUM(grade_report!E80)+SUM(grade_report!H80:I80)+MAX(grade_report!F80:G80)+SUM(grade_report!J80))/5,\nIF($I$2=\"פרקים 1-4\",(SUM(grade_report!E80)+SUM(grade_report!H80:I80)+MAX(grade_report!F80:G80)+SUM(grade_report!J80:K80))/6,\nIF($I$2=\"פרקים 1-5\",(SUM(grade_report!E80)+SUM(grade_report!H80:I80)+MAX(grade_report!F80:G80)+SUM(grade_report!J80:L80))/7,\nIF($I$2=\"פרקים 1-6\",(SUM(grade_report!E80)+SUM(grade_report!H80:I80)+MAX(grade_report!F80:G80)+SUM(grade_report!J80:M80))/8,\nIF($I$2=\"פרקים 1-7\",(SUM(grade_report!E80)+SUM(grade_report!H80:I80)+MAX(grade_report!F80:G80)+SUM(grade_report!J80:N80))/9,0)))))))","v":0},{"$f":"COUNTIF(grade_report!AA80:AE80,\">=0.55\")","v":0}]
[{"$f":"grade_report!C81","v":0},null,{"$f":"COUNTIF(grade_report!AG81:AK81,\">=0.55\")","v":0},"ללא",0,{"$f":"IF($I$2=\"פרק 1\",SUM(grade_report!P81),\nIF($I$2=\"פרקים 1-2\",(SUM(grade_report!P81)+SUM(grade_report!S81:T81)+MAX(grade_report!Q81:R81))/4,\nIF($I$2=\"פרקים 1-3\",(SUM(grade_report!P81)+SUM(grade_report!S81:T81)+MAX(grade_report!Q81:R81)+SUM(grade_report!U81))/5,\nIF($I$2=\"פרקים 1-4\",(SUM(grade_report!P81)+SUM(grade_report!S81:T81)+MAX(grade_report!Q81:R81)+SUM(grade_report!U81:V81))/6,\nIF($I$2=\"פרקים 1-5\",(SUM(grade_report!P81)+SUM(grade_report!S81:T81)+MAX(grade_report!Q81:R81)+SUM(grade_report!U81:W81))/7,\nIF($I$2=\"פרקים 1-6\",(SUM(grade_report!P81)+SUM(grade_report!S81:T81)+MAX(grade_report!Q81:R81)+SUM(grade_report!U81:X81))/8,\nIF($I$2=\"פרקים 1-7\",(SUM(grade_report!P81)+SUM(grade_report!S81:T81)+MAX(grade_report!Q81:R81)+SUM(grade_report!U81:Y81))/9,0)))))))","v":0},{"$f":"IF($I$2=\"פרק 1\",SUM(grade_report!E81),\nIF($I$2=\"פרקים 1-2\",(SUM(grade_report!E81)+SUM(grade_report!H81:I81)+MAX(grade_report!F81:G81))/4,\nIF($I$2=\"פרקים 1-3\",(SUM(grade_report!E81)+SUM(grade_report!H81:I81)+MAX(grade_report!F81:G81)+SUM(grade_report!J81))/5,\nIF($I$2=\"פרקים 1-4\",(SUM(grade_report!E81)+SUM(grade_report!H81:I81)+MAX(grade_report!F81:G81)+SUM(grade_report!J81:K81))/6,\nIF($I$2=\"פרקים 1-5\",(SUM(grade_report!E81)+SUM(grade_report!H81:I81)+MAX(grade_report!F81:G81)+SUM(grade_report!J81:L81))/7,\nIF($I$2=\"פרקים 1-6\",(SUM(grade_report!E81)+SUM(grade_report!H81:I81)+MAX(grade_report!F81:G81)+SUM(grade_report!J81:M81))/8,\nIF($I$2=\"פרקים 1-7\",(SUM(grade_report!E81)+SUM(grade_report!H81:I81)+MAX(grade_report!F81:G81)+SUM(grade_report!J81:N81))/9,0)))))))","v":0},{"$f":"COUNTIF(grade_report!AA81:AE81,\">=0.55\")","v":0}]
[{"$f":"grade_report!C82","v":0},null,{"$f":"COUNTIF(grade_report!AG82:AK82,\">=0.55\")","v":0},"ללא",0,{"$f":"IF($I$2=\"פרק 1\",SUM(grade_report!P82),\nIF($I$2=\"פרקים 1-2\",(SUM(grade_report!P82)+SUM(grade_report!S82:T82)+MAX(grade_report!Q82:R82))/4,\nIF($I$2=\"פרקים 1-3\",(SUM(grade_report!P82)+SUM(grade_report!S82:T82)+MAX(grade_report!Q82:R82)+SUM(grade_report!U82))/5,\nIF($I$2=\"פרקים 1-4\",(SUM(grade_report!P82)+SUM(grade_report!S82:T82)+MAX(grade_report!Q82:R82)+SUM(grade_report!U82:V82))/6,\nIF($I$2=\"פרקים 1-5\",(SUM(grade_report!P82)+SUM(grade_report!S82:T82)+MAX(grade_report!Q82:R82)+SUM(grade_report!U82:W82))/7,\nIF($I$2=\"פרקים 1-6\",(SUM(grade_report!P82)+SUM(grade_report!S82:T82)+MAX(grade_report!Q82:R82)+SUM(grade_report!U82:X82))/8,\nIF($I$2=\"פרקים 1-7\",(SUM(grade_report!P82)+SUM(grade_report!S82:T82)+MAX(grade_report!Q82:R82)+SUM(grade_report!U82:Y82))/9,0)))))))","v":0},{"$f":"IF($I$2=\"פרק 1\",SUM(grade_report!E82),\nIF($I$2=\"פרקים 1-2\",(SUM(grade_report!E82)+SUM(grade_report!H82:I82)+MAX(grade_report!F82:G82))/4,\nIF($I$2=\"פרקים 1-3\",(SUM(grade_report!E82)+SUM(grade_report!H82:I82)+MAX(grade_report!F82:G82)+SUM(grade_report!J82))/5,\nIF($I$2=\"פרקים 1-4\",(SUM(grade_report!E82)+SUM(grade_report!H82:I82)+MAX(grade_report!F82:G82)+SUM(grade_report!J82:K82))/6,\nIF($I$2=\"פרקים 1-5\",(SUM(grade_report!E82)+SUM(grade_report!H82:I82)+MAX(grade_report!F82:G82)+SUM(grade_report!J82:L82))/7,\nIF($I$2=\"פרקים 1-6\",(SUM(grade_report!E82)+SUM(grade_report!H82:I82)+MAX(grade_report!F82:G82)+SUM(grade_report!J82:M82))/8,\nIF($I$2=\"פרקים 1-7\",(SUM(grade_report!E82)+SUM(grade_report!H82:I82)+MAX(grade_report!F82:G82)+SUM(grade_report!J82:N82))/9,0)))))))","v":0},{"$f":"COUNTIF(grade_report!AA82:AE82,\">=0.55\")","v":0}]
[{"$f":"grade_report!C83","v":0},null,{"$f":"COUNTIF(grade_report!AG83:AK83,\">=0.55\")","v":0},"ללא",0,{"$f":"IF($I$2=\"פרק 1\",SUM(grade_report!P83),\nIF($I$2=\"פרקים 1-2\",(SUM(grade_report!P83)+SUM(grade_report!S83:T83)+MAX(grade_report!Q83:R83))/4,\nIF($I$2=\"פרקים 1-3\",(SUM(grade_report!P83)+SUM(grade_report!S83:T83)+MAX(grade_report!Q83:R83)+SUM(grade_report!U83))/5,\nIF($I$2=\"פרקים 1-4\",(SUM(grade_report!P83)+SUM(grade_report!S83:T83)+MAX(grade_report!Q83:R83)+SUM(grade_report!U83:V83))/6,\nIF($I$2=\"פרקים 1-5\",(SUM(grade_report!P83)+SUM(grade_report!S83:T83)+MAX(grade_report!Q83:R83)+SUM(grade_report!U83:W83))/7,\nIF($I$2=\"פרקים 1-6\",(SUM(grade_report!P83)+SUM(grade_report!S83:T83)+MAX(grade_report!Q83:R83)+SUM(grade_report!U83:X83))/8,\nIF($I$2=\"פרקים 1-7\",(SUM(grade_report!P83)+SUM(grade_report!S83:T83)+MAX(grade_report!Q83:R83)+SUM(grade_report!U83:Y83))/9,0)))))))","v":0},{"$f":"IF($I$2=\"פרק 1\",SUM(grade_report!E83),\nIF($I$2=\"פרקים 1-2\",(SUM(grade_report!E83)+SUM(grade_report!H83:I83)+MAX(grade_report!F83:G83))/4,\nIF($I$2=\"פרקים 1-3\",(SUM(grade_report!E83)+SUM(grade_report!H83:I83)+MAX(grade_report!F83:G83)+SUM(grade_report!J83))/5,\nIF($I$2=\"פרקים 1-4\",(SUM(grade_report!E83)+SUM(grade_report!H83:I83)+MAX(grade_report!F83:G83)+SUM(grade_report!J83:K83))/6,\nIF($I$2=\"פרקים 1-5\",(SUM(grade_report!E83)+SUM(grade_report!H83:I83)+MAX(grade_report!F83:G83)+SUM(grade_report!J83:L83))/7,\nIF($I$2=\"פרקים 1-6\",(SUM(grade_report!E83)+SUM(grade_report!H83:I83)+MAX(grade_report!F83:G83)+SUM(grade_report!J83:M83))/8,\nIF($I$2=\"פרקים 1-7\",(SUM(grade_report!E83)+SUM(grade_report!H83:I83)+MAX(grade_report!F83:G83)+SUM(grade_report!J83:N83))/9,0)))))))","v":0},{"$f":"COUNTIF(grade_report!AA83:AE83,\">=0.55\")","v":0}]
[{"$f":"grade_report!C84","v":0},null,{"$f":"COUNTIF(grade_report!AG84:AK84,\">=0.55\")","v":0},"ללא",0,{"$f":"IF($I$2=\"פרק 1\",SUM(grade_report!P84),\nIF($I$2=\"פרקים 1-2\",(SUM(grade_report!P84)+SUM(grade_report!S84:T84)+MAX(grade_report!Q84:R84))/4,\nIF($I$2=\"פרקים 1-3\",(SUM(grade_report!P84)+SUM(grade_report!S84:T84)+MAX(grade_report!Q84:R84)+SUM(grade_report!U84))/5,\nIF($I$2=\"פרקים 1-4\",(SUM(grade_report!P84)+SUM(grade_report!S84:T84)+MAX(grade_report!Q84:R84)+SUM(grade_report!U84:V84))/6,\nIF($I$2=\"פרקים 1-5\",(SUM(grade_report!P84)+SUM(grade_report!S84:T84)+MAX(grade_report!Q84:R84)+SUM(grade_report!U84:W84))/7,\nIF($I$2=\"פרקים 1-6\",(SUM(grade_report!P84)+SUM(grade_report!S84:T84)+MAX(grade_report!Q84:R84)+SUM(grade_report!U84:X84))/8,\nIF($I$2=\"פרקים 1-7\",(SUM(grade_report!P84)+SUM(grade_report!S84:T84)+MAX(grade_report!Q84:R84)+SUM(grade_report!U84:Y84))/9,0)))))))","v":0},{"$f":"IF($I$2=\"פרק 1\",SUM(grade_report!E84),\nIF($I$2=\"פרקים 1-2\",(SUM(grade_report!E84)+SUM(grade_report!H84:I84)+MAX(grade_report!F84:G84))/4,\nIF($I$2=\"פרקים 1-3\",(SUM(grade_report!E84)+SUM(grade_report!H84:I84)+MAX(grade_report!F84:G84)+SUM(grade_report!J84))/5,\nIF($I$2=\"פרקים 1-4\",(SUM(grade_report!E84)+SUM(grade_report!H84:I84)+MAX(grade_report!F84:G84)+SUM(grade_report!J84:K84))/6,\nIF($I$2=\"פרקים 1-5\",(SUM(grade_report!E84)+SUM(grade_report!H84:I84)+MAX(grade_report!F84:G84)+SUM(grade_report!J84:L84))/7,\nIF($I$2=\"פרקים 1-6\",(SUM(grade_report!E84)+SUM(grade_report!H84:I84)+MAX(grade_report!F84:G84)+SUM(grade_report!J84:M84))/8,\nIF($I$2=\"פרקים 1-7\",(SUM(grade_report!E84)+SUM(grade_report!H84:I84)+MAX(grade_report!F84:G84)+SUM(grade_report!J84:N84))/9,0)))))))","v":0},{"$f":"COUNTIF(grade_report!AA84:AE84,\">=0.55\")","v":0}]
[{"$f":"grade_report!C85","v":0},null,{"$f":"COUNTIF(grade_report!AG85:AK85,\">=0.55\")","v":0},"ללא",0,{"$f":"IF($I$2=\"פרק 1\",SUM(grade_report!P85),\nIF($I$2=\"פרקים 1-2\",(SUM(grade_report!P85)+SUM(grade_report!S85:T85)+MAX(grade_report!Q85:R85))/4,\nIF($I$2=\"פרקים 1-3\",(SUM(grade_report!P85)+SUM(grade_report!S85:T85)+MAX(grade_report!Q85:R85)+SUM(grade_report!U85))/5,\nIF($I$2=\"פרקים 1-4\",(SUM(grade_report!P85)+SUM(grade_report!S85:T85)+MAX(grade_report!Q85:R85)+SUM(grade_report!U85:V85))/6,\nIF($I$2=\"פרקים 1-5\",(SUM(grade_report!P85)+SUM(grade_report!S85:T85)+MAX(grade_report!Q85:R85)+SUM(grade_report!U85:W85))/7,\nIF($I$2=\"פרקים 1-6\",(SUM(grade_report!P85)+SUM(grade_report!S85:T85)+MAX(grade_report!Q85:R85)+SUM(grade_report!U85:X85))/8,\nIF($I$2=\"פרקים 1-7\",(SUM(grade_report!P85)+SUM(grade_report!S85:T85)+MAX(grade_report!Q85:R85)+SUM(grade_report!U85:Y85))/9,0)))))))","v":0},{"$f":"IF($I$2=\"פרק 1\",SUM(grade_report!E85),\nIF($I$2=\"פרקים 1-2\",(SUM(grade_report!E85)+SUM(grade_report!H85:I85)+MAX(grade_report!F85:G85))/4,\nIF($I$2=\"פרקים 1-3\",(SUM(grade_report!E85)+SUM(grade_report!H85:I85)+MAX(grade_report!F85:G85)+SUM(grade_report!J85))/5,\nIF($I$2=\"פרקים 1-4\",(SUM(grade_report!E85)+SUM(grade_report!H85:I85)+MAX(grade_report!F85:G85)+SUM(grade_report!J85:K85))/6,\nIF($I$2=\"פרקים 1-5\",(SUM(grade_report!E85)+SUM(grade_report!H85:I85)+MAX(grade_report!F85:G85)+SUM(grade_report!J85:L85))/7,\nIF($I$2=\"פרקים 1-6\",(SUM(grade_report!E85)+SUM(grade_report!H85:I85)+MAX(grade_report!F85:G85)+SUM(grade_report!J85:M85))/8,\nIF($I$2=\"פרקים 1-7\",(SUM(grade_report!E85)+SUM(grade_report!H85:I85)+MAX(grade_report!F85:G85)+SUM(grade_report!J85:N85))/9,0)))))))","v":0},{"$f":"COUNTIF(grade_report!AA85:AE85,\">=0.55\")","v":0}]
[{"$f":"grade_report!C86","v":0},null,{"$f":"COUNTIF(grade_report!AG86:AK86,\">=0.55\")","v":0},"ללא",0,{"$f":"IF($I$2=\"פרק 1\",SUM(grade_report!P86),\nIF($I$2=\"פרקים 1-2\",(SUM(grade_report!P86)+SUM(grade_report!S86:T86)+MAX(grade_report!Q86:R86))/4,\nIF($I$2=\"פרקים 1-3\",(SUM(grade_report!P86)+SUM(grade_report!S86:T86)+MAX(grade_report!Q86:R86)+SUM(grade_report!U86))/5,\nIF($I$2=\"פרקים 1-4\",(SUM(grade_report!P86)+SUM(grade_report!S86:T86)+MAX(grade_report!Q86:R86)+SUM(grade_report!U86:V86))/6,\nIF($I$2=\"פרקים 1-5\",(SUM(grade_report!P86)+SUM(grade_report!S86:T86)+MAX(grade_report!Q86:R86)+SUM(grade_report!U86:W86))/7,\nIF($I$2=\"פרקים 1-6\",(SUM(grade_report!P86)+SUM(grade_report!S86:T86)+MAX(grade_report!Q86:R86)+SUM(grade_report!U86:X86))/8,\nIF($I$2=\"פרקים 1-7\",(SUM(grade_report!P86)+SUM(grade_report!S86:T86)+MAX(grade_report!Q86:R86)+SUM(grade_report!U86:Y86))/9,0)))))))","v":0},{"$f":"IF($I$2=\"פרק 1\",SUM(grade_report!E86),\nIF($I$2=\"פרקים 1-2\",(SUM(grade_report!E86)+SUM(grade_report!H86:I86)+MAX(grade_report!F86:G86))/4,\nIF($I$2=\"פרקים 1-3\",(SUM(grade_report!E86)+SUM(grade_report!H86:I86)+MAX(grade_report!F86:G86)+SUM(grade_report!J86))/5,\nIF($I$2=\"פרקים 1-4\",(SUM(grade_report!E86)+SUM(grade_report!H86:I86)+MAX(grade_report!F86:G86)+SUM(grade_report!J86:K86))/6,\nIF($I$2=\"פרקים 1-5\",(SUM(grade_report!E86)+SUM(grade_report!H86:I86)+MAX(grade_report!F86:G86)+SUM(grade_report!J86:L86))/7,\nIF($I$2=\"פרקים 1-6\",(SUM(grade_report!E86)+SUM(grade_report!H86:I86)+MAX(grade_report!F86:G86)+SUM(grade_report!J86:M86))/8,\nIF($I$2=\"פרקים 1-7\",(SUM(grade_report!E86)+SUM(grade_report!H86:I86)+MAX(grade_report!F86:G86)+SUM(grade_report!J86:N86))/9,0)))))))","v":0},{"$f":"COUNTIF(grade_report!AA86:AE86,\">=0.55\")","v":0}]
[{"$f":"grade_report!C87","v":0},null,{"$f":"COUNTIF(grade_report!AG87:AK87,\">=0.55\")","v":0},"ללא",0,{"$f":"IF($I$2=\"פרק 1\",SUM(grade_report!P87),\nIF($I$2=\"פרקים 1-2\",(SUM(grade_report!P87)+SUM(grade_report!S87:T87)+MAX(grade_report!Q87:R87))/4,\nIF($I$2=\"פרקים 1-3\",(SUM(grade_report!P87)+SUM(grade_report!S87:T87)+MAX(grade_report!Q87:R87)+SUM(grade_report!U87))/5,\nIF($I$2=\"פרקים 1-4\",(SUM(grade_report!P87)+SUM(grade_report!S87:T87)+MAX(grade_report!Q87:R87)+SUM(grade_report!U87:V87))/6,\nIF($I$2=\"פרקים 1-5\",(SUM(grade_report!P87)+SUM(grade_report!S87:T87)+MAX(grade_report!Q87:R87)+SUM(grade_report!U87:W87))/7,\nIF($I$2=\"פרקים 1-6\",(SUM(grade_report!P87)+SUM(grade_report!S87:T87)+MAX(grade_report!Q87:R87)+SUM(grade_report!U87:X87))/8,\nIF($I$2=\"פרקים 1-7\",(SUM(grade_report!P87)+SUM(grade_report!S87:T87)+MAX(grade_report!Q87:R87)+SUM(grade_report!U87:Y87))/9,0)))))))","v":0},{"$f":"IF($I$2=\"פרק 1\",SUM(grade_report!E87),\nIF($I$2=\"פרקים 1-2\",(SUM(grade_report!E87)+SUM(grade_report!H87:I87)+MAX(grade_report!F87:G87))/4,\nIF($I$2=\"פרקים 1-3\",(SUM(grade_report!E87)+SUM(grade_report!H87:I87)+MAX(grade_report!F87:G87)+SUM(grade_report!J87))/5,\nIF($I$2=\"פרקים 1-4\",(SUM(grade_report!E87)+SUM(grade_report!H87:I87)+MAX(grade_report!F87:G87)+SUM(grade_report!J87:K87))/6,\nIF($I$2=\"פרקים 1-5\",(SUM(grade_report!E87)+SUM(grade_report!H87:I87)+MAX(grade_report!F87:G87)+SUM(grade_report!J87:L87))/7,\nIF($I$2=\"פרקים 1-6\",(SUM(grade_report!E87)+SUM(grade_report!H87:I87)+MAX(grade_report!F87:G87)+SUM(grade_report!J87:M87))/8,\nIF($I$2=\"פרקים 1-7\",(SUM(grade_report!E87)+SUM(grade_report!H87:I87)+MAX(grade_report!F87:G87)+SUM(grade_report!J87:N87))/9,0)))))))","v":0},{"$f":"COUNTIF(grade_report!AA87:AE87,\">=0.55\")","v":0}]
[{"$f":"grade_report!C88","v":0},null,{"$f":"COUNTIF(grade_report!AG88:AK88,\">=0.55\")","v":0},"ללא",0,{"$f":"IF($I$2=\"פרק 1\",SUM(grade_report!P88),\nIF($I$2=\"פרקים 1-2\",(SUM(grade_report!P88)+SUM(grade_report!S88:T88)+MAX(grade_report!Q88:R88))/4,\nIF($I$2=\"פרקים 1-3\",(SUM(grade_report!P88)+SUM(grade_report!S88:T88)+MAX(grade_report!Q88:R88)+SUM(grade_report!U88))/5,\nIF($I$2=\"פרקים 1-4\",(SUM(grade_report!P88)+SUM(grade_report!S88:T88)+MAX(grade_report!Q88:R88)+SUM(grade_report!U88:V88))/6,\nIF($I$2=\"פרקים 1-5\",(SUM(grade_report!P88)+SUM(grade_report!S88:T88)+MAX(grade_report!Q88:R88)+SUM(grade_report!U88:W88))/7,\nIF($I$2=\"פרקים 1-6\",(SUM(grade_report!P88)+SUM(grade_report!S88:T88)+MAX(grade_report!Q88:R88)+SUM(grade_report!U88:X88))/8,\nIF($I$2=\"פרקים 1-7\",(SUM(grade_report!P88)+SUM(grade_report!S88:T88)+MAX(grade_report!Q88:R88)+SUM(grade_report!U88:Y88))/9,0)))))))","v":0},{"$f":"IF($I$2=\"פרק 1\",SUM(grade_report!E88),\nIF($I$2=\"פרקים 1-2\",(SUM(grade_report!E88)+SUM(grade_report!H88:I88)+MAX(grade_report!F88:G88))/4,\nIF($I$2=\"פרקים 1-3\",(SUM(grade_report!E88)+SUM(grade_report!H88:I88)+MAX(grade_report!F88:G88)+SUM(grade_report!J88))/5,\nIF($I$2=\"פרקים 1-4\",(SUM(grade_report!E88)+SUM(grade_report!H88:I88)+MAX(grade_report!F88:G88)+SUM(grade_report!J88:K88))/6,\nIF($I$2=\"פרקים 1-5\",(SUM(grade_report!E88)+SUM(grade_report!H88:I88)+MAX(grade_report!F88:G88)+SUM(grade_report!J88:L88))/7,\nIF($I$2=\"פרקים 1-6\",(SUM(grade_report!E88)+SUM(grade_report!H88:I88)+MAX(grade_report!F88:G88)+SUM(grade_report!J88:M88))/8,\nIF($I$2=\"פרקים 1-7\",(SUM(grade_report!E88)+SUM(grade_report!H88:I88)+MAX(grade_report!F88:G88)+SUM(grade_report!J88:N88))/9,0)))))))","v":0},{"$f":"COUNTIF(grade_report!AA88:AE88,\">=0.55\")","v":0}]
[{"$f":"grade_report!C89","v":0},null,{"$f":"COUNTIF(grade_report!AG89:AK89,\">=0.55\")","v":0},"ללא",0,{"$f":"IF($I$2=\"פרק 1\",SUM(grade_report!P89),\nIF($I$2=\"פרקים 1-2\",(SUM(grade_report!P89)+SUM(grade_report!S89:T89)+MAX(grade_report!Q89:R89))/4,\nIF($I$2=\"פרקים 1-3\",(SUM(grade_report!P89)+SUM(grade_report!S89:T89)+MAX(grade_report!Q89:R89)+SUM(grade_report!U89))/5,\nIF($I$2=\"פרקים 1-4\",(SUM(grade_report!P89)+SUM(grade_report!S89:T89)+MAX(grade_report!Q89:R89)+SUM(grade_report!U89:V89))/6,\nIF($I$2=\"פרקים 1-5\",(SUM(grade_report!P89)+SUM(grade_report!S89:T89)+MAX(grade_report!Q89:R89)+SUM(grade_report!U89:W89))/7,\nIF($I$2=\"פרקים 1-6\",(SUM(grade_report!P89)+SUM(grade_report!S89:T89)+MAX(grade_report!Q89:R89)+SUM(grade_report!U89:X89))/8,\nIF($I$2=\"פרקים 1-7\",(SUM(grade_report!P89)+SUM(grade_report!S89:T89)+MAX(grade_report!Q89:R89)+SUM(grade_report!U89:Y89))/9,0)))))))","v":0},{"$f":"IF($I$2=\"פרק 1\",SUM(grade_report!E89),\nIF($I$2=\"פרקים 1-2\",(SUM(grade_report!E89)+SUM(grade_report!H89:I89)+MAX(grade_report!F89:G89))/4,\nIF($I$2=\"פרקים 1-3\",(SUM(grade_report!E89)+SUM(grade_report!H89:I89)+MAX(grade_report!F89:G89)+SUM(grade_report!J89))/5,\nIF($I$2=\"פרקים 1-4\",(SUM(grade_report!E89)+SUM(grade_report!H89:I89)+MAX(grade_report!F89:G89)+SUM(grade_report!J89:K89))/6,\nIF($I$2=\"פרקים 1-5\",(SUM(grade_report!E89)+SUM(grade_report!H89:I89)+MAX(grade_report!F89:G89)+SUM(grade_report!J89:L89))/7,\nIF($I$2=\"פרקים 1-6\",(SUM(grade_report!E89)+SUM(grade_report!H89:I89)+MAX(grade_report!F89:G89)+SUM(grade_report!J89:M89))/8,\nIF($I$2=\"פרקים 1-7\",(SUM(grade_report!E89)+SUM(grade_report!H89:I89)+MAX(grade_report!F89:G89)+SUM(grade_report!J89:N89))/9,0)))))))","v":0},{"$f":"COUNTIF(grade_report!AA89:AE89,\">=0.55\")","v":0}]
[{"$f":"grade_report!C90","v":0},null,{"$f":"COUNTIF(grade_report!AG90:AK90,\">=0.55\")","v":0},"ללא",0,{"$f":"IF($I$2=\"פרק 1\",SUM(grade_report!P90),\nIF($I$2=\"פרקים 1-2\",(SUM(grade_report!P90)+SUM(grade_report!S90:T90)+MAX(grade_report!Q90:R90))/4,\nIF($I$2=\"פרקים 1-3\",(SUM(grade_report!P90)+SUM(grade_report!S90:T90)+MAX(grade_report!Q90:R90)+SUM(grade_report!U90))/5,\nIF($I$2=\"פרקים 1-4\",(SUM(grade_report!P90)+SUM(grade_report!S90:T90)+MAX(grade_report!Q90:R90)+SUM(grade_report!U90:V90))/6,\nIF($I$2=\"פרקים 1-5\",(SUM(grade_report!P90)+SUM(grade_report!S90:T90)+MAX(grade_report!Q90:R90)+SUM(grade_report!U90:W90))/7,\nIF($I$2=\"פרקים 1-6\",(SUM(grade_report!P90)+SUM(grade_report!S90:T90)+MAX(grade_report!Q90:R90)+SUM(grade_report!U90:X90))/8,\nIF($I$2=\"פרקים 1-7\",(SUM(grade_report!P90)+SUM(grade_report!S90:T90)+MAX(grade_report!Q90:R90)+SUM(grade_report!U90:Y90))/9,0)))))))","v":0},{"$f":"IF($I$2=\"פרק 1\",SUM(grade_report!E90),\nIF($I$2=\"פרקים 1-2\",(SUM(grade_report!E90)+SUM(grade_report!H90:I90)+MAX(grade_report!F90:G90))/4,\nIF($I$2=\"פרקים 1-3\",(SUM(grade_report!E90)+SUM(grade_report!H90:I90)+MAX(grade_report!F90:G90)+SUM(grade_report!J90))/5,\nIF($I$2=\"פרקים 1-4\",(SUM(grade_report!E90)+SUM(grade_report!H90:I90)+MAX(grade_report!F90:G90)+SUM(grade_report!J90:K90))/6,\nIF($I$2=\"פרקים 1-5\",(SUM(grade_report!E90)+SUM(grade_report!H90:I90)+MAX(grade_report!F90:G90)+SUM(grade_report!J90:L90))/7,\nIF($I$2=\"פרקים 1-6\",(SUM(grade_report!E90)+SUM(grade_report!H90:I90)+MAX(grade_report!F90:G90)+SUM(grade_report!J90:M90))/8,\nIF($I$2=\"פרקים 1-7\",(SUM(grade_report!E90)+SUM(grade_report!H90:I90)+MAX(grade_report!F90:G90)+SUM(grade_report!J90:N90))/9,0)))))))","v":0},{"$f":"COUNTIF(grade_report!AA90:AE90,\">=0.55\")","v":0}]
[{"$f":"grade_report!C91","v":0},null,{"$f":"COUNTIF(grade_report!AG91:AK91,\">=0.55\")","v":0},"ללא",0,{"$f":"IF($I$2=\"פרק 1\",SUM(grade_report!P91),\nIF($I$2=\"פרקים 1-2\",(SUM(grade_report!P91)+SUM(grade_report!S91:T91)+MAX(grade_report!Q91:R91))/4,\nIF($I$2=\"פרקים 1-3\",(SUM(grade_report!P91)+SUM(grade_report!S91:T91)+MAX(grade_report!Q91:R91)+SUM(grade_report!U91))/5,\nIF($I$2=\"פרקים 1-4\",(SUM(grade_report!P91)+SUM(grade_report!S91:T91)+MAX(grade_report!Q91:R91)+SUM(grade_report!U91:V91))/6,\nIF($I$2=\"פרקים 1-5\",(SUM(grade_report!P91)+SUM(grade_report!S91:T91)+MAX(grade_report!Q91:R91)+SUM(grade_report!U91:W91))/7,\nIF($I$2=\"פרקים 1-6\",(SUM(grade_report!P91)+SUM(grade_report!S91:T91)+MAX(grade_report!Q91:R91)+SUM(grade_report!U91:X91))/8,\nIF($I$2=\"פרקים 1-7\",(SUM(grade_report!P91)+SUM(grade_report!S91:T91)+MAX(grade_report!Q91:R91)+SUM(grade_report!U91:Y91))/9,0)))))))","v":0},{"$f":"IF($I$2=\"פרק 1\",SUM(grade_report!E91),\nIF($I$2=\"פרקים 1-2\",(SUM(grade_report!E91)+SUM(grade_report!H91:I91)+MAX(grade_report!F91:G91))/4,\nIF($I$2=\"פרקים 1-3\",(SUM(grade_report!E91)+SUM(grade_report!H91:I91)+MAX(grade_report!F91:G91)+SUM(grade_report!J91))/5,\nIF($I$2=\"פרקים 1-4\",(SUM(grade_report!E91)+SUM(grade_report!H91:I91)+MAX(grade_report!F91:G91)+SUM(grade_report!J91:K91))/6,\nIF($I$2=\"פרקים 1-5\",(SUM(grade_report!E91)+SUM(grade_report!H91:I91)+MAX(grade_report!F91:G91)+SUM(grade_report!J91:L91))/7,\nIF($I$2=\"פרקים 1-6\",(SUM(grade_report!E91)+SUM(grade_report!H91:I91)+MAX(grade_report!F91:G91)+SUM(grade_report!J91:M91))/8,\nIF($I$2=\"פרקים 1-7\",(SUM(grade_report!E91)+SUM(grade_report!H91:I91)+MAX(grade_report!F91:G91)+SUM(grade_report!J91:N91))/9,0)))))))","v":0},{"$f":"COUNTIF(grade_report!AA91:AE91,\">=0.55\")","v":0}]
[{"$f":"grade_report!C92","v":0},null,{"$f":"COUNTIF(grade_report!AG92:AK92,\">=0.55\")","v":0},"ללא",0,{"$f":"IF($I$2=\"פרק 1\",SUM(grade_report!P92),\nIF($I$2=\"פרקים 1-2\",(SUM(grade_report!P92)+SUM(grade_report!S92:T92)+MAX(grade_report!Q92:R92))/4,\nIF($I$2=\"פרקים 1-3\",(SUM(grade_report!P92)+SUM(grade_report!S92:T92)+MAX(grade_report!Q92:R92)+SUM(grade_report!U92))/5,\nIF($I$2=\"פרקים 1-4\",(SUM(grade_report!P92)+SUM(grade_report!S92:T92)+MAX(grade_report!Q92:R92)+SUM(grade_report!U92:V92))/6,\nIF($I$2=\"פרקים 1-5\",(SUM(grade_report!P92)+SUM(grade_report!S92:T92)+MAX(grade_report!Q92:R92)+SUM(grade_report!U92:W92))/7,\nIF($I$2=\"פרקים 1-6\",(SUM(grade_report!P92)+SUM(grade_report!S92:T92)+MAX(grade_report!Q92:R92)+SUM(grade_report!U92:X92))/8,\nIF($I$2=\"פרקים 1-7\",(SUM(grade_report!P92)+SUM(grade_report!S92:T92)+MAX(grade_report!Q92:R92)+SUM(grade_report!U92:Y92))/9,0)))))))","v":0},{"$f":"IF($I$2=\"פרק 1\",SUM(grade_report!E92),\nIF($I$2=\"פרקים 1-2\",(SUM(grade_report!E92)+SUM(grade_report!H92:I92)+MAX(grade_report!F92:G92))/4,\nIF($I$2=\"פרקים 1-3\",(SUM(grade_report!E92)+SUM(grade_report!H92:I92)+MAX(grade_report!F92:G92)+SUM(grade_report!J92))/5,\nIF($I$2=\"פרקים 1-4\",(SUM(grade_report!E92)+SUM(grade_report!H92:I92)+MAX(grade_report!F92:G92)+SUM(grade_report!J92:K92))/6,\nIF($I$2=\"פרקים 1-5\",(SUM(grade_report!E92)+SUM(grade_report!H92:I92)+MAX(grade_report!F92:G92)+SUM(grade_report!J92:L92))/7,\nIF($I$2=\"פרקים 1-6\",(SUM(grade_report!E92)+SUM(grade_report!H92:I92)+MAX(grade_report!F92:G92)+SUM(grade_report!J92:M92))/8,\nIF($I$2=\"פרקים 1-7\",(SUM(grade_report!E92)+SUM(grade_report!H92:I92)+MAX(grade_report!F92:G92)+SUM(grade_report!J92:N92))/9,0)))))))","v":0},{"$f":"COUNTIF(grade_report!AA92:AE92,\">=0.55\")","v":0}]
[{"$f":"grade_report!C93","v":0},null,{"$f":"COUNTIF(grade_report!AG93:AK93,\">=0.55\")","v":0},"ללא",0,{"$f":"IF($I$2=\"פרק 1\",SUM(grade_report!P93),\nIF($I$2=\"פרקים 1-2\",(SUM(grade_report!P93)+SUM(grade_report!S93:T93)+MAX(grade_report!Q93:R93))/4,\nIF($I$2=\"פרקים 1-3\",(SUM(grade_report!P93)+SUM(grade_report!S93:T93)+MAX(grade_report!Q93:R93)+SUM(grade_report!U93))/5,\nIF($I$2=\"פרקים 1-4\",(SUM(grade_report!P93)+SUM(grade_report!S93:T93)+MAX(grade_report!Q93:R93)+SUM(grade_report!U93:V93))/6,\nIF($I$2=\"פרקים 1-5\",(SUM(grade_report!P93)+SUM(grade_report!S93:T93)+MAX(grade_report!Q93:R93)+SUM(grade_report!U93:W93))/7,\nIF($I$2=\"פרקים 1-6\",(SUM(grade_report!P93)+SUM(grade_report!S93:T93)+MAX(grade_report!Q93:R93)+SUM(grade_report!U93:X93))/8,\nIF($I$2=\"פרקים 1-7\",(SUM(grade_report!P93)+SUM(grade_report!S93:T93)+MAX(grade_report!Q93:R93)+SUM(grade_report!U93:Y93))/9,0)))))))","v":0},{"$f":"IF($I$2=\"פרק 1\",SUM(grade_report!E93),\nIF($I$2=\"פרקים 1-2\",(SUM(grade_report!E93)+SUM(grade_report!H93:I93)+MAX(grade_report!F93:G93))/4,\nIF($I$2=\"פרקים 1-3\",(SUM(grade_report!E93)+SUM(grade_report!H93:I93)+MAX(grade_report!F93:G93)+SUM(grade_report!J93))/5,\nIF($I$2=\"פרקים 1-4\",(SUM(grade_report!E93)+SUM(grade_report!H93:I93)+MAX(grade_report!F93:G93)+SUM(grade_report!J93:K93))/6,\nIF($I$2=\"פרקים 1-5\",(SUM(grade_report!E93)+SUM(grade_report!H93:I93)+MAX(grade_report!F93:G93)+SUM(grade_report!J93:L93))/7,\nIF($I$2=\"פרקים 1-6\",(SUM(grade_report!E93)+SUM(grade_report!H93:I93)+MAX(grade_report!F93:G93)+SUM(grade_report!J93:M93))/8,\nIF($I$2=\"פרקים 1-7\",(SUM(grade_report!E93)+SUM(grade_report!H93:I93)+MAX(grade_report!F93:G93)+SUM(grade_report!J93:N93))/9,0)))))))","v":0},{"$f":"COUNTIF(grade_report!AA93:AE93,\">=0.55\")","v":0}]
[{"$f":"grade_report!C94","v":0},null,{"$f":"COUNTIF(grade_report!AG94:AK94,\">=0.55\")","v":0},"ללא",0,{"$f":"IF($I$2=\"פרק 1\",SUM(grade_report!P94),\nIF($I$2=\"פרקים 1-2\",(SUM(grade_report!P94)+SUM(grade_report!S94:T94)+MAX(grade_report!Q94:R94))/4,\nIF($I$2=\"פרקים 1-3\",(SUM(grade_report!P94)+SUM(grade_report!S94:T94)+MAX(grade_report!Q94:R94)+SUM(grade_report!U94))/5,\nIF($I$2=\"פרקים 1-4\",(SUM(grade_report!P94)+SUM(grade_report!S94:T94)+MAX(grade_report!Q94:R94)+SUM(grade_report!U94:V94))/6,\nIF($I$2=\"פרקים 1-5\",(SUM(grade_report!P94)+SUM(grade_report!S94:T94)+MAX(grade_report!Q94:R94)+SUM(grade_report!U94:W94))/7,\nIF($I$2=\"פרקים 1-6\",(SUM(grade_report!P94)+SUM(grade_report!S94:T94)+MAX(grade_report!Q94:R94)+SUM(grade_report!U94:X94))/8,\nIF($I$2=\"פרקים 1-7\",(SUM(grade_report!P94)+SUM(grade_report!S94:T94)+MAX(grade_report!Q94:R94)+SUM(grade_report!U94:Y94))/9,0)))))))","v":0},{"$f":"IF($I$2=\"פרק 1\",SUM(grade_report!E94),\nIF($I$2=\"פרקים 1-2\",(SUM(grade_report!E94)+SUM(grade_report!H94:I94)+MAX(grade_report!F94:G94))/4,\nIF($I$2=\"פרקים 1-3\",(SUM(grade_report!E94)+SUM(grade_report!H94:I94)+MAX(grade_report!F94:G94)+SUM(grade_report!J94))/5,\nIF($I$2=\"פרקים 1-4\",(SUM(grade_report!E94)+SUM(grade_report!H94:I94)+MAX(grade_report!F94:G94)+SUM(grade_report!J94:K94))/6,\nIF($I$2=\"פרקים 1-5\",(SUM(grade_report!E94)+SUM(grade_report!H94:I94)+MAX(grade_report!F94:G94)+SUM(grade_report!J94:L94))/7,\nIF($I$2=\"פרקים 1-6\",(SUM(grade_report!E94)+SUM(grade_report!H94:I94)+MAX(grade_report!F94:G94)+SUM(grade_report!J94:M94))/8,\nIF($I$2=\"פרקים 1-7\",(SUM(grade_report!E94)+SUM(grade_report!H94:I94)+MAX(grade_report!F94:G94)+SUM(grade_report!J94:N94))/9,0)))))))","v":0},{"$f":"COUNTIF(grade_report!AA94:AE94,\">=0.55\")","v":0}]
[{"$f":"grade_report!C95","v":0},null,{"$f":"COUNTIF(grade_report!AG95:AK95,\">=0.55\")","v":0},"ללא",0,{"$f":"IF($I$2=\"פרק 1\",SUM(grade_report!P95),\nIF($I$2=\"פרקים 1-2\",(SUM(grade_report!P95)+SUM(grade_report!S95:T95)+MAX(grade_report!Q95:R95))/4,\nIF($I$2=\"פרקים 1-3\",(SUM(grade_report!P95)+SUM(grade_report!S95:T95)+MAX(grade_report!Q95:R95)+SUM(grade_report!U95))/5,\nIF($I$2=\"פרקים 1-4\",(SUM(grade_report!P95)+SUM(grade_report!S95:T95)+MAX(grade_report!Q95:R95)+SUM(grade_report!U95:V95))/6,\nIF($I$2=\"פרקים 1-5\",(SUM(grade_report!P95)+SUM(grade_report!S95:T95)+MAX(grade_report!Q95:R95)+SUM(grade_report!U95:W95))/7,\nIF($I$2=\"פרקים 1-6\",(SUM(grade_report!P95)+SUM(grade_report!S95:T95)+MAX(grade_report!Q95:R95)+SUM(grade_report!U95:X95))/8,\nIF($I$2=\"פרקים 1-7\",(SUM(grade_report!P95)+SUM(grade_report!S95:T95)+MAX(grade_report!Q95:R95)+SUM(grade_report!U95:Y95))/9,0)))))))","v":0},{"$f":"IF($I$2=\"פרק 1\",SUM(grade_report!E95),\nIF($I$2=\"פרקים 1-2\",(SUM(grade_report!E95)+SUM(grade_report!H95:I95)+MAX(grade_report!F95:G95))/4,\nIF($I$2=\"פרקים 1-3\",(SUM(grade_report!E95)+SUM(grade_report!H95:I95)+MAX(grade_report!F95:G95)+SUM(grade_report!J95))/5,\nIF($I$2=\"פרקים 1-4\",(SUM(grade_report!E95)+SUM(grade_report!H95:I95)+MAX(grade_report!F95:G95)+SUM(grade_report!J95:K95))/6,\nIF($I$2=\"פרקים 1-5\",(SUM(grade_report!E95)+SUM(grade_report!H95:I95)+MAX(grade_report!F95:G95)+SUM(grade_report!J95:L95))/7,\nIF($I$2=\"פרקים 1-6\",(SUM(grade_report!E95)+SUM(grade_report!H95:I95)+MAX(grade_report!F95:G95)+SUM(grade_report!J95:M95))/8,\nIF($I$2=\"פרקים 1-7\",(SUM(grade_report!E95)+SUM(grade_report!H95:I95)+MAX(grade_report!F95:G95)+SUM(grade_report!J95:N95))/9,0)))))))","v":0},{"$f":"COUNTIF(grade_report!AA95:AE95,\">=0.55\")","v":0}]
[{"$f":"grade_report!C96","v":0},null,{"$f":"COUNTIF(grade_report!AG96:AK96,\">=0.55\")","v":0},"ללא",0,{"$f":"IF($I$2=\"פרק 1\",SUM(grade_report!P96),\nIF($I$2=\"פרקים 1-2\",(SUM(grade_report!P96)+SUM(grade_report!S96:T96)+MAX(grade_report!Q96:R96))/4,\nIF($I$2=\"פרקים 1-3\",(SUM(grade_report!P96)+SUM(grade_report!S96:T96)+MAX(grade_report!Q96:R96)+SUM(grade_report!U96))/5,\nIF($I$2=\"פרקים 1-4\",(SUM(grade_report!P96)+SUM(grade_report!S96:T96)+MAX(grade_report!Q96:R96)+SUM(grade_report!U96:V96))/6,\nIF($I$2=\"פרקים 1-5\",(SUM(grade_report!P96)+SUM(grade_report!S96:T96)+MAX(grade_report!Q96:R96)+SUM(grade_report!U96:W96))/7,\nIF($I$2=\"פרקים 1-6\",(SUM(grade_report!P96)+SUM(grade_report!S96:T96)+MAX(grade_report!Q96:R96)+SUM(grade_report!U96:X96))/8,\nIF($I$2=\"פרקים 1-7\",(SUM(grade_report!P96)+SUM(grade_report!S96:T96)+MAX(grade_report!Q96:R96)+SUM(grade_report!U96:Y96))/9,0)))))))","v":0},{"$f":"IF($I$2=\"פרק 1\",SUM(grade_report!E96),\nIF($I$2=\"פרקים 1-2\",(SUM(grade_report!E96)+SUM(grade_report!H96:I96)+MAX(grade_report!F96:G96))/4,\nIF($I$2=\"פרקים 1-3\",(SUM(grade_report!E96)+SUM(grade_report!H96:I96)+MAX(grade_report!F96:G96)+SUM(grade_report!J96))/5,\nIF($I$2=\"פרקים 1-4\",(SUM(grade_report!E96)+SUM(grade_report!H96:I96)+MAX(grade_report!F96:G96)+SUM(grade_report!J96:K96))/6,\nIF($I$2=\"פרקים 1-5\",(SUM(grade_report!E96)+SUM(grade_report!H96:I96)+MAX(grade_report!F96:G96)+SUM(grade_report!J96:L96))/7,\nIF($I$2=\"פרקים 1-6\",(SUM(grade_report!E96)+SUM(grade_report!H96:I96)+MAX(grade_report!F96:G96)+SUM(grade_report!J96:M96))/8,\nIF($I$2=\"פרקים 1-7\",(SUM(grade_report!E96)+SUM(grade_report!H96:I96)+MAX(grade_report!F96:G96)+SUM(grade_report!J96:N96))/9,0)))))))","v":0},{"$f":"COUNTIF(grade_report!AA96:AE96,\">=0.55\")","v":0}]
[{"$f":"grade_report!C97","v":0},null,{"$f":"COUNTIF(grade_report!AG97:AK97,\">=0.55\")","v":0},"ללא",0,{"$f":"IF($I$2=\"פרק 1\",SUM(grade_report!P97),\nIF($I$2=\"פרקים 1-2\",(SUM(grade_report!P97)+SUM(grade_report!S97:T97)+MAX(grade_report!Q97:R97))/4,\nIF($I$2=\"פרקים 1-3\",(SUM(grade_report!P97)+SUM(grade_report!S97:T97)+MAX(grade_report!Q97:R97)+SUM(grade_report!U97))/5,\nIF($I$2=\"פרקים 1-4\",(SUM(grade_report!P97)+SUM(grade_report!S97:T97)+MAX(grade_report!Q97:R97)+SUM(grade_report!U97:V97))/6,\nIF($I$2=\"פרקים 1-5\",(SUM(grade_report!P97)+SUM(grade_report!S97:T97)+MAX(grade_report!Q97:R97)+SUM(grade_report!U97:W97))/7,\nIF($I$2=\"פרקים 1-6\",(SUM(grade_report!P97)+SUM(grade_report!S97:T97)+MAX(grade_report!Q97:R97)+SUM(grade_report!U97:X97))/8,\nIF($I$2=\"פרקים 1-7\",(SUM(grade_report!P97)+SUM(grade_report!S97:T97)+MAX(grade_report!Q97:R97)+SUM(grade_report!U97:Y97))/9,0)))))))","v":0},{"$f":"IF($I$2=\"פרק 1\",SUM(grade_report!E97),\nIF($I$2=\"פרקים 1-2\",(SUM(grade_report!E97)+SUM(grade_report!H97:I97)+MAX(grade_report!F97:G97))/4,\nIF($I$2=\"פרקים 1-3\",(SUM(grade_report!E97)+SUM(grade_report!H97:I97)+MAX(grade_report!F97:G97)+SUM(grade_report!J97))/5,\nIF($I$2=\"פרקים 1-4\",(SUM(grade_report!E97)+SUM(grade_report!H97:I97)+MAX(grade_report!F97:G97)+SUM(grade_report!J97:K97))/6,\nIF($I$2=\"פרקים 1-5\",(SUM(grade_report!E97)+SUM(grade_report!H97:I97)+MAX(grade_report!F97:G97)+SUM(grade_report!J97:L97))/7,\nIF($I$2=\"פרקים 1-6\",(SUM(grade_report!E97)+SUM(grade_report!H97:I97)+MAX(grade_report!F97:G97)+SUM(grade_report!J97:M97))/8,\nIF($I$2=\"פרקים 1-7\",(SUM(grade_report!E97)+SUM(grade_report!H97:I97)+MAX(grade_report!F97:G97)+SUM(grade_report!J97:N97))/9,0)))))))","v":0},{"$f":"COUNTIF(grade_report!AA97:AE97,\">=0.55\")","v":0}]
[{"$f":"grade_report!C98","v":0},null,{"$f":"COUNTIF(grade_report!AG98:AK98,\">=0.55\")","v":0},"ללא",0,{"$f":"IF($I$2=\"פרק 1\",SUM(grade_report!P98),\nIF($I$2=\"פרקים 1-2\",(SUM(grade_report!P98)+SUM(grade_report!S98:T98)+MAX(grade_report!Q98:R98))/4,\nIF($I$2=\"פרקים 1-3\",(SUM(grade_report!P98)+SUM(grade_report!S98:T98)+MAX(grade_report!Q98:R98)+SUM(grade_report!U98))/5,\nIF($I$2=\"פרקים 1-4\",(SUM(grade_report!P98)+SUM(grade_report!S98:T98)+MAX(grade_report!Q98:R98)+SUM(grade_report!U98:V98))/6,\nIF($I$2=\"פרקים 1-5\",(SUM(grade_report!P98)+SUM(grade_report!S98:T98)+MAX(grade_report!Q98:R98)+SUM(grade_report!U98:W98))/7,\nIF($I$2=\"פרקים 1-6\",(SUM(grade_report!P98)+SUM(grade_report!S98:T98)+MAX(grade_report!Q98:R98)+SUM(grade_report!U98:X98))/8,\nIF($I$2=\"פרקים 1-7\",(SUM(grade_report!P98)+SUM(grade_report!S98:T98)+MAX(grade_report!Q98:R98)+SUM(grade_report!U98:Y98))/9,0)))))))","v":0},{"$f":"IF($I$2=\"פרק 1\",SUM(grade_report!E98),\nIF($I$2=\"פרקים 1-2\",(SUM(grade_report!E98)+SUM(grade_report!H98:I98)+MAX(grade_report!F98:G98))/4,\nIF($I$2=\"פרקים 1-3\",(SUM(grade_report!E98)+SUM(grade_report!H98:I98)+MAX(grade_report!F98:G98)+SUM(grade_report!J98))/5,\nIF($I$2=\"פרקים 1-4\",(SUM(grade_report!E98)+SUM(grade_report!H98:I98)+MAX(grade_report!F98:G98)+SUM(grade_report!J98:K98))/6,\nIF($I$2=\"פרקים 1-5\",(SUM(grade_report!E98)+SUM(grade_report!H98:I98)+MAX(grade_report!F98:G98)+SUM(grade_report!J98:L98))/7,\nIF($I$2=\"פרקים 1-6\",(SUM(grade_report!E98)+SUM(grade_report!H98:I98)+MAX(grade_report!F98:G98)+SUM(grade_report!J98:M98))/8,\nIF($I$2=\"פרקים 1-7\",(SUM(grade_report!E98)+SUM(grade_report!H98:I98)+MAX(grade_report!F98:G98)+SUM(grade_report!J98:N98))/9,0)))))))","v":0},{"$f":"COUNTIF(grade_report!AA98:AE98,\">=0.55\")","v":0}]
[{"$f":"grade_report!C99","v":0},null,{"$f":"COUNTIF(grade_report!AG99:AK99,\">=0.55\")","v":0},"ללא",0,{"$f":"IF($I$2=\"פרק 1\",SUM(grade_report!P99),\nIF($I$2=\"פרקים 1-2\",(SUM(grade_report!P99)+SUM(grade_report!S99:T99)+MAX(grade_report!Q99:R99))/4,\nIF($I$2=\"פרקים 1-3\",(SUM(grade_report!P99)+SUM(grade_report!S99:T99)+MAX(grade_report!Q99:R99)+SUM(grade_report!U99))/5,\nIF($I$2=\"פרקים 1-4\",(SUM(grade_report!P99)+SUM(grade_report!S99:T99)+MAX(grade_report!Q99:R99)+SUM(grade_report!U99:V99))/6,\nIF($I$2=\"פרקים 1-5\",(SUM(grade_report!P99)+SUM(grade_report!S99:T99)+MAX(grade_report!Q99:R99)+SUM(grade_report!U99:W99))/7,\nIF($I$2=\"פרקים 1-6\",(SUM(grade_report!P99)+SUM(grade_report!S99:T99)+MAX(grade_report!Q99:R99)+SUM(grade_report!U99:X99))/8,\nIF($I$2=\"פרקים 1-7\",(SUM(grade_report!P99)+SUM(grade_report!S99:T99)+MAX(grade_report!Q99:R99)+SUM(grade_report!U99:Y99))/9,0)))))))","v":0},{"$f":"IF($I$2=\"פרק 1\",SUM(grade_report!E99),\nIF($I$2=\"פרקים 1-2\",(SUM(grade_report!E99)+SUM(grade_report!H99:I99)+MAX(grade_report!F99:G99))/4,\nIF($I$2=\"פרקים 1-3\",(SUM(grade_report!E99)+SUM(grade_report!H99:I99)+MAX(grade_report!F99:G99)+SUM(grade_report!J99))/5,\nIF($I$2=\"פרקים 1-4\",(SUM(grade_report!E99)+SUM(grade_report!H99:I99)+MAX(grade_report!F99:G99)+SUM(grade_report!J99:K99))/6,\nIF($I$2=\"פרקים 1-5\",(SUM(grade_report!E99)+SUM(grade_report!H99:I99)+MAX(grade_report!F99:G99)+SUM(grade_report!J99:L99))/7,\nIF($I$2=\"פרקים 1-6\",(SUM(grade_report!E99)+SUM(grade_report!H99:I99)+MAX(grade_report!F99:G99)+SUM(grade_report!J99:M99))/8,\nIF($I$2=\"פרקים 1-7\",(SUM(grade_report!E99)+SUM(grade_report!H99:I99)+MAX(grade_report!F99:G99)+SUM(grade_report!J99:N99))/9,0)))))))","v":0},{"$f":"COUNTIF(grade_report!AA99:AE99,\">=0.55\")","v":0}]
[{"$f":"grade_report!C100","v":0},null,{"$f":"COUNTIF(grade_report!AG100:AK100,\">=0.55\")","v":0},"ללא",0,{"$f":"IF($I$2=\"פרק 1\",SUM(grade_report!P100),\nIF($I$2=\"פרקים 1-2\",(SUM(grade_report!P100)+SUM(grade_report!S100:T100)+MAX(grade_report!Q100:R100))/4,\nIF($I$2=\"פרקים 1-3\",(SUM(grade_report!P100)+SUM(grade_report!S100:T100)+MAX(grade_report!Q100:R100)+SUM(grade_report!U100))/5,\nIF($I$2=\"פרקים 1-4\",(SUM(grade_report!P100)+SUM(grade_report!S100:T100)+MAX(grade_report!Q100:R100)+SUM(grade_report!U100:V100))/6,\nIF($I$2=\"פרקים 1-5\",(SUM(grade_report!P100)+SUM(grade_report!S100:T100)+MAX(grade_report!Q100:R100)+SUM(grade_report!U100:W100))/7,\nIF($I$2=\"פרקים 1-6\",(SUM(grade_report!P100)+SUM(grade_report!S100:T100)+MAX(grade_report!Q100:R100)+SUM(grade_report!U100:X100))/8,\nIF($I$2=\"פרקים 1-7\",(SUM(grade_report!P100)+SUM(grade_report!S100:T100)+MAX(grade_report!Q100:R100)+SUM(grade_report!U100:Y100))/9,0)))))))","v":0},{"$f":"IF($I$2=\"פרק 1\",SUM(grade_report!E100),\nIF($I$2=\"פרקים 1-2\",(SUM(grade_report!E100)+SUM(grade_report!H100:I100)+MAX(grade_report!F100:G100))/4,\nIF($I$2=\"פרקים 1-3\",(SUM(grade_report!E100)+SUM(grade_report!H100:I100)+MAX(grade_report!F100:G100)+SUM(grade_report!J100))/5,\nIF($I$2=\"פרקים 1-4\",(SUM(grade_report!E100)+SUM(grade_report!H100:I100)+MAX(grade_report!F100:G100)+SUM(grade_report!J100:K100))/6,\nIF($I$2=\"פרקים 1-5\",(SUM(grade_report!E100)+SUM(grade_report!H100:I100)+MAX(grade_report!F100:G100)+SUM(grade_report!J100:L100))/7,\nIF($I$2=\"פרקים 1-6\",(SUM(grade_report!E100)+SUM(grade_report!H100:I100)+MAX(grade_report!F100:G100)+SUM(grade_report!J100:M100))/8,\nIF($I$2=\"פרקים 1-7\",(SUM(grade_report!E100)+SUM(grade_report!H100:I100)+MAX(grade_report!F100:G100)+SUM(grade_report!J100:N100))/9,0)))))))","v":0},{"$f":"COUNTIF(grade_report!AA100:AE100,\">=0.55\")","v":0}]
[{"$f":"grade_report!C101","v":0},null,{"$f":"COUNTIF(grade_report!AG101:AK101,\">=0.55\")","v":0},"ללא",0,{"$f":"IF($I$2=\"פרק 1\",SUM(grade_report!P101),\nIF($I$2=\"פרקים 1-2\",(SUM(grade_report!P101)+SUM(grade_report!S101:T101)+MAX(grade_report!Q101:R101))/4,\nIF($I$2=\"פרקים 1-3\",(SUM(grade_report!P101)+SUM(grade_report!S101:T101)+MAX(grade_report!Q101:R101)+SUM(grade_report!U101))/5,\nIF($I$2=\"פרקים 1-4\",(SUM(grade_report!P101)+SUM(grade_report!S101:T101)+MAX(grade_report!Q101:R101)+SUM(grade_report!U101:V101))/6,\nIF($I$2=\"פרקים 1-5\",(SUM(grade_report!P101)+SUM(grade_report!S101:T101)+MAX(grade_report!Q101:R101)+SUM(grade_report!U101:W101))/7,\nIF($I$2=\"פרקים 1-6\",(SUM(grade_report!P101)+SUM(grade_report!S101:T101)+MAX(grade_report!Q101:R101)+SUM(grade_report!U101:X101))/8,\nIF($I$2=\"פרקים 1-7\",(SUM(grade_report!P101)+SUM(grade_report!S101:T101)+MAX(grade_report!Q101:R101)+SUM(grade_report!U101:Y101))/9,0)))))))","v":0},{"$f":"IF($I$2=\"פרק 1\",SUM(grade_report!E101),\nIF($I$2=\"פרקים 1-2\",(SUM(grade_report!E101)+SUM(grade_report!H101:I101)+MAX(grade_report!F101:G101))/4,\nIF($I$2=\"פרקים 1-3\",(SUM(grade_report!E101)+SUM(grade_report!H101:I101)+MAX(grade_report!F101:G101)+SUM(grade_report!J101))/5,\nIF($I$2=\"פרקים 1-4\",(SUM(grade_report!E101)+SUM(grade_report!H101:I101)+MAX(grade_report!F101:G101)+SUM(grade_report!J101:K101))/6,\nIF($I$2=\"פרקים 1-5\",(SUM(grade_report!E101)+SUM(grade_report!H101:I101)+MAX(grade_report!F101:G101)+SUM(grade_report!J101:L101))/7,\nIF($I$2=\"פרקים 1-6\",(SUM(grade_report!E101)+SUM(grade_report!H101:I101)+MAX(grade_report!F101:G101)+SUM(grade_report!J101:M101))/8,\nIF($I$2=\"פרקים 1-7\",(SUM(grade_report!E101)+SUM(grade_report!H101:I101)+MAX(grade_report!F101:G101)+SUM(grade_report!J101:N101))/9,0)))))))","v":0},{"$f":"COUNTIF(grade_report!AA101:AE101,\">=0.55\")","v":0}]
[]
[]
["הערות:\n*הדו\"ח מייצג רק את מה שמשוקף בפרקים שנבחרו ולא מתייחס לפרקים אחרים מתקדמים יותר.\n\n*כדי שנתוני הדו\"ח יהיו רלוונטיים על התלמיד למלא את המשימות הנדרשות בפרקים שנבחרו,\nועל המורה לתת ציון לכל \"משימות סיכום פרק\"  שהתלמידים הגישו.\n\nסימוני צבע על המספרים: אדום מתחת ל 55 - ירוק מעל ל 85\n\nעמודה E (צהוב) מראה את הציון המשוקלל בפרקים שנבחרו.\nעמודה G (ירוק בהיר) מראה את נתוני \"שיעור לתלמיד\" בפרקים שנבחרו.\nעמודה F (כתום) מראה את נתוני \"מטלות סיכום פרק\" בפרקים שנבחרו.\n\nהפנמה והעשרה - רק עבודה מעל 55 נחשבת כעבודה שהוגשה בדו\"ח זה בלבד."]